BEGIN:VCALENDAR
VERSION:2.0
PRODID:-//ФЕДЕРАЛЬНЫЙ ИССЛЕДОВАТЕЛЬСКИЙ ЦЕНТР ПРОБЛЕМ ХИМИЧЕСКОЙ ФИЗИКИ И МЕДИЦИНСКОЙ ХИМИИ РАН - ECPv6.8.0//NONSGML v1.0//EN
CALSCALE:GREGORIAN
METHOD:PUBLISH
X-WR-CALNAME:ФЕДЕРАЛЬНЫЙ ИССЛЕДОВАТЕЛЬСКИЙ ЦЕНТР ПРОБЛЕМ ХИМИЧЕСКОЙ ФИЗИКИ И МЕДИЦИНСКОЙ ХИМИИ РАН
X-ORIGINAL-URL:https://icp-ras.ru
X-WR-CALDESC:Мероприятия для ФЕДЕРАЛЬНЫЙ ИССЛЕДОВАТЕЛЬСКИЙ ЦЕНТР ПРОБЛЕМ ХИМИЧЕСКОЙ ФИЗИКИ И МЕДИЦИНСКОЙ ХИМИИ РАН
REFRESH-INTERVAL;VALUE=DURATION:PT1H
X-Robots-Tag:noindex
X-PUBLISHED-TTL:PT1H
BEGIN:VTIMEZONE
TZID:Europe/Moscow
BEGIN:STANDARD
TZOFFSETFROM:+0300
TZOFFSETTO:+0300
TZNAME:MSK
DTSTART:20240101T000000
END:STANDARD
END:VTIMEZONE
BEGIN:VEVENT
DTSTART;VALUE=DATE:20240415
DTEND;VALUE=DATE:20241001
DTSTAMP:20260426T032405
CREATED:20240422T061852Z
LAST-MODIFIED:20240422T061917Z
UID:7949-1713139200-1727740799@icp-ras.ru
SUMMARY:КОНКУРС НА СОИСКАНИЕ ПРЕМИИ ПРЕЗИДЕНТА РФ В ОБЛАСТИ НАУКИ И ИННОВАЦИЙ ДЛЯ МОЛОДЫХ УЧЕНЫХ ЗА 2024 ГОД
DESCRIPTION:Премия Президента Российской Федерации присуждается: \n\nза результаты научных исследований\, внесших значительный вклад в развитие естественных\, технических и гуманитарных наук;\nза разработку образцов новой техники и прогрессивных технологий\, обеспечивающих инновационное развитие экономики и социальной сферы\, а также укрепление обороноспособности страны.\n\nСрок приема документов: 15 апреля — 15 октября. \nПодробнее>>>
URL:https://icp-ras.ru/event/konkurs-na-soiskanie-premii-prezidenta-rf-v-oblasti-nauki-i-innovacij-dlya-molodyx-uchenyx-za-2024-god/
ATTACH;FMTTYPE=image/jpeg:https://icp-ras.ru/wp-content/uploads/novosti-mir-nauki/xkP5fc7nhQo.jpg
END:VEVENT
END:VCALENDAR