BEGIN:VCALENDAR
VERSION:2.0
PRODID:-//ФЕДЕРАЛЬНЫЙ ИССЛЕДОВАТЕЛЬСКИЙ ЦЕНТР ПРОБЛЕМ ХИМИЧЕСКОЙ ФИЗИКИ И МЕДИЦИНСКОЙ ХИМИИ РАН - ECPv6.8.0//NONSGML v1.0//EN
CALSCALE:GREGORIAN
METHOD:PUBLISH
X-WR-CALNAME:ФЕДЕРАЛЬНЫЙ ИССЛЕДОВАТЕЛЬСКИЙ ЦЕНТР ПРОБЛЕМ ХИМИЧЕСКОЙ ФИЗИКИ И МЕДИЦИНСКОЙ ХИМИИ РАН
X-ORIGINAL-URL:https://icp-ras.ru
X-WR-CALDESC:Мероприятия для ФЕДЕРАЛЬНЫЙ ИССЛЕДОВАТЕЛЬСКИЙ ЦЕНТР ПРОБЛЕМ ХИМИЧЕСКОЙ ФИЗИКИ И МЕДИЦИНСКОЙ ХИМИИ РАН
REFRESH-INTERVAL;VALUE=DURATION:PT1H
X-Robots-Tag:noindex
X-PUBLISHED-TTL:PT1H
BEGIN:VTIMEZONE
TZID:Europe/Moscow
BEGIN:STANDARD
TZOFFSETFROM:+0300
TZOFFSETTO:+0300
TZNAME:MSK
DTSTART:20240101T000000
END:STANDARD
END:VTIMEZONE
BEGIN:VEVENT
DTSTART;VALUE=DATE:20241001
DTEND;VALUE=DATE:20241005
DTSTAMP:20260426T014732
CREATED:20240821T130651Z
LAST-MODIFIED:20240928T101236Z
UID:9747-1727740800-1728086399@icp-ras.ru
SUMMARY:Научная конференция с международным участием и Третья Всероссийская школа-семинар молодых ученых «ВОДОРОДНЫЕ ЭНЕРГОТЕХНОЛОГИИ С ИСПОЛЬЗОВАНИЕМ МЕТАЛЛОГИДРИДОВ»
DESCRIPTION:Приглашаем принять участие в работе Научной конференции с международным участием и Третьей Всероссийской школы-семинара молодых ученых «ВОДОРОДНЫЕ ЭНЕРГОТЕХНОЛОГИИ С ИСПОЛЬЗОВАНИЕМ МЕТАЛЛОГИДРИДОВ» в рамках мегагранта «Металлогидридные технологии: от материалов к водородным системам хранения и преобразования энергии» в ФИЦ ПХФ и МХ РАН (г. Черноголовка Московской обл.) 1–4 октября 2024 г.     \nK участию в работе Школы приглашаются студенты\, аспиранты и молодые ученые академических институтов\, государственных научных центров и высших учебных заведений. \nПрограмма
URL:https://icp-ras.ru/event/nauchnaya-konferenciya-s-mezhdunarodnym-uchastiem-i-tretya-vserossijskaya-shkola-seminar-molodyx-uchenyx-vodorodnye-energotexnologii-s-ispolzovaniem-metallogidridov/
ATTACH;FMTTYPE=image/png:https://icp-ras.ru/wp-content/uploads/MegaGrant_Lotockiy/vodorod-tech-2024.png
END:VEVENT
BEGIN:VEVENT
DTSTART;TZID=Europe/Moscow:20241001T100000
DTEND;TZID=Europe/Moscow:20241001T123000
DTSTAMP:20260426T014732
CREATED:20240930T094205Z
LAST-MODIFIED:20240930T094205Z
UID:10416-1727776800-1727785800@icp-ras.ru
SUMMARY:Заседание семинара "Макрокинетика и процессы горения"
DESCRIPTION:Повестка: Рассмотрение материалов\, предназначенных для открытого опубликования.
URL:https://icp-ras.ru/event/zasedanie-seminara-makrokinetika-i-processy-goreniya-6/
LOCATION:в корпусе 1/5\, ком.50
ATTACH;FMTTYPE=image/jpeg:https://icp-ras.ru/wp-content/uploads/nauka-otdely/OGV/C-and-E.jpg
END:VEVENT
END:VCALENDAR