BEGIN:VCALENDAR
VERSION:2.0
PRODID:-//ФЕДЕРАЛЬНЫЙ ИССЛЕДОВАТЕЛЬСКИЙ ЦЕНТР ПРОБЛЕМ ХИМИЧЕСКОЙ ФИЗИКИ И МЕДИЦИНСКОЙ ХИМИИ РАН - ECPv6.8.0//NONSGML v1.0//EN
CALSCALE:GREGORIAN
METHOD:PUBLISH
X-ORIGINAL-URL:https://icp-ras.ru
X-WR-CALDESC:Мероприятия для ФЕДЕРАЛЬНЫЙ ИССЛЕДОВАТЕЛЬСКИЙ ЦЕНТР ПРОБЛЕМ ХИМИЧЕСКОЙ ФИЗИКИ И МЕДИЦИНСКОЙ ХИМИИ РАН
REFRESH-INTERVAL;VALUE=DURATION:PT1H
X-Robots-Tag:noindex
X-PUBLISHED-TTL:PT1H
BEGIN:VTIMEZONE
TZID:Europe/Moscow
BEGIN:STANDARD
TZOFFSETFROM:+0300
TZOFFSETTO:+0300
TZNAME:MSK
DTSTART:20240101T000000
END:STANDARD
END:VTIMEZONE
BEGIN:VEVENT
DTSTART;TZID=Europe/Moscow:20241011T093000
DTEND;TZID=Europe/Moscow:20241011T113000
DTSTAMP:20260426T014842
CREATED:20241008T145054Z
LAST-MODIFIED:20241008T145054Z
UID:10668-1728639000-1728646200@icp-ras.ru
SUMMARY:Заседание секции № 5 Ученого Совета ФИЦ ПХФ и МХ РАН
DESCRIPTION:Повестка\nРассмотрение материалов\, предназначенных для открытого опубликования \nПринять участие можно в режиме видеоконференции
URL:https://icp-ras.ru/event/zasedanie-sekcii-5-uchenogo-soveta-fic-pxf-i-mx-ran-16/
LOCATION:актовый зал корп. 2/2
ATTACH;FMTTYPE=image/png:https://icp-ras.ru/wp-content/uploads/изображение.png
END:VEVENT
BEGIN:VEVENT
DTSTART;TZID=Europe/Moscow:20241011T100000
DTEND;TZID=Europe/Moscow:20241011T123000
DTSTAMP:20260426T014842
CREATED:20241009T121610Z
LAST-MODIFIED:20241009T121610Z
UID:10693-1728640800-1728649800@icp-ras.ru
SUMMARY:Заседание секции №3 Ученого Совета ФИЦ ПХФ и МХ РАН
DESCRIPTION:Повестка дня: Материалы для открытой печати \n1. Психа Б.Л.\, Соколова Е.М.\, Дубенская Н.А.\, Нешев Н.И. Кинетическая модель гемолиза эритроцитов под действием азогенератора пероксидных радикалов \n2. Kozyrev Y.N.\, Mendkovich A.S.\, Kokorekin V.A.\, Luzhkov V.B.\, Rusakov A.I.\, Jouikov V. Effect of proton donors on the process of electrochemical generation of thiocyanogen and its reactivity \n3. Зайцева С.М.\, Калашникова Е.А.\, Киракосян Р.Н.\, Балакина А.А. Клеточные культуры in vitro Ginkgo biloba l.\, интродуцированных в Московском регионе – перспективные источники веществ с высокой биологической активностью \n4. Тезисы докладов на конференции.
URL:https://icp-ras.ru/event/zasedanie-sekcii-3-uchenogo-soveta-fic-pxf-i-mx-ran-13/
LOCATION:в режиме онлайн-конференции
ATTACH;FMTTYPE=image/jpeg:https://icp-ras.ru/wp-content/uploads/LOGO/Kin-Bio.jpg
END:VEVENT
END:VCALENDAR