BEGIN:VCALENDAR
VERSION:2.0
PRODID:-//ФЕДЕРАЛЬНЫЙ ИССЛЕДОВАТЕЛЬСКИЙ ЦЕНТР ПРОБЛЕМ ХИМИЧЕСКОЙ ФИЗИКИ И МЕДИЦИНСКОЙ ХИМИИ РАН - ECPv6.8.0//NONSGML v1.0//EN
CALSCALE:GREGORIAN
METHOD:PUBLISH
X-WR-CALNAME:ФЕДЕРАЛЬНЫЙ ИССЛЕДОВАТЕЛЬСКИЙ ЦЕНТР ПРОБЛЕМ ХИМИЧЕСКОЙ ФИЗИКИ И МЕДИЦИНСКОЙ ХИМИИ РАН
X-ORIGINAL-URL:https://icp-ras.ru
X-WR-CALDESC:Мероприятия для ФЕДЕРАЛЬНЫЙ ИССЛЕДОВАТЕЛЬСКИЙ ЦЕНТР ПРОБЛЕМ ХИМИЧЕСКОЙ ФИЗИКИ И МЕДИЦИНСКОЙ ХИМИИ РАН
REFRESH-INTERVAL;VALUE=DURATION:PT1H
X-Robots-Tag:noindex
X-PUBLISHED-TTL:PT1H
BEGIN:VTIMEZONE
TZID:Europe/Moscow
BEGIN:STANDARD
TZOFFSETFROM:+0300
TZOFFSETTO:+0300
TZNAME:MSK
DTSTART:20240101T000000
END:STANDARD
END:VTIMEZONE
BEGIN:VEVENT
DTSTART;VALUE=DATE:20241025
DTEND;VALUE=DATE:20241026
DTSTAMP:20260426T014731
CREATED:20241018T093109Z
LAST-MODIFIED:20241018T093109Z
UID:10936-1729814400-1729900799@icp-ras.ru
SUMMARY:VII МЕЖДУНАРОДНЫЙ НАУЧНО-ТЕХНИЧЕСКИЙ ФОРУМ ПО ХИМИЧЕСКИМ ТЕХНОЛОГИЯМ И НЕФТЕГАЗОПЕРЕРАБОТКЕ\, Г. МИНСК
DESCRIPTION:13-15 ноября 2024 г. \, г. Минск\, пройдет  VII Международный научно-технический форум по химическим технологиям и нефтегазопереработке (НЕФТЕГАЗОХИМИЯ – 2024). \nОрганизатор Форума:\nБелорусский государственный технологический университет\nпри содействии:\n• Министерства образования Республики Беларусь\n• Белорусского государственного концерна по нефти и химии \nРегистрация – до 25 октября 2024 г.\nПодача тезисов – до 31 октября 2024 г. \nПодробнее о событии>>>
URL:https://icp-ras.ru/event/vii-mezhdunarodnyj-nauchno-texnicheskij-forum-po-ximicheskim-texnologiyam-i-neftegazopererabotke-g-minsk/
ATTACH;FMTTYPE=image/jpeg:https://icp-ras.ru/wp-content/uploads/novosti-mir-nauki/Neftegazohimiya.jpg
END:VEVENT
BEGIN:VEVENT
DTSTART;TZID=Europe/Moscow:20241025T103000
DTEND;TZID=Europe/Moscow:20241025T123000
DTSTAMP:20260426T014731
CREATED:20241023T194142Z
LAST-MODIFIED:20241023T194219Z
UID:11072-1729852200-1729859400@icp-ras.ru
SUMMARY:Заседание cекции № 2 Ученого Совета ФИЦ ПХФ и МХ РАН
DESCRIPTION:Повестка \n1. Рассмотрение материалов\, предназначенных для открытого опубликования \n1 Статьи в печать :\n1 Mikhailenko MV\, Ivanov VV\, Faraonov MA\, Kuzmin AV\, Khasanov SS\,\nYakushev IA\, et al. Effect of nuclearity and reduction state of the central ligand on magnetic properties of hexaazatrinaphthylene-based cobalt( II ) and iron( II)\ncomplexes: from extremely weak to record-breaking antiferromagnetic exchange interaction. InorgChemFront\n2 N. G. Osipov\, M. A. Faraonov\, A. V. Kuzmin\, S. S. Khasanov\,A. A.\nDmitriev\,N. P. Gritsan\, N. N. Denisov\, A. Otsuka\, H. Kitagawa\, D. V. Konarev.\nComplexes (TBA+){(TMI-NPS)2LaIIII4) (La = Dy\, Tb\, Ce) with photochromic\nspiropyran ligands: photoswitching and SIM behaviour. Dalton Transactions.\n3 D. I. Nazarov\, A. V. Kuzmin\,M. K. Islyaikin\,E. E. Ivanov\, A. F. Shestakov\,\nM. A. Faraonov\,S. S. Khasanov\, A.Otsuka\, H.Yamochi\, H.Kitagawa\, D. V.\nKonarev. Macrocycle and metal-centered reduction of cobalt\ntrithiadodecaazahexaphyrin (Hhp). Triplet – quintet charge transfer transition in {CoI CoII2 O(Hhp4)}2 accompanied by the formation of triplet macrocycle. InorgChem\n4 K.D. Krivenko\, A.F. Shestakov\, M. A. Faraonov\, S. S. Khasanov\, A. Otsuka\,\nH. Yamochi\, H. Kitagawa and D. V. Konarev.“Complexes of d- and f- metal ions\nwith new redox-active and highly symmetrical truxenone (Tr) ligand. Effect of\ncations on the Jahn-Teller distortions and singlet-triplet transitions in the truxenone\nradical anions and dianions. Chemistry – A European Journal\n5 P. A. Sobov\, A. V. Kuzmin\, A. F. Shevchun\, M. A\, Faraonov\,S. S. Khasanov\,\nA. Otsuka\,H. Yamochi\, H. Kitagawa\, D. V. Konarev.“Effect of the size of\nsubstituents in triptycene (TPCX) on magnetic and conducting properties of\nlayered 2D organic metals (MDABCO+)(C Materials Chemistry Frontiers\n6 M. A. Mashkovtsev\, A. S. Kosykh\, A. V. Ishchenko\, A. V. Chukin\, A. I.\nKukharenko\, P. A. Troshin\, I. S. Zhidkov. Unraveling Oxygen Vacancies Effect on\nChemical Composition\, Electronic Structure and Optical Properties of Eu Doped SnO2. Nanomaterials.\n7 И. А. Чуйко\, П. А. Трошин\, С. А. Пономаренко\, Ю. Н. Лупоносов.\nПолимеры на основе трифениламина: синтез\, свойства\, применение.\nУспехи химии\n2. Разное
URL:https://icp-ras.ru/event/zasedanie-cekcii-2-uchenogo-soveta-fic-pxf-i-mx-ran-4/
LOCATION:в корпусе 2/3 (ком. 107)
ATTACH;FMTTYPE=image/jpeg:https://icp-ras.ru/wp-content/uploads/nauka-otdely/okik/K-and-K.jpg
END:VEVENT
BEGIN:VEVENT
DTSTART;TZID=Europe/Moscow:20241025T150000
DTEND;TZID=Europe/Moscow:20241025T170000
DTSTAMP:20260426T014731
CREATED:20241024T095720Z
LAST-MODIFIED:20241024T095720Z
UID:11081-1729868400-1729875600@icp-ras.ru
SUMMARY:Заседание Ученого совета ФИЦ ПХФ и МХ РАН
DESCRIPTION:Повестка заседания: \n\nНаграждение сотрудников ФИЦ ПХФ и МХ РАН медалями “300 лет Российской академии наук”.\nВручение удостоверений аспирантам ФИЦ ПХФ и МХ РАН\, вручение дипломов окончившим аспирантуру.\nУтверждение критериев эффективности труда научных сотрудников и научных работников.\nРазное.
URL:https://icp-ras.ru/event/zasedanie-uchenogo-soveta-fic-pxf-i-mx-ran-5/
LOCATION:в режиме онлайн-конференции
ATTACH;FMTTYPE=image/jpeg:https://icp-ras.ru/wp-content/uploads/LOGO/SciSec.jpg
END:VEVENT
END:VCALENDAR