BEGIN:VCALENDAR
VERSION:2.0
PRODID:-//ФЕДЕРАЛЬНЫЙ ИССЛЕДОВАТЕЛЬСКИЙ ЦЕНТР ПРОБЛЕМ ХИМИЧЕСКОЙ ФИЗИКИ И МЕДИЦИНСКОЙ ХИМИИ РАН - ECPv6.8.0//NONSGML v1.0//EN
CALSCALE:GREGORIAN
METHOD:PUBLISH
X-ORIGINAL-URL:https://icp-ras.ru
X-WR-CALDESC:Мероприятия для ФЕДЕРАЛЬНЫЙ ИССЛЕДОВАТЕЛЬСКИЙ ЦЕНТР ПРОБЛЕМ ХИМИЧЕСКОЙ ФИЗИКИ И МЕДИЦИНСКОЙ ХИМИИ РАН
REFRESH-INTERVAL;VALUE=DURATION:PT1H
X-Robots-Tag:noindex
X-PUBLISHED-TTL:PT1H
BEGIN:VTIMEZONE
TZID:Europe/Moscow
BEGIN:STANDARD
TZOFFSETFROM:+0300
TZOFFSETTO:+0300
TZNAME:MSK
DTSTART:20240101T000000
END:STANDARD
END:VTIMEZONE
BEGIN:VEVENT
DTSTART;VALUE=DATE:20241030
DTEND;VALUE=DATE:20241101
DTSTAMP:20260426T000644
CREATED:20241008T150053Z
LAST-MODIFIED:20241008T150053Z
UID:10675-1730246400-1730419199@icp-ras.ru
SUMMARY:V Международный конкурс молодых ученых в сфере интеллектуальной собственности «Интеллект»
DESCRIPTION:В 2024 году Международный конкурс молодых ученых в сфере интеллектуальной собственности «Интеллект» проводится в четыре этапа : \n1 этап — регистрация и прием заявок (с 01.02.2024 по 31.10.2024) \n2 этап — заочная экспертиза научных проектов (с 01.11.2024 по 30.11.2024) \n3 этап — размещение на сайте РГАИС информации о кандидатах – участниках Конкурса \, отобранных для участия в финале Конкурса \, финал Конкурса — защита научных работ в формате выступления с презентацией (до 15.12.2024) \n4 этап — награждение победителей конкурса на Коллегии Роспатента (февраль -март 2025) \nПодробнее о событии >>
URL:https://icp-ras.ru/event/v-mezhdunarodnyj-konkurs-molodyx-uchenyx-v-sfere-intellektualnoj-sobstvennosti-intellekt/
ATTACH;FMTTYPE=image/jpeg:https://icp-ras.ru/wp-content/uploads/novosti2024/10-2024/intellect.jpg
END:VEVENT
BEGIN:VEVENT
DTSTART;TZID=Europe/Moscow:20241030T100000
DTEND;TZID=Europe/Moscow:20241030T113000
DTSTAMP:20260426T000644
CREATED:20241029T101602Z
LAST-MODIFIED:20241029T101754Z
UID:11256-1730282400-1730287800@icp-ras.ru
SUMMARY:Заседание семинара "Макрокинетика и процессы горения"
DESCRIPTION:Повестка:\nРассмотрение материалов\, предназначенных для открытого опубликования.
URL:https://icp-ras.ru/event/zasedanie-seminara-makrokinetika-i-processy-goreniya-7/
LOCATION:корпус 1/6\, ком.18
ATTACH;FMTTYPE=image/jpeg:https://icp-ras.ru/wp-content/uploads/nauka-otdely/OGV/C-and-E.jpg
END:VEVENT
END:VCALENDAR