BEGIN:VCALENDAR
VERSION:2.0
PRODID:-//ФЕДЕРАЛЬНЫЙ ИССЛЕДОВАТЕЛЬСКИЙ ЦЕНТР ПРОБЛЕМ ХИМИЧЕСКОЙ ФИЗИКИ И МЕДИЦИНСКОЙ ХИМИИ РАН - ECPv6.8.0//NONSGML v1.0//EN
CALSCALE:GREGORIAN
METHOD:PUBLISH
X-WR-CALNAME:ФЕДЕРАЛЬНЫЙ ИССЛЕДОВАТЕЛЬСКИЙ ЦЕНТР ПРОБЛЕМ ХИМИЧЕСКОЙ ФИЗИКИ И МЕДИЦИНСКОЙ ХИМИИ РАН
X-ORIGINAL-URL:https://icp-ras.ru
X-WR-CALDESC:Мероприятия для ФЕДЕРАЛЬНЫЙ ИССЛЕДОВАТЕЛЬСКИЙ ЦЕНТР ПРОБЛЕМ ХИМИЧЕСКОЙ ФИЗИКИ И МЕДИЦИНСКОЙ ХИМИИ РАН
REFRESH-INTERVAL;VALUE=DURATION:PT1H
X-Robots-Tag:noindex
X-PUBLISHED-TTL:PT1H
BEGIN:VTIMEZONE
TZID:Europe/Moscow
BEGIN:STANDARD
TZOFFSETFROM:+0300
TZOFFSETTO:+0300
TZNAME:MSK
DTSTART:20240101T000000
END:STANDARD
END:VTIMEZONE
BEGIN:VEVENT
DTSTART;VALUE=DATE:20241106
DTEND;VALUE=DATE:20241107
DTSTAMP:20260426T000613
CREATED:20241029T102406Z
LAST-MODIFIED:20241029T102508Z
UID:11258-1730851200-1730937599@icp-ras.ru
SUMMARY:Радикальный день ИОХ РАН 2024
DESCRIPTION:Уважаемые Коллеги! \n\n\n6 ноября2024 г. в ИОХ РАН состоится традиционный Радикальный день. \nРадикальный день даст возможность узнать о:\n• стабильных гетероциклических радикалах\, их металлоорганических производных\, использованию данных производных в реакции кросс-сочетания;\n• конструировании высокоспиновых молекул\, рекордах ИОХ РАН в данной области;\n• прямой С(sp2)-H функционализации азагетероциклов ароматической и неароматической природы с участием нуклеофильных и/или радикальных частиц;\n• перспективах практического использования функционализированных азагетероциклов для создания фармакологически активных молекул и функциональных материалов;\n• направлениях использования полифтораренов в радикальных реакциях;\n• фотокаталитических подходах к активации связей углерод-гетероатом. \n\n\n\nРасписание дня >> 
URL:https://icp-ras.ru/event/radikalnyj-den-iox-ran-2024/
LOCATION:ИОХ РАН: Москва\, Ленинский проспект\, 47
ATTACH;FMTTYPE=image/png:https://icp-ras.ru/wp-content/uploads/novosti2024/10-2024/ionh_day.png
END:VEVENT
END:VCALENDAR