BEGIN:VCALENDAR
VERSION:2.0
PRODID:-//ФЕДЕРАЛЬНЫЙ ИССЛЕДОВАТЕЛЬСКИЙ ЦЕНТР ПРОБЛЕМ ХИМИЧЕСКОЙ ФИЗИКИ И МЕДИЦИНСКОЙ ХИМИИ РАН - ECPv6.8.0//NONSGML v1.0//EN
CALSCALE:GREGORIAN
METHOD:PUBLISH
X-WR-CALNAME:ФЕДЕРАЛЬНЫЙ ИССЛЕДОВАТЕЛЬСКИЙ ЦЕНТР ПРОБЛЕМ ХИМИЧЕСКОЙ ФИЗИКИ И МЕДИЦИНСКОЙ ХИМИИ РАН
X-ORIGINAL-URL:https://icp-ras.ru
X-WR-CALDESC:Мероприятия для ФЕДЕРАЛЬНЫЙ ИССЛЕДОВАТЕЛЬСКИЙ ЦЕНТР ПРОБЛЕМ ХИМИЧЕСКОЙ ФИЗИКИ И МЕДИЦИНСКОЙ ХИМИИ РАН
REFRESH-INTERVAL;VALUE=DURATION:PT1H
X-Robots-Tag:noindex
X-PUBLISHED-TTL:PT1H
BEGIN:VTIMEZONE
TZID:Europe/Moscow
BEGIN:STANDARD
TZOFFSETFROM:+0300
TZOFFSETTO:+0300
TZNAME:MSK
DTSTART:20240101T000000
END:STANDARD
END:VTIMEZONE
BEGIN:VEVENT
DTSTART;VALUE=DATE:20241129
DTEND;VALUE=DATE:20241202
DTSTAMP:20260426T000610
CREATED:20241005T130439Z
LAST-MODIFIED:20241005T130439Z
UID:10580-1732838400-1733097599@icp-ras.ru
SUMMARY:XXVIII Всероссийская конференция молодых ученых-химиков
DESCRIPTION:С 15 по 17 апреля 2025 года в Нижнем Новгороде состоится XXVIII Всероссийская конференция молодых ученых-химиков (с международным участием). \nКлючевые даты:\n1 октября 2024 – открытие регистрации и приема тезисов докладов;\n1 декабря 2024 – окончание регистрации и приема тезисов докладов;\n15 декабря 2024 – подтверждение о принятии;\n1 февраля 2025 – предварительная версия программы;\n20 января 2025 – 10 марта 2024 – оплата регистрационных взносов. \nПодробнее о событии >>
URL:https://icp-ras.ru/event/xxviii-vserossijskaya-konferenciya-molodyx-uchenyx-ximikov/
ATTACH;FMTTYPE=image/png:https://icp-ras.ru/wp-content/uploads/novosti-mir-nauki/logo-nn-2024.png
END:VEVENT
BEGIN:VEVENT
DTSTART;TZID=Europe/Moscow:20241129T093000
DTEND;TZID=Europe/Moscow:20241129T113000
DTSTAMP:20260426T000610
CREATED:20241125T150738Z
LAST-MODIFIED:20241125T150738Z
UID:11777-1732872600-1732879800@icp-ras.ru
SUMMARY:Заседание секции № 5 Ученого Совета ФИЦ ПХФ и МХ РАН
DESCRIPTION:Повестка:  \n\n1. Отчеты руководителей подразделений ОПиКМ за 2024 г. и обсуждение планов работы на 2025г.\n2. Обсуждение важнейших результатов фундаментальных и прикладных исследований\, полученных в 2024г.
URL:https://icp-ras.ru/event/zasedanie-sekcii-5-uchenogo-soveta-fic-pxf-i-mx-ran-19/
LOCATION:актовый зал корп. 2/2
ATTACH;FMTTYPE=image/png:https://icp-ras.ru/wp-content/uploads/изображение.png
END:VEVENT
BEGIN:VEVENT
DTSTART;TZID=Europe/Moscow:20241129T093000
DTEND;TZID=Europe/Moscow:20241129T113000
DTSTAMP:20260426T000610
CREATED:20241128T153938Z
LAST-MODIFIED:20241128T153938Z
UID:11808-1732872600-1732879800@icp-ras.ru
SUMMARY:Заседание секции №4 Ученого Совета ФИЦ ПХФ и МХ РАН
DESCRIPTION:В повестке дня:\n1. Отчеты по госзаданию в 2024 году. Планы на 2025 год.\n2. Обсуждение и утверждение важнейших результатов работы отдела строения вещества  в 2024 году.
URL:https://icp-ras.ru/event/zasedanie-sekcii-4-uchenogo-soveta-fic-pxf-i-mx-ran-9/
LOCATION:в режиме онлайн-конференции
ATTACH;FMTTYPE=image/jpeg:https://icp-ras.ru/wp-content/uploads/LOGO/Structure.jpg
END:VEVENT
BEGIN:VEVENT
DTSTART;TZID=Europe/Moscow:20241129T103000
DTEND;TZID=Europe/Moscow:20241129T120000
DTSTAMP:20260426T000610
CREATED:20241125T151046Z
LAST-MODIFIED:20241126T131013Z
UID:11779-1732876200-1732881600@icp-ras.ru
SUMMARY:Заседание секции №1 Ученого совета ФИЦ ПХФ и МХ РАН
DESCRIPTION:Повестка: \n1. Отчеты лабораторий ОГВ о результатах НИР в 2024 году. Планы НИР на 2025 год.\n2. Обсуждение важнейших результатов работы отдела Горения и взрыва в 2024 году.
URL:https://icp-ras.ru/event/zasedanie-sekcii-1-uchenogo-soveta-fic-pxf-i-mx-ran-2/
LOCATION:актовый зал корпуса 1/2
ATTACH;FMTTYPE=image/jpeg:https://icp-ras.ru/wp-content/uploads/nauka-otdely/OGV/C-and-E.jpg
END:VEVENT
END:VCALENDAR