BEGIN:VCALENDAR
VERSION:2.0
PRODID:-//ФЕДЕРАЛЬНЫЙ ИССЛЕДОВАТЕЛЬСКИЙ ЦЕНТР ПРОБЛЕМ ХИМИЧЕСКОЙ ФИЗИКИ И МЕДИЦИНСКОЙ ХИМИИ РАН - ECPv6.8.0//NONSGML v1.0//EN
CALSCALE:GREGORIAN
METHOD:PUBLISH
X-ORIGINAL-URL:https://icp-ras.ru
X-WR-CALDESC:Мероприятия для ФЕДЕРАЛЬНЫЙ ИССЛЕДОВАТЕЛЬСКИЙ ЦЕНТР ПРОБЛЕМ ХИМИЧЕСКОЙ ФИЗИКИ И МЕДИЦИНСКОЙ ХИМИИ РАН
REFRESH-INTERVAL;VALUE=DURATION:PT1H
X-Robots-Tag:noindex
X-PUBLISHED-TTL:PT1H
BEGIN:VTIMEZONE
TZID:Europe/Moscow
BEGIN:STANDARD
TZOFFSETFROM:+0300
TZOFFSETTO:+0300
TZNAME:MSK
DTSTART:20240101T000000
END:STANDARD
END:VTIMEZONE
BEGIN:VEVENT
DTSTART;TZID=Europe/Moscow:20241202T133000
DTEND;TZID=Europe/Moscow:20241202T170000
DTSTAMP:20260425T221750
CREATED:20241128T154159Z
LAST-MODIFIED:20241128T154159Z
UID:11810-1733146200-1733158800@icp-ras.ru
SUMMARY:Заседание секции №2 Ученого Совета ФИЦ ПХФ и МХ РАН
DESCRIPTION:Повестка: \n1. Обсуждение отчетов\, основных результатов\, важнейших результатов работы лабораторий в 2024 году и планов на 2025 год \n  – выступление руководителей подразделений \n2. Разное
URL:https://icp-ras.ru/event/zasedanie-sekcii-2-uchenogo-soveta-fic-pxf-i-mx-ran-7/
LOCATION:корп.2/3\, ком.61
ATTACH;FMTTYPE=image/jpeg:https://icp-ras.ru/wp-content/uploads/nauka-otdely/okik/K-and-K.jpg
END:VEVENT
END:VCALENDAR