BEGIN:VCALENDAR
VERSION:2.0
PRODID:-//ФЕДЕРАЛЬНЫЙ ИССЛЕДОВАТЕЛЬСКИЙ ЦЕНТР ПРОБЛЕМ ХИМИЧЕСКОЙ ФИЗИКИ И МЕДИЦИНСКОЙ ХИМИИ РАН - ECPv6.8.0//NONSGML v1.0//EN
CALSCALE:GREGORIAN
METHOD:PUBLISH
X-WR-CALNAME:ФЕДЕРАЛЬНЫЙ ИССЛЕДОВАТЕЛЬСКИЙ ЦЕНТР ПРОБЛЕМ ХИМИЧЕСКОЙ ФИЗИКИ И МЕДИЦИНСКОЙ ХИМИИ РАН
X-ORIGINAL-URL:https://icp-ras.ru
X-WR-CALDESC:Мероприятия для ФЕДЕРАЛЬНЫЙ ИССЛЕДОВАТЕЛЬСКИЙ ЦЕНТР ПРОБЛЕМ ХИМИЧЕСКОЙ ФИЗИКИ И МЕДИЦИНСКОЙ ХИМИИ РАН
REFRESH-INTERVAL;VALUE=DURATION:PT1H
X-Robots-Tag:noindex
X-PUBLISHED-TTL:PT1H
BEGIN:VTIMEZONE
TZID:Europe/Moscow
BEGIN:STANDARD
TZOFFSETFROM:+0300
TZOFFSETTO:+0300
TZNAME:MSK
DTSTART:20240101T000000
END:STANDARD
END:VTIMEZONE
BEGIN:VEVENT
DTSTART;TZID=Europe/Moscow:20241204T103000
DTEND;TZID=Europe/Moscow:20241204T120000
DTSTAMP:20260426T000606
CREATED:20241202T104229Z
LAST-MODIFIED:20241202T104229Z
UID:11845-1733308200-1733313600@icp-ras.ru
SUMMARY:Заседание секции № 2 Ученого Совета ФИЦ ПХФ и МХ РАН
DESCRIPTION:Повестка\n1. Аттестация аспирантов\n2. Разное
URL:https://icp-ras.ru/event/zasedanie-sekcii-2-uchenogo-soveta-fic-pxf-i-mx-ran-8/
LOCATION:актовый зал корп. 2/2
ATTACH;FMTTYPE=image/jpeg:https://icp-ras.ru/wp-content/uploads/nauka-otdely/okik/K-and-K.jpg
END:VEVENT
BEGIN:VEVENT
DTSTART;TZID=Europe/Moscow:20241204T140000
DTEND;TZID=Europe/Moscow:20241204T150000
DTSTAMP:20260426T000606
CREATED:20241203T104022Z
LAST-MODIFIED:20241203T104022Z
UID:11874-1733320800-1733324400@icp-ras.ru
SUMMARY:Заседание секции №3 Ученого совета ФИЦ ПХФ и МХ РАН
DESCRIPTION:Повестка: \n1. Промежуточная аттестация аспирантов ОКХиБП.\n2. Утверждение лучшего научного результата ОКХиБП в 2024 г.\n3. Материалы для открытой печати:\nЕ.А. Саратовских\, Е.А. Мачигов\, А.И. Ярмоленко\, Е.В. Штамм\, С.К. Абилев  Способность продуктов фотохимического разложения гербицида Раундап индуцировать окислительный стресс в бактериальных клетках.
URL:https://icp-ras.ru/event/zasedanie-sekcii-3-uchenogo-soveta-fic-pxf-i-mx-ran-16/
LOCATION:в корпусе 2/2 (Учебный класс МГУ)
ATTACH;FMTTYPE=image/jpeg:https://icp-ras.ru/wp-content/uploads/LOGO/Kin-Bio.jpg
END:VEVENT
END:VCALENDAR