BEGIN:VCALENDAR
VERSION:2.0
PRODID:-//ФЕДЕРАЛЬНЫЙ ИССЛЕДОВАТЕЛЬСКИЙ ЦЕНТР ПРОБЛЕМ ХИМИЧЕСКОЙ ФИЗИКИ И МЕДИЦИНСКОЙ ХИМИИ РАН - ECPv6.8.0//NONSGML v1.0//EN
CALSCALE:GREGORIAN
METHOD:PUBLISH
X-ORIGINAL-URL:https://icp-ras.ru
X-WR-CALDESC:Мероприятия для ФЕДЕРАЛЬНЫЙ ИССЛЕДОВАТЕЛЬСКИЙ ЦЕНТР ПРОБЛЕМ ХИМИЧЕСКОЙ ФИЗИКИ И МЕДИЦИНСКОЙ ХИМИИ РАН
REFRESH-INTERVAL;VALUE=DURATION:PT1H
X-Robots-Tag:noindex
X-PUBLISHED-TTL:PT1H
BEGIN:VTIMEZONE
TZID:Europe/Moscow
BEGIN:STANDARD
TZOFFSETFROM:+0300
TZOFFSETTO:+0300
TZNAME:MSK
DTSTART:20240101T000000
END:STANDARD
END:VTIMEZONE
BEGIN:VEVENT
DTSTART;VALUE=DATE:20241210
DTEND;VALUE=DATE:20241211
DTSTAMP:20260425T221642
CREATED:20241127T125744Z
LAST-MODIFIED:20241127T125800Z
UID:11801-1733788800-1733875199@icp-ras.ru
SUMMARY:XIV Конференция молодых учёных ИФАВ РАН
DESCRIPTION:Дорогие коллеги!\n10 декабря в зале Ученого совета ИФАВ РАН состоится XIV Конференция молодых учёных ИФАВ РАН.\nНачало регистрации в 9.30. \nПодробнее >>>
URL:https://icp-ras.ru/event/xiv-konferenciya-molodyx-uchyonyx-ifav-ran/
LOCATION:зале заседаний Ученого совета ИФАВ РАН
ATTACH;FMTTYPE=image/jpeg:https://icp-ras.ru/wp-content/uploads/novosti2024/11-2024/smu-ipac.jpg
END:VEVENT
END:VCALENDAR