BEGIN:VCALENDAR
VERSION:2.0
PRODID:-//ФЕДЕРАЛЬНЫЙ ИССЛЕДОВАТЕЛЬСКИЙ ЦЕНТР ПРОБЛЕМ ХИМИЧЕСКОЙ ФИЗИКИ И МЕДИЦИНСКОЙ ХИМИИ РАН - ECPv6.8.0//NONSGML v1.0//EN
CALSCALE:GREGORIAN
METHOD:PUBLISH
X-ORIGINAL-URL:https://icp-ras.ru
X-WR-CALDESC:Мероприятия для ФЕДЕРАЛЬНЫЙ ИССЛЕДОВАТЕЛЬСКИЙ ЦЕНТР ПРОБЛЕМ ХИМИЧЕСКОЙ ФИЗИКИ И МЕДИЦИНСКОЙ ХИМИИ РАН
REFRESH-INTERVAL;VALUE=DURATION:PT1H
X-Robots-Tag:noindex
X-PUBLISHED-TTL:PT1H
BEGIN:VTIMEZONE
TZID:Europe/Moscow
BEGIN:STANDARD
TZOFFSETFROM:+0300
TZOFFSETTO:+0300
TZNAME:MSK
DTSTART:20240101T000000
END:STANDARD
END:VTIMEZONE
BEGIN:VEVENT
DTSTART;TZID=Europe/Moscow:20241213T100000
DTEND;TZID=Europe/Moscow:20241213T123000
DTSTAMP:20260425T221642
CREATED:20241211T121028Z
LAST-MODIFIED:20241211T121028Z
UID:12097-1734084000-1734093000@icp-ras.ru
SUMMARY:Заседание секции № 4 Ученого Совета ФИЦ ПХФ и МХ РАН
DESCRIPTION:Повестка\nРассмотрение материалов\, предназначенных для открытого опубликования:  \n\n\n\n\n\n\n\n\n\n\n\n1. Моргунов Р. Б.\nМ.В. Потапов\, А.В. Бузенков\, Р.Б. Моргунов\, В.П. Пискорский\nМагниты с высокой температурной стабильностью для навигации\nСтатья в журнал Труды ВИАМ \n2. Тиунова А. В.\nAleksandra V. Tiunova\, Denis V. Korchagin\, Gennady V. Shilov\, Yuriy V. Manakin\, Aleksei I. Dmitriev\, Mikhail V. Zhidkov\, Anna V. Kazakova\, Sergey M. Aldoshin\, Eduard B. Yagubskii\nCationic spin-crossover complexes of Mn(III) with 3\,5-dihalogen-substituted ligands of the sal2323 family and the paramagnetic counterion [Co(pdms)2]2-\nСтатья в New Journal of Chemistry \n3. Палий А. В.\nBoris Tsukerblat\, Mihail Nazarov\, Andrew Palii\nA New Look at Interrelation Between Stokes Shift and Heat Release\nParameter in Vibronically Assisted Optical Spectra of Activated Crystals\nСтатья в журнал Optical Materials
URL:https://icp-ras.ru/event/zasedanie-sekcii-4-uchenogo-soveta-fic-pxf-i-mx-ran-10/
LOCATION:в режиме онлайн-конференции
ATTACH;FMTTYPE=image/jpeg:https://icp-ras.ru/wp-content/uploads/LOGO/Structure.jpg
END:VEVENT
END:VCALENDAR