BEGIN:VCALENDAR
VERSION:2.0
PRODID:-//ФЕДЕРАЛЬНЫЙ ИССЛЕДОВАТЕЛЬСКИЙ ЦЕНТР ПРОБЛЕМ ХИМИЧЕСКОЙ ФИЗИКИ И МЕДИЦИНСКОЙ ХИМИИ РАН - ECPv6.8.0//NONSGML v1.0//EN
CALSCALE:GREGORIAN
METHOD:PUBLISH
X-WR-CALNAME:ФЕДЕРАЛЬНЫЙ ИССЛЕДОВАТЕЛЬСКИЙ ЦЕНТР ПРОБЛЕМ ХИМИЧЕСКОЙ ФИЗИКИ И МЕДИЦИНСКОЙ ХИМИИ РАН
X-ORIGINAL-URL:https://icp-ras.ru
X-WR-CALDESC:Мероприятия для ФЕДЕРАЛЬНЫЙ ИССЛЕДОВАТЕЛЬСКИЙ ЦЕНТР ПРОБЛЕМ ХИМИЧЕСКОЙ ФИЗИКИ И МЕДИЦИНСКОЙ ХИМИИ РАН
REFRESH-INTERVAL;VALUE=DURATION:PT1H
X-Robots-Tag:noindex
X-PUBLISHED-TTL:PT1H
BEGIN:VTIMEZONE
TZID:Europe/Moscow
BEGIN:STANDARD
TZOFFSETFROM:+0300
TZOFFSETTO:+0300
TZNAME:MSK
DTSTART:20240101T000000
END:STANDARD
END:VTIMEZONE
BEGIN:VEVENT
DTSTART;TZID=Europe/Moscow:20241219T130000
DTEND;TZID=Europe/Moscow:20241219T170000
DTSTAMP:20260425T221559
CREATED:20241218T191500Z
LAST-MODIFIED:20241218T191500Z
UID:12236-1734613200-1734627600@icp-ras.ru
SUMMARY:Заседание секции №3 Ученого совета ФИЦ ПХФ и МХ РАН
DESCRIPTION:Повестка \nРассмотрение материалов\, предназначенных для открытого опубликования: \n1. Мазина Л.М.\, Покидова О.В.\, Лужков В.Б.\, Руина К.С.\, Санина Н.А. Перспективный противовоспалительный агент – нитрозильный комплекс железа с 5-(3-пиридил)-4H-1\,2\,4-триазол-3-тиолилом: влияние на циклооксигеназу-2 и взаимодействие с сывороточным альбумином\n2. Петров Л.В.\, Соляников В.М. Ускорение пиридином окисления кислородом системы эпоксид стирола – гидрохинон – хлорид Cu(II) в спиртово-водном растворе.\n3. Rima N. Kirakosyan\, Elena A. Kalasnikova\, Elizaveta A. Bolotina\, Abdulrahman Saleh\, Anastasiya A. Balakina and Svetlana M. Zaytseva. Localization of Secondary Metabolites in Relict Gymnosperms of the Genus Sequoia In Vivo and in Cell Cultures In Vitro\, and the Biological Activity of Their Extracts\n4. Тезисы докладов на конференции.
URL:https://icp-ras.ru/event/zasedanie-sekcii-3-uchenogo-soveta-fic-pxf-i-mx-ran-17/
LOCATION:в режиме онлайн-конференции
ATTACH;FMTTYPE=image/jpeg:https://icp-ras.ru/wp-content/uploads/LOGO/Kin-Bio.jpg
END:VEVENT
END:VCALENDAR