BEGIN:VCALENDAR
VERSION:2.0
PRODID:-//ФЕДЕРАЛЬНЫЙ ИССЛЕДОВАТЕЛЬСКИЙ ЦЕНТР ПРОБЛЕМ ХИМИЧЕСКОЙ ФИЗИКИ И МЕДИЦИНСКОЙ ХИМИИ РАН - ECPv6.8.0//NONSGML v1.0//EN
CALSCALE:GREGORIAN
METHOD:PUBLISH
X-WR-CALNAME:ФЕДЕРАЛЬНЫЙ ИССЛЕДОВАТЕЛЬСКИЙ ЦЕНТР ПРОБЛЕМ ХИМИЧЕСКОЙ ФИЗИКИ И МЕДИЦИНСКОЙ ХИМИИ РАН
X-ORIGINAL-URL:https://icp-ras.ru
X-WR-CALDESC:Мероприятия для ФЕДЕРАЛЬНЫЙ ИССЛЕДОВАТЕЛЬСКИЙ ЦЕНТР ПРОБЛЕМ ХИМИЧЕСКОЙ ФИЗИКИ И МЕДИЦИНСКОЙ ХИМИИ РАН
REFRESH-INTERVAL;VALUE=DURATION:PT1H
X-Robots-Tag:noindex
X-PUBLISHED-TTL:PT1H
BEGIN:VTIMEZONE
TZID:Europe/Moscow
BEGIN:STANDARD
TZOFFSETFROM:+0300
TZOFFSETTO:+0300
TZNAME:MSK
DTSTART:20240101T000000
END:STANDARD
END:VTIMEZONE
BEGIN:VEVENT
DTSTART;TZID=Europe/Moscow:20241223T093000
DTEND;TZID=Europe/Moscow:20241223T113000
DTSTAMP:20260425T221601
CREATED:20241220T140451Z
LAST-MODIFIED:20241220T140451Z
UID:12286-1734946200-1734953400@icp-ras.ru
SUMMARY:Заседание семинара "Макрокинетика и процессы горения"
DESCRIPTION:Повестка\nРассмотрение материалов\, предназначенных для открытого опубликования: \n1. А.Ю. Зайченко\, Д.Н. Подлесный\, Е.В. Полианчик\, М.В. Салганская\, Г.А. Тарасов\, М.В. Цветков. Окислительная конверсия этанола в синтез-газ в реакторе с подвижным слоем инертного теплоносителя. Влияние газодинамических факторов \nСтатья в журнал Химическая физика \n2. М. В. Цветков\, Д. Н. Подлесный\, Ю. Ю. Цветкова\, М. В. Салганская\, А. Ю. Зайченко\, В. М. Кислов\, Е. А. Салганский. Термодинамическая оценка режимов получения синтез-газа при высокотемпературной конверсии отработанного масла \nСтатья в журнал Химическая физика
URL:https://icp-ras.ru/event/zasedanie-seminara-makrokinetika-i-processy-goreniya-9/
LOCATION:корпус 1/6\, ком.18
ATTACH;FMTTYPE=image/jpeg:https://icp-ras.ru/wp-content/uploads/nauka-otdely/OGV/C-and-E.jpg
END:VEVENT
END:VCALENDAR