BEGIN:VCALENDAR
VERSION:2.0
PRODID:-//ФЕДЕРАЛЬНЫЙ ИССЛЕДОВАТЕЛЬСКИЙ ЦЕНТР ПРОБЛЕМ ХИМИЧЕСКОЙ ФИЗИКИ И МЕДИЦИНСКОЙ ХИМИИ РАН - ECPv6.8.0//NONSGML v1.0//EN
CALSCALE:GREGORIAN
METHOD:PUBLISH
X-ORIGINAL-URL:https://icp-ras.ru
X-WR-CALDESC:Мероприятия для ФЕДЕРАЛЬНЫЙ ИССЛЕДОВАТЕЛЬСКИЙ ЦЕНТР ПРОБЛЕМ ХИМИЧЕСКОЙ ФИЗИКИ И МЕДИЦИНСКОЙ ХИМИИ РАН
REFRESH-INTERVAL;VALUE=DURATION:PT1H
X-Robots-Tag:noindex
X-PUBLISHED-TTL:PT1H
BEGIN:VTIMEZONE
TZID:Europe/Moscow
BEGIN:STANDARD
TZOFFSETFROM:+0300
TZOFFSETTO:+0300
TZNAME:MSK
DTSTART:20240101T000000
END:STANDARD
END:VTIMEZONE
BEGIN:VEVENT
DTSTART;TZID=Europe/Moscow:20241226T100000
DTEND;TZID=Europe/Moscow:20241226T123000
DTSTAMP:20260425T221752
CREATED:20241224T170806Z
LAST-MODIFIED:20241224T170806Z
UID:12306-1735207200-1735216200@icp-ras.ru
SUMMARY:Заседание Секции № 3 Ученого Совета ФИЦ ПХФ и МХ РАН
DESCRIPTION:Повестка: \n1. Доклад о научной работе в 2020-2024 гг. н.с. Раевской Т.А.\n2. Доклад о научной работе в 2020-2024 гг. с.н.с. Рыбкина А.Ю.
URL:https://icp-ras.ru/event/zasedanie-sekcii-3-uchenogo-soveta-fic-pxf-i-mx-ran-18/
LOCATION:в режиме онлайн-конференции
ATTACH;FMTTYPE=image/jpeg:https://icp-ras.ru/wp-content/uploads/LOGO/Kin-Bio.jpg
END:VEVENT
END:VCALENDAR