BEGIN:VCALENDAR
VERSION:2.0
PRODID:-//ФЕДЕРАЛЬНЫЙ ИССЛЕДОВАТЕЛЬСКИЙ ЦЕНТР ПРОБЛЕМ ХИМИЧЕСКОЙ ФИЗИКИ И МЕДИЦИНСКОЙ ХИМИИ РАН - ECPv6.8.0//NONSGML v1.0//EN
CALSCALE:GREGORIAN
METHOD:PUBLISH
X-ORIGINAL-URL:https://icp-ras.ru
X-WR-CALDESC:Мероприятия для ФЕДЕРАЛЬНЫЙ ИССЛЕДОВАТЕЛЬСКИЙ ЦЕНТР ПРОБЛЕМ ХИМИЧЕСКОЙ ФИЗИКИ И МЕДИЦИНСКОЙ ХИМИИ РАН
REFRESH-INTERVAL;VALUE=DURATION:PT1H
X-Robots-Tag:noindex
X-PUBLISHED-TTL:PT1H
BEGIN:VTIMEZONE
TZID:Europe/Moscow
BEGIN:STANDARD
TZOFFSETFROM:+0300
TZOFFSETTO:+0300
TZNAME:MSK
DTSTART:20250101T000000
END:STANDARD
END:VTIMEZONE
BEGIN:VEVENT
DTSTART;TZID=Europe/Moscow:20250110T100000
DTEND;TZID=Europe/Moscow:20250110T130000
DTSTAMP:20260425T203652
CREATED:20250109T140205Z
LAST-MODIFIED:20250109T140205Z
UID:12484-1736503200-1736514000@icp-ras.ru
SUMMARY:Заседание секции №4 Ученого Совета ФИЦ ПХФ и МХ РАН
DESCRIPTION:10 января\, в пятницу\, в 10:00 на платформе SberJazz состоится заседание секции №4 Ученого Совета ФИЦ ПХФ и МХ РАН.\n\n\nВ повестке дня:\n\n1. Гусенков Д. Л.\n \nД.Л. Гусенков\,\, А.И. Тюрин\, М.В. Бахметьев\, Е.И. Куницына\, Е. Чиглинцев\, М.К. Татмышевский\, А.И. Чернов\, Р.Б. Моргунов. Effect of bromine depletion and oxidization on magnetic\, mechanical\, and optical properties of CrSBr semiconductor.  \nСтатья в  Journal of Physics and Chemistry of Solids. \n2. Гусенков Д. Л.\n \nД.Л. Гусенков\, Р.А. Валеев\, В.П. Пискорский\, А.И. Чернов\, Р.Б. Моргунов. Самопроизвольное образование включений фазы Cr2S3 в двумерном слоистом полупроводнике CrSBr. \nСтатья в журнал Физика твердого тела. \n3. Палий А. В.\n \nAndrew Palii\, Valeria Belonovich\, Denis Korchagin\, Juan-Modesto Clemente-Juan\, Boris Tsukerblat. Effects of Electron Transfer Network Topology on Functioning of Quantum Cellular Automata Based on Mixed-Valence Two-Electron Molecular Squares. \nСтатья в журнал The Journal of Chemical Physics.
URL:https://icp-ras.ru/event/zasedanie-sekcii-4-uchenogo-soveta-fic-pxf-i-mx-ran-11/
LOCATION:в режиме онлайн-конференции
ATTACH;FMTTYPE=image/jpeg:https://icp-ras.ru/wp-content/uploads/LOGO/Structure.jpg
END:VEVENT
END:VCALENDAR