BEGIN:VCALENDAR
VERSION:2.0
PRODID:-//ФЕДЕРАЛЬНЫЙ ИССЛЕДОВАТЕЛЬСКИЙ ЦЕНТР ПРОБЛЕМ ХИМИЧЕСКОЙ ФИЗИКИ И МЕДИЦИНСКОЙ ХИМИИ РАН - ECPv6.8.0//NONSGML v1.0//EN
CALSCALE:GREGORIAN
METHOD:PUBLISH
X-WR-CALNAME:ФЕДЕРАЛЬНЫЙ ИССЛЕДОВАТЕЛЬСКИЙ ЦЕНТР ПРОБЛЕМ ХИМИЧЕСКОЙ ФИЗИКИ И МЕДИЦИНСКОЙ ХИМИИ РАН
X-ORIGINAL-URL:https://icp-ras.ru
X-WR-CALDESC:Мероприятия для ФЕДЕРАЛЬНЫЙ ИССЛЕДОВАТЕЛЬСКИЙ ЦЕНТР ПРОБЛЕМ ХИМИЧЕСКОЙ ФИЗИКИ И МЕДИЦИНСКОЙ ХИМИИ РАН
REFRESH-INTERVAL;VALUE=DURATION:PT1H
X-Robots-Tag:noindex
X-PUBLISHED-TTL:PT1H
BEGIN:VTIMEZONE
TZID:Europe/Moscow
BEGIN:STANDARD
TZOFFSETFROM:+0300
TZOFFSETTO:+0300
TZNAME:MSK
DTSTART:20250101T000000
END:STANDARD
END:VTIMEZONE
BEGIN:VEVENT
DTSTART;TZID=Europe/Moscow:20250130T150000
DTEND;TZID=Europe/Moscow:20250130T170000
DTSTAMP:20260425T185847
CREATED:20250129T082207Z
LAST-MODIFIED:20250129T082207Z
UID:12780-1738249200-1738256400@icp-ras.ru
SUMMARY:Заседание cекции № 6 Ученого cовета ФИЦ ПХФ и МХ РАН
DESCRIPTION:Повестка: \n1.   Дергачева Полина Евгеньевна\, м.н.с. лаборатории функциональной керамики Института металлургии и материаловедения им. А.А. Байкова РАН \n «Симметричные ячейки с высокопроводящим композиционным электролитом на основе Bi2O3 для электрохимического генератора кислорода»\n(Преддиссертационный доклад по работе\, представленной на соискание ученой степени кандидата технических наук по специальности 2.6.5. – Порошковая металлургия и композиционные материалы.  Научный руководитель – д.ф.-м.н. Белоусов В.В.\nФИЦ ПХФ И МХ РАН – Ведущая организация) \n2) Рассмотрение материалов для открытого опубликования:\n \n\n Volkov V.I.\, Avilova I.A. Cupper (II) EPR in Amino Phosphonic Polyampholytes //Applied Magnetic Resonance.\n\n\nЗюбин А.С.\, Зюбина Т.С.\, Кравченко О.В.\, Соловьев М.В.\, Васильев В.П.\, Зайцев А.А.\, Шиховцев А.В.\, Добровольский Ю.А. Квантово-химическое моделирование отщепления молекулярного водорода от бикатионного комплекса ZnMg(BH4)4 *4NH3 // Журнал неорганической химии.\n Lyskov N.\, Baldin E.\, Borunova A.\, Vorobieva G.\, Stolbov D.\, Shlyakhtina A. Proton conductivity in the Gd2O3-HfO2 system // New Journal of Chemistry.
URL:https://icp-ras.ru/event/zasedanie-cekcii-6-uchenogo-coveta-fic-pxf-i-mx-ran/
LOCATION:в актовом зале корпуса 2/7 (ком.301)
ATTACH;FMTTYPE=image/jpeg:https://icp-ras.ru/wp-content/uploads/LOGO/OFM.jpg
END:VEVENT
END:VCALENDAR