BEGIN:VCALENDAR
VERSION:2.0
PRODID:-//ФЕДЕРАЛЬНЫЙ ИССЛЕДОВАТЕЛЬСКИЙ ЦЕНТР ПРОБЛЕМ ХИМИЧЕСКОЙ ФИЗИКИ И МЕДИЦИНСКОЙ ХИМИИ РАН - ECPv6.8.0//NONSGML v1.0//EN
CALSCALE:GREGORIAN
METHOD:PUBLISH
X-WR-CALNAME:ФЕДЕРАЛЬНЫЙ ИССЛЕДОВАТЕЛЬСКИЙ ЦЕНТР ПРОБЛЕМ ХИМИЧЕСКОЙ ФИЗИКИ И МЕДИЦИНСКОЙ ХИМИИ РАН
X-ORIGINAL-URL:https://icp-ras.ru
X-WR-CALDESC:Мероприятия для ФЕДЕРАЛЬНЫЙ ИССЛЕДОВАТЕЛЬСКИЙ ЦЕНТР ПРОБЛЕМ ХИМИЧЕСКОЙ ФИЗИКИ И МЕДИЦИНСКОЙ ХИМИИ РАН
REFRESH-INTERVAL;VALUE=DURATION:PT1H
X-Robots-Tag:noindex
X-PUBLISHED-TTL:PT1H
BEGIN:VTIMEZONE
TZID:Europe/Moscow
BEGIN:STANDARD
TZOFFSETFROM:+0300
TZOFFSETTO:+0300
TZNAME:MSK
DTSTART:20250101T000000
END:STANDARD
END:VTIMEZONE
BEGIN:VEVENT
DTSTART;TZID=Europe/Moscow:20250211T140000
DTEND;TZID=Europe/Moscow:20250211T153000
DTSTAMP:20260425T185634
CREATED:20241229T105022Z
LAST-MODIFIED:20241229T105022Z
UID:12466-1739282400-1739287800@icp-ras.ru
SUMMARY:Защита диссертации Кутяшевой Н.В.
DESCRIPTION:«Димерные производные циклодекстринов. Особенности синтеза и фармакологического действия» \nна соискание ученой степени кандидата химических наук
URL:https://icp-ras.ru/event/zashhita-dissertacii-kutyashevoj-n-v/
LOCATION:ИФАВ\, Северный проезд\, 1\, зал заседаний Ученого совета
ATTACH;FMTTYPE=image/webp:https://icp-ras.ru/wp-content/uploads/DISS/Kutiascheva/icon_Kutyasheva.webp
END:VEVENT
BEGIN:VEVENT
DTSTART;TZID=Europe/Moscow:20250211T160000
DTEND;TZID=Europe/Moscow:20250211T170000
DTSTAMP:20260425T185634
CREATED:20241211T121445Z
LAST-MODIFIED:20241211T121445Z
UID:12099-1739289600-1739293200@icp-ras.ru
SUMMARY:Защита диссертации Салимовой А.Р.
DESCRIPTION:Салимова Альфия Раисовна «Ti-Катализируемое гомо- и кросс-цикломагнирование 1\,2-диенов в синтезе природных и синтетических nZ\,(n+4)Z-диеновых кислот – ингибиторов топоизомераз I и II» представленной на соискание ученой степени химических наук по специальности: \n1.4.3. – Органическая химия (химические науки)\n1.4.16 – Медицинская химия (химические науки) \nПодробнее о диссертации >>>
URL:https://icp-ras.ru/event/zashhita-dissertacii-salimovoj-a-r/
LOCATION:ИФАВ\, Северный проезд\, 1\, зал заседаний Ученого совета
ATTACH;FMTTYPE=image/webp:https://icp-ras.ru/wp-content/uploads/DISS/Salimova/icon_Salimova.webp
END:VEVENT
END:VCALENDAR