BEGIN:VCALENDAR
VERSION:2.0
PRODID:-//ФЕДЕРАЛЬНЫЙ ИССЛЕДОВАТЕЛЬСКИЙ ЦЕНТР ПРОБЛЕМ ХИМИЧЕСКОЙ ФИЗИКИ И МЕДИЦИНСКОЙ ХИМИИ РАН - ECPv6.8.0//NONSGML v1.0//EN
CALSCALE:GREGORIAN
METHOD:PUBLISH
X-WR-CALNAME:ФЕДЕРАЛЬНЫЙ ИССЛЕДОВАТЕЛЬСКИЙ ЦЕНТР ПРОБЛЕМ ХИМИЧЕСКОЙ ФИЗИКИ И МЕДИЦИНСКОЙ ХИМИИ РАН
X-ORIGINAL-URL:https://icp-ras.ru
X-WR-CALDESC:Мероприятия для ФЕДЕРАЛЬНЫЙ ИССЛЕДОВАТЕЛЬСКИЙ ЦЕНТР ПРОБЛЕМ ХИМИЧЕСКОЙ ФИЗИКИ И МЕДИЦИНСКОЙ ХИМИИ РАН
REFRESH-INTERVAL;VALUE=DURATION:PT1H
X-Robots-Tag:noindex
X-PUBLISHED-TTL:PT1H
BEGIN:VTIMEZONE
TZID:Europe/Moscow
BEGIN:STANDARD
TZOFFSETFROM:+0300
TZOFFSETTO:+0300
TZNAME:MSK
DTSTART:20250101T000000
END:STANDARD
END:VTIMEZONE
BEGIN:VEVENT
DTSTART;TZID=Europe/Moscow:20250219T110000
DTEND;TZID=Europe/Moscow:20250219T130000
DTSTAMP:20260425T185639
CREATED:20250214T132230Z
LAST-MODIFIED:20250214T132230Z
UID:13031-1739962800-1739970000@icp-ras.ru
SUMMARY:Заседание секции №2 Ученого Совета ФИЦ ПХФ и МХ РАН
DESCRIPTION:Повестка\n\n1. Фараонов Максим Алексеевич \n“Строение и физико-химические свойства анионных соединений аннелированных порфиназинов” \nПреддиссертационный доклад на соискание ученой степени д.х.н. \n1.4.4 – Физическая химия\n1.4.1. – Неорганическая химия \nРецензенты:\nд.х.н. Пушкарев В.Е.\,\nд.х.н. Баженова Т.А. \n2. Разное
URL:https://icp-ras.ru/event/zasedanie-sekcii-2-uchenogo-soveta-fic-pxf-i-mx-ran-11/
LOCATION:актовый зал корп. 2/2
ATTACH;FMTTYPE=image/jpeg:https://icp-ras.ru/wp-content/uploads/dis-sovet/icon/sci-2.jpg
END:VEVENT
END:VCALENDAR