BEGIN:VCALENDAR
VERSION:2.0
PRODID:-//ФЕДЕРАЛЬНЫЙ ИССЛЕДОВАТЕЛЬСКИЙ ЦЕНТР ПРОБЛЕМ ХИМИЧЕСКОЙ ФИЗИКИ И МЕДИЦИНСКОЙ ХИМИИ РАН - ECPv6.8.0//NONSGML v1.0//EN
CALSCALE:GREGORIAN
METHOD:PUBLISH
X-WR-CALNAME:ФЕДЕРАЛЬНЫЙ ИССЛЕДОВАТЕЛЬСКИЙ ЦЕНТР ПРОБЛЕМ ХИМИЧЕСКОЙ ФИЗИКИ И МЕДИЦИНСКОЙ ХИМИИ РАН
X-ORIGINAL-URL:https://icp-ras.ru
X-WR-CALDESC:Мероприятия для ФЕДЕРАЛЬНЫЙ ИССЛЕДОВАТЕЛЬСКИЙ ЦЕНТР ПРОБЛЕМ ХИМИЧЕСКОЙ ФИЗИКИ И МЕДИЦИНСКОЙ ХИМИИ РАН
REFRESH-INTERVAL;VALUE=DURATION:PT1H
X-Robots-Tag:noindex
X-PUBLISHED-TTL:PT1H
BEGIN:VTIMEZONE
TZID:Europe/Moscow
BEGIN:STANDARD
TZOFFSETFROM:+0300
TZOFFSETTO:+0300
TZNAME:MSK
DTSTART:20250101T000000
END:STANDARD
END:VTIMEZONE
BEGIN:VEVENT
DTSTART;TZID=Europe/Moscow:20250227T080000
DTEND;TZID=Europe/Moscow:20250228T170000
DTSTAMP:20260425T171111
CREATED:20241229T104049Z
LAST-MODIFIED:20241229T104049Z
UID:12459-1740643200-1740762000@icp-ras.ru
SUMMARY:VII Международная научная конференция «Успехи синтеза и комплексообразования».
DESCRIPTION:The Seventh International Scientific Conference «Advances in Synthesis and Complexing» \n✉️ Organic Chemistry\n✉️ Medicinal and Pharmaceutical Chemistry\n✉️ Physical and Colloidal Chemistry\n✉️ Inorganic and Coordination Chemistry \nДата и место: 26–30 мая 2025 г.\, Москва\nДедлайн подачи заявок: 1 марта 2025 г.\nПодробная информация
URL:https://icp-ras.ru/event/vii-mezhdunarodnaya-nauchnaya-konferenciya-uspexi-sinteza-i-kompleksoobrazovaniya/
ATTACH;FMTTYPE=image/jpeg:https://icp-ras.ru/wp-content/uploads/novosti-mir-nauki/photo_2024-12-29_13-40-07.jpg
END:VEVENT
BEGIN:VEVENT
DTSTART;TZID=Europe/Moscow:20250227T093000
DTEND;TZID=Europe/Moscow:20250228T170000
DTSTAMP:20260425T171111
CREATED:20250225T110002Z
LAST-MODIFIED:20250225T110020Z
UID:13300-1740648600-1740762000@icp-ras.ru
SUMMARY:Заседание секции № 5 Ученого Совета ФИЦ ПХФ и МХ РАН
DESCRIPTION:Повестка: \n1. Выдвижение докладов на итоговую сессию Ученого совета ФИЦ ПХФ и МХ РАН.\n2. Научная конференция ОПиКМ-2025 – доклады сотрудников по результатам НИР\, выполненных в 2024 г.
URL:https://icp-ras.ru/event/zasedanie-sekcii-5-uchenogo-soveta-fic-pxf-i-mx-ran-24/
LOCATION:в режиме онлайн-конференции
ATTACH;FMTTYPE=image/jpeg:https://icp-ras.ru/wp-content/uploads/dis-sovet/icon/sci-5.jpg
END:VEVENT
BEGIN:VEVENT
DTSTART;TZID=Europe/Moscow:20250228T100000
DTEND;TZID=Europe/Moscow:20250228T120000
DTSTAMP:20260425T171111
CREATED:20250226T100800Z
LAST-MODIFIED:20250226T100800Z
UID:13307-1740736800-1740744000@icp-ras.ru
SUMMARY:Заседание секции №4 Ученого Совета ФИЦ ПХФ и МХ РАН
DESCRIPTION:В повестке дня: \nВыдвижение работы на конкурс молодых ученых им. С. М. Батурина \nВ. Л. Белонович “К проблеме рационального дизайна молекулярных квантовых клеточных автоматов: как примирить сильный нелинейный отклик с низким тепловыделением”.
URL:https://icp-ras.ru/event/zasedanie-sekcii-4-uchenogo-soveta-fic-pxf-i-mx-ran-13/
LOCATION:в режиме онлайн-конференции
ATTACH;FMTTYPE=image/jpeg:https://icp-ras.ru/wp-content/uploads/dis-sovet/icon/sci-4.jpg
END:VEVENT
BEGIN:VEVENT
DTSTART;TZID=Europe/Moscow:20250228T100000
DTEND;TZID=Europe/Moscow:20250228T120000
DTSTAMP:20260425T171111
CREATED:20250227T100042Z
LAST-MODIFIED:20250227T100042Z
UID:13311-1740736800-1740744000@icp-ras.ru
SUMMARY:Заседание секции №3 Ученого Совета ФИЦ ПХФ и МХ РАН
DESCRIPTION:Повестка \n1. Выдвижение работ на Итоговую сессию Ученого совета ФИЦ ПХФ и МХ РАН\n2. Статья в печать: Yuliya V. Soldatova\, Darya A. Poletaeva\, Anastasiya V. Smolina\, Maxim A. Savushkin\, Nataliya A. Sanina\, Irina I. Faingold\nDinitrosyl iron complexes with antioxidant activity inhibits advanced glycation end products and aldose reductase in vitro.
URL:https://icp-ras.ru/event/zasedanie-sekcii-3-uchenogo-soveta-fic-pxf-i-mx-ran-20/
LOCATION:в режиме онлайн-конференции
ATTACH;FMTTYPE=image/jpeg:https://icp-ras.ru/wp-content/uploads/dis-sovet/icon/sci-3.jpg
END:VEVENT
BEGIN:VEVENT
DTSTART;TZID=Europe/Moscow:20250228T150000
DTEND;TZID=Europe/Moscow:20250228T170000
DTSTAMP:20260425T171111
CREATED:20250225T105811Z
LAST-MODIFIED:20250225T105811Z
UID:13297-1740754800-1740762000@icp-ras.ru
SUMMARY:Научный семинар Ученого совета ФИЦ ПХФ и МХ РАН
DESCRIPTION:Повестка дня: \n\nОнищук Андрей Александрович\, доктор химических наук\, директор Института химической кинетики и горения им. В.В. Воеводского СО РАН (г. Новосибирск) \n“Физическая химия аэрозолей: механизм образования\, методы измерения\, практическое применение”\n\n \nПриглашаются все желающие.
URL:https://icp-ras.ru/event/nauchnyj-seminar-uchenogo-soveta-fic-pxf-i-mx-ran-2/
LOCATION:актовый зал КОН
ATTACH;FMTTYPE=image/jpeg:https://icp-ras.ru/wp-content/uploads/LOGO/SciCoun.jpg
END:VEVENT
BEGIN:VEVENT
DTSTART;TZID=Europe/Moscow:20250228T160000
DTEND;TZID=Europe/Moscow:20250228T170000
DTSTAMP:20260425T171111
CREATED:20250227T095400Z
LAST-MODIFIED:20250227T095400Z
UID:13309-1740758400-1740762000@icp-ras.ru
SUMMARY:Заседание Ученого совета ФИЦ ПХФ и МХ РАН
DESCRIPTION:Повестка дня:\n\n1. Замещение вакантной должности ведущего научного сотрудника (выступление Рыбкина Александра Юрьевича).\n2. Разное.
URL:https://icp-ras.ru/event/zasedanie-uchenogo-soveta-fic-pxf-i-mx-ran-9/
LOCATION:в режиме онлайн-конференции
ATTACH;FMTTYPE=image/jpeg:https://icp-ras.ru/wp-content/uploads/LOGO/SciCoun.jpg
END:VEVENT
END:VCALENDAR