BEGIN:VCALENDAR
VERSION:2.0
PRODID:-//ФЕДЕРАЛЬНЫЙ ИССЛЕДОВАТЕЛЬСКИЙ ЦЕНТР ПРОБЛЕМ ХИМИЧЕСКОЙ ФИЗИКИ И МЕДИЦИНСКОЙ ХИМИИ РАН - ECPv6.8.0//NONSGML v1.0//EN
CALSCALE:GREGORIAN
METHOD:PUBLISH
X-WR-CALNAME:ФЕДЕРАЛЬНЫЙ ИССЛЕДОВАТЕЛЬСКИЙ ЦЕНТР ПРОБЛЕМ ХИМИЧЕСКОЙ ФИЗИКИ И МЕДИЦИНСКОЙ ХИМИИ РАН
X-ORIGINAL-URL:https://icp-ras.ru
X-WR-CALDESC:Мероприятия для ФЕДЕРАЛЬНЫЙ ИССЛЕДОВАТЕЛЬСКИЙ ЦЕНТР ПРОБЛЕМ ХИМИЧЕСКОЙ ФИЗИКИ И МЕДИЦИНСКОЙ ХИМИИ РАН
REFRESH-INTERVAL;VALUE=DURATION:PT1H
X-Robots-Tag:noindex
X-PUBLISHED-TTL:PT1H
BEGIN:VTIMEZONE
TZID:Europe/Moscow
BEGIN:STANDARD
TZOFFSETFROM:+0300
TZOFFSETTO:+0300
TZNAME:MSK
DTSTART:20250101T000000
END:STANDARD
END:VTIMEZONE
BEGIN:VEVENT
DTSTART;TZID=Europe/Moscow:20250313T090000
DTEND;TZID=Europe/Moscow:20250313T120000
DTSTAMP:20260425T171225
CREATED:20250311T103256Z
LAST-MODIFIED:20250311T103738Z
UID:13741-1741856400-1741867200@icp-ras.ru
SUMMARY:Заседание ученого совета ФИЦ ПХФ и МХ РАН
DESCRIPTION:Повестка дня: \n13 марта 2025 г. 9:00 \n1. Научные доклады по итогам деятельности ФИЦ ПХФ и МХ РАН в 2024 г. 21 -й Конкурс на лучшую работу фундаментального характера \n\n\n Лазарев Илья Дмитриевич\, М. Нарожняк\, Т. Бернс\, Пырков А.Н. «Гибридный алгоритм кластеризации данных без учителя на основе самоорганизующейся карты признаков»\nВасильев Сергей Геннадьевич\, Фельдман Э.Б.\, Бочкин Г.А.\, Кузнецова Е.И. «Диссипативная динамика многоквантовых когерентностей ЯМР в двухспиновых системах»\nПалий Андрей Владимирович\, Цукерблат Б.С. «Исследование взаимосвязи магнитной анизотропии и рассеяния мощности при неадиабатическом выключении магнитного поля в парамагнитных комплексах переходных металлов с погашенными орбитальными моментами»\nРазумов Владимир Федорович\, Акимов А.В.\, Гак В.Ю.\, Назаров В.Б.\, Николенко Л.М.\, Певцов Д.Н.\, Попков Д.С.\, Товстун С.А. «Особенности проявления размерного эффекта в люминесценции коллоидных квантовых точек фосфида индия допированных ионами марганца»\nМочалова Валентина Михайловна\,Уткин А.В.\,Николаев Д.Н.\, Малков Г.В. «Ударная сжимаемость полимерных композиционных материалов до давления 370 Гпа»\nКузнецов П.М.\, Шестаков А.Ф.\, Трошин Павел Анатольевич «Стабильность материалов для органических солнечных батарей: от методологии оценки до предсказательной модели»\nГадомский С.Я.\, Третьяков Б.А.\, Балакина А.А.\, Филатова Н.В.\, Мумятова В.А.\, Сашенкова Т.Е.\, Климанова Е.Н.\, Коковина Т.С.\, Терентьев Алексей Алексеевич «Производные N-гидроксибутанамида: влияние на Zn-металлоферменты и противоопухолевый потенциал»\nТараканов Павел Александрович «1\,4-Диазепинопорфиразины как модель для изучения связи структура-свойство в тетрапиррольных макроциклах»\nКурмаз Светлана Викторовна\, Ульянов И.В.\, Емельянова Н.С.\, Рыбкин А.А.\, Балакина А.А.\, Амозова В.И.\, Мищенко Д.В. «Физико-химические основы создания эффективных транспортных платформ для гидрофобных фотосенсибилизаторов на основе оригинальных сополимеров N-винилпирролидона»\n\n\n2. Подведение итогов 21-го конкурса на лучшую работу фундаментального характера. (Тайное голосование)\n3. Разное.
URL:https://icp-ras.ru/event/zasedanie-uchenogo-soveta-fic-pxf-i-mx-ran-10/
ATTACH;FMTTYPE=image/jpeg:https://icp-ras.ru/wp-content/uploads/LOGO/SciCoun.jpg
END:VEVENT
END:VCALENDAR