BEGIN:VCALENDAR
VERSION:2.0
PRODID:-//ФЕДЕРАЛЬНЫЙ ИССЛЕДОВАТЕЛЬСКИЙ ЦЕНТР ПРОБЛЕМ ХИМИЧЕСКОЙ ФИЗИКИ И МЕДИЦИНСКОЙ ХИМИИ РАН - ECPv6.8.0//NONSGML v1.0//EN
CALSCALE:GREGORIAN
METHOD:PUBLISH
X-ORIGINAL-URL:https://icp-ras.ru
X-WR-CALDESC:Мероприятия для ФЕДЕРАЛЬНЫЙ ИССЛЕДОВАТЕЛЬСКИЙ ЦЕНТР ПРОБЛЕМ ХИМИЧЕСКОЙ ФИЗИКИ И МЕДИЦИНСКОЙ ХИМИИ РАН
REFRESH-INTERVAL;VALUE=DURATION:PT1H
X-Robots-Tag:noindex
X-PUBLISHED-TTL:PT1H
BEGIN:VTIMEZONE
TZID:Europe/Moscow
BEGIN:STANDARD
TZOFFSETFROM:+0300
TZOFFSETTO:+0300
TZNAME:MSK
DTSTART:20250101T000000
END:STANDARD
END:VTIMEZONE
BEGIN:VEVENT
DTSTART;TZID=Europe/Moscow:20250404T093000
DTEND;TZID=Europe/Moscow:20250404T103000
DTSTAMP:20260425T171314
CREATED:20250403T095200Z
LAST-MODIFIED:20250403T095200Z
UID:14131-1743759000-1743762600@icp-ras.ru
SUMMARY:Заседание секции №4 ФИЦ ПХФ и МХ РАН
DESCRIPTION:В повестке дня:\nГуцев Л. Г.\nОтчёт о зарубежной командировке (КНР)
URL:https://icp-ras.ru/event/zasedanie-sekcii-4-fic-pxf-i-mx-ran-3/
LOCATION:в режиме онлайн-конференции
ATTACH;FMTTYPE=image/jpeg:https://icp-ras.ru/wp-content/uploads/dis-sovet/icon/sci-4.jpg
END:VEVENT
BEGIN:VEVENT
DTSTART;TZID=Europe/Moscow:20250404T093000
DTEND;TZID=Europe/Moscow:20250404T120000
DTSTAMP:20260425T171315
CREATED:20250402T111242Z
LAST-MODIFIED:20250402T111242Z
UID:14087-1743759000-1743768000@icp-ras.ru
SUMMARY:Заседание секции № 5 Ученого Совета ФИЦ ПХФ и МХ РАН
DESCRIPTION:Повестка\nРассмотрение материалов\, предназначенных для открытого опубликования: \nСтатьи\n\n1. Карпов С.В.\, Панин Е.О.\, Джалмуханова А.С.\, Полякова Е.А.\, Перепелицина Е.О.\, Черняев Д.А.\, Бадамшина Э.Р. \nИсследование процессов формирования вододисперсионных полиуретанакрилатов на основе олигоизоциануратов изофорондиизоцианата. ВМС. \n2. Неласов И.В.\, Манохин С.С.\, Колобов Ю.Р.\, Жаховский В.В.\, Перов Е.А.\, Петров Ю.В.\, Хомич Ю.В.\, Малинский Т.В.\, Иногамов Н.А.\, Рогалин В.Е. \nЭволюция микроструктуры приповерхностного слоя меди при термоциклировании лазерными импульсами наносекундной длительности. Журнал экспериментальной и теоретической физики \n3. Гатауллин А.Р.\, Богданова С.А.\, Шевякова А.Э.\, Демидов С.В.\, Аллаяров С.Р. \nВлияние гамма – облучения папаина на физико – химические свойства его водных растворов. Химия высоких энергий \nТезисы \n1. Токмачева-Колобова А.Ю.\, Манохин С.С.\, Колобов Ю.Р. \nНаноструктурирование приповерхностных слоев сплавов титана в результате импульсной лазерной обработки. FLAMN (Iun.2025) Международный симпозиум «Основы лазерных микро-и нанотехнологий»\, г. Санкт-Петербург\, 24-27 июня 2025 года. \n2. Новиков А.С.\, Малков Г.В.\, Аккуратов А.В. \nСинтез метакрилатных мономеров для полимерной основы фоторезистов 248 и 193 нм. XXVI Международная научно-практическая конференция студентов и молодых ученых «Химия и химическая технология в XXI веке»\, 19-23 мая 2025\, г. Томск \n3. Ершов\, А.А.\, Огаркова И.В.\, Шашков Н.Д. \nИсследование побочных реакций\, влияющих на окрашивание полимера в процессе анионной полимеризации акрилонитрила. XXVI Международная научно-практическая конференция студентов и молодых ученых «Химия и химическая технология в XXI веке»\, 19-23 мая 2025\, г. Томск
URL:https://icp-ras.ru/event/zasedanie-sekcii-5-uchenogo-soveta-fic-pxf-i-mx-ran-26/
LOCATION:актовый зал корп. 2/2
ATTACH;FMTTYPE=image/jpeg:https://icp-ras.ru/wp-content/uploads/dis-sovet/icon/sci-5.jpg
END:VEVENT
BEGIN:VEVENT
DTSTART;TZID=Europe/Moscow:20250404T103000
DTEND;TZID=Europe/Moscow:20250404T113000
DTSTAMP:20260425T171315
CREATED:20250403T095009Z
LAST-MODIFIED:20250403T095009Z
UID:14128-1743762600-1743766200@icp-ras.ru
SUMMARY:Семинар отдела нанофотоники
DESCRIPTION:на семинаре отдела нанофотоники будет представлен доклад: \nСабирова Дениса Шамилевича – доктора химических наук\, профессора Академии наук Республики Башкортостан. \nдиректора Института нефтехимии и катализа Уфимского федерального исследовательского центра РАН\, \nна тему “Физическая и цифровая химия фуллеренов и полициклических ароматических углеводородов – соединений\, перспективных для материаловедения на основе наноуглерода”. \nПриглашаются все заинтересованные.
URL:https://icp-ras.ru/event/seminar-otdela-nanofotoniki/
LOCATION:актовый зал корпуса 2/10
ATTACH;FMTTYPE=image/jpeg:https://icp-ras.ru/wp-content/uploads/nauka-otdely/nanofotonika/ONF.jpg
END:VEVENT
BEGIN:VEVENT
DTSTART;TZID=Europe/Moscow:20250404T150000
DTEND;TZID=Europe/Moscow:20250404T170000
DTSTAMP:20260425T171315
CREATED:20250402T192911Z
LAST-MODIFIED:20250402T192911Z
UID:14114-1743778800-1743786000@icp-ras.ru
SUMMARY:заседание Научного семинара Ученого совета ФИЦ ПХФ и МХ РАН
DESCRIPTION:Повестка дня:\nЯрославов Александр Анатольевич\, член-корреспондент РАН\, заведующий  Кафедрой высокомолекулярных соединений Химического факультета МГУ имени М.В. Ломоносова выступит с докладом\n«Универсальные полимерные связующие для почв и грунтов». \nПриглашаются все желающие.
URL:https://icp-ras.ru/event/zasedanie-nauchnogo-seminara-uchenogo-soveta-fic-pxf-i-mx-ran/
LOCATION:актовый зал корпуса общего назначения\, пр. Академика Н.Н. Семенова\, д. 1\, Черноголовка
ATTACH;FMTTYPE=image/jpeg:https://icp-ras.ru/wp-content/uploads/LOGO/SciCoun.jpg
END:VEVENT
END:VCALENDAR