BEGIN:VCALENDAR
VERSION:2.0
PRODID:-//ФЕДЕРАЛЬНЫЙ ИССЛЕДОВАТЕЛЬСКИЙ ЦЕНТР ПРОБЛЕМ ХИМИЧЕСКОЙ ФИЗИКИ И МЕДИЦИНСКОЙ ХИМИИ РАН - ECPv6.8.0//NONSGML v1.0//EN
CALSCALE:GREGORIAN
METHOD:PUBLISH
X-WR-CALNAME:ФЕДЕРАЛЬНЫЙ ИССЛЕДОВАТЕЛЬСКИЙ ЦЕНТР ПРОБЛЕМ ХИМИЧЕСКОЙ ФИЗИКИ И МЕДИЦИНСКОЙ ХИМИИ РАН
X-ORIGINAL-URL:https://icp-ras.ru
X-WR-CALDESC:Мероприятия для ФЕДЕРАЛЬНЫЙ ИССЛЕДОВАТЕЛЬСКИЙ ЦЕНТР ПРОБЛЕМ ХИМИЧЕСКОЙ ФИЗИКИ И МЕДИЦИНСКОЙ ХИМИИ РАН
REFRESH-INTERVAL;VALUE=DURATION:PT1H
X-Robots-Tag:noindex
X-PUBLISHED-TTL:PT1H
BEGIN:VTIMEZONE
TZID:Europe/Moscow
BEGIN:STANDARD
TZOFFSETFROM:+0300
TZOFFSETTO:+0300
TZNAME:MSK
DTSTART:20250101T000000
END:STANDARD
END:VTIMEZONE
BEGIN:VEVENT
DTSTART;TZID=Europe/Moscow:20250411T100000
DTEND;TZID=Europe/Moscow:20250411T120000
DTSTAMP:20260425T151625
CREATED:20250409T133648Z
LAST-MODIFIED:20250409T133648Z
UID:14193-1744365600-1744372800@icp-ras.ru
SUMMARY:Заседание секции №3 Ученого совета ФИЦ ПХФ и МХ РАН
DESCRIPTION:Повестка\nРассмотрение материалов для публикации в открытой печати:\n1. Оlesya V. Pokidova\, Veronika O. Novikova\, Nina S. Emel’yanova\, Karina S. Ruina\, Ludmila M. Mazina\, Alina S. Konyukhova\, Alexander V. Kulikov\, Gennadii V. Shilov\, Andrey N. Utenyshev\, Maxim A. Blagov\, Alexandra A. Terekhova\, Tat’yana S. Stupina and Natalya A. Sanina “Novel Roussin´s Red salt Esters as cardiovascular protectors: “structure-activity” correlations\, properties in solid state and solutions” \n2. Тезисы докладов на конференции.
URL:https://icp-ras.ru/event/zasedanie-sekcii-3-uchenogo-soveta-fic-pxf-i-mx-ran-22/
LOCATION:в режиме онлайн-конференции
ATTACH;FMTTYPE=image/jpeg:https://icp-ras.ru/wp-content/uploads/dis-sovet/icon/sci-3.jpg
END:VEVENT
BEGIN:VEVENT
DTSTART;TZID=Europe/Moscow:20250411T103000
DTEND;TZID=Europe/Moscow:20250411T123000
DTSTAMP:20260425T151625
CREATED:20250409T081836Z
LAST-MODIFIED:20250409T081836Z
UID:14184-1744367400-1744374600@icp-ras.ru
SUMMARY:Семинар отдела нанофотоники
DESCRIPTION:Емельяненко Александр Вячеславович\, д.ф.-м.н\, проф. РАН\, в.н.с. физического факультета МГУ им. М.В. Ломоносова\n“Разработка молекулярных основ фундаментальных знаний о современных жидких кристаллах” \nВ докладе будут представлены результаты автора по молекулярной теории\nсовременных жидких кристаллов (ЖК):\n– Молекулярная теория фазовых переходов;\n– Фотоуправление ориентационной структурой в каплях нематических ЖК;\n– ЖК для дисплеев с последовательным чередованием цветов подсветки;\n– Молекулярная теория\, описывающая иерархию ферриэлектрических фаз;\n– Молекулярная теория возвратных фаз в ЖК-производных молочной кислоты;\n– Молекулярная теория фракталов в сегнетоэлектрических нематиках;\n– Теория рекомбинации димеров и полимеров с динамическими связями\, витримеры; \n  \nПриглашаются все желающие
URL:https://icp-ras.ru/event/seminar-otdela-nanofotoniki-2/
LOCATION:актовый зал корпуса 2/10
ATTACH;FMTTYPE=image/jpeg:https://icp-ras.ru/wp-content/uploads/nauka-otdely/nanofotonika/ONF.jpg
END:VEVENT
END:VCALENDAR