BEGIN:VCALENDAR
VERSION:2.0
PRODID:-//ФЕДЕРАЛЬНЫЙ ИССЛЕДОВАТЕЛЬСКИЙ ЦЕНТР ПРОБЛЕМ ХИМИЧЕСКОЙ ФИЗИКИ И МЕДИЦИНСКОЙ ХИМИИ РАН - ECPv6.8.0//NONSGML v1.0//EN
CALSCALE:GREGORIAN
METHOD:PUBLISH
X-WR-CALNAME:ФЕДЕРАЛЬНЫЙ ИССЛЕДОВАТЕЛЬСКИЙ ЦЕНТР ПРОБЛЕМ ХИМИЧЕСКОЙ ФИЗИКИ И МЕДИЦИНСКОЙ ХИМИИ РАН
X-ORIGINAL-URL:https://icp-ras.ru
X-WR-CALDESC:Мероприятия для ФЕДЕРАЛЬНЫЙ ИССЛЕДОВАТЕЛЬСКИЙ ЦЕНТР ПРОБЛЕМ ХИМИЧЕСКОЙ ФИЗИКИ И МЕДИЦИНСКОЙ ХИМИИ РАН
REFRESH-INTERVAL;VALUE=DURATION:PT1H
X-Robots-Tag:noindex
X-PUBLISHED-TTL:PT1H
BEGIN:VTIMEZONE
TZID:Europe/Moscow
BEGIN:STANDARD
TZOFFSETFROM:+0300
TZOFFSETTO:+0300
TZNAME:MSK
DTSTART:20250101T000000
END:STANDARD
END:VTIMEZONE
BEGIN:VEVENT
DTSTART;TZID=Europe/Moscow:20250418T093000
DTEND;TZID=Europe/Moscow:20250418T120000
DTSTAMP:20260425T151534
CREATED:20250415T164357Z
LAST-MODIFIED:20250415T164357Z
UID:14411-1744968600-1744977600@icp-ras.ru
SUMMARY:Заседание секции № 5 Ученого Совета ФИЦ ПХФ и МХ РАН
DESCRIPTION:Повестка\nРассмотрение материалов\, предназначенных для открытого опубликования: \nСтатьи: \n\nФайнгольд Е.Е.\, Жарков И.В.\, Саратовских С.Л.\, Панин А.Н.\, Лашманов Н.Н.\, Винников Д.С.\, Черняк А.В.\, Бравая Н.М.\n1H ЯМР исследование активации rac-Et(2-MeInd)2ZrMe2 арилоксидом диизобутилалюминия (2\,6-tBu2PhO-)AliBu2 // Petroleum Chemistry \n2. Демидов С. В.\, Руднева Т. Н.\, Елчева В.О.\, Аллаяров С. Р.\nВлияние дозы гамма – облучения на ИК-Фурье спектры порошка поливинилхлорида // «Химия высоких энергий». \nТезисы:\n\n1. Никитина Е.А.\, Сорин Е.С.\, Баймуратова Р.К.\, Букичев Ю.С.\, Джардималиева Г.И.\nМеталлосополимеры акриловой кислоты\, акриламида и 4-винилпиридина\, обладающие автономным внутренним заживлением.\nдоклада на Международную научную конференцию студентов\, аспирантов и молодых учёных «Ломоносов-2025»\, г. Москва\, 11-25 апреля 2025 года. \n2. Сорин Е.С.\, Баймуратова Р.К.\, Джардималиева Г.И.\nВысокопрочные самозаживляющиеся металлосополимеры акриламида и акриловый кислоты: получение\, свойства и особенности процессов восстановления.\nТезисы доклада на I Всероссийскую конференцию «Полимеры и композиты на их основе: прикладные и экологические решения»\, г. Казань\, 21-24 апреля 2025 года. \n3. Иванова Е. К.\, Марченкова Е. Н.\, Сидоров В. Л.\, Джардималиева Г. И.\, Дзеранов А. А.\, Букичев Ю. С.\, Айзятуллов А. С.\, Гладкова К. И.\nМагнитоуправляемый композит железосодержащих металл-органических каркасов с частицами магнетита для разложения органических загрязнителей по реакции Фентона.\nМеждународная научно-практическая конференция «Неделя молодежной науки»\, 28-30 Апреля 2025 г.\, г. Москва. \n4. Заморецков Д.С.\, Агапитова М.М.\, Гапанович М.В.\, Конушкин И.А.\, Перепелицина Е.О.\, Теплякова М.М.\, Слесаренко Н.А.\, Капашаров А.Т.\, Аккуратов А.В.\nИнженерия алкильных заместителей в тиенопирролодионсодержащих полимерах: путь к повышению эффективности перовскитных фотоэлементов\nIV Национальная научно-практическая конференция «Фундаментальные\, поисковые\, прикладные исследования и инновационные проекты»\, 28-30 мая 2025г\, Балтийский федеральный университет им. И.Канта\, г. Калининград. \n5. Агапитова М.М.\, Новиков А.В.\, Живчикова А.Н.\, Трепалин О.Р.\, Кузнецов И.Е.\, Парфенова О.Р.\, Загоровская К.Д.\, Малкин Н.А.\, Бротсман В.А.\, Жижин Е.В.\, Королева А.В.\, Барышев С.А.\, Гольдт А.Е.\, Болдырева А.Г.\, Аккуратов А.В.\, Горюнков А.А.\, Лучкин С.Ю.\, Теплякова М.М.\nРациональная инженерия электрон-транспортного слоя – ключ к повышению стабильности широкозонных перовскитных солнечных батарей для помещений\nIV Национальная научно-практическая конференция «Фундаментальные\, поисковые\, прикладные исследования и инновационные проекты»\, 28-30 мая 2025г\, Балтийский федеральный университет им. И.Канта\, г. Калининград. \n6. Живчикова А.Н.\, Теплякова М.М.\, Пирязев А.А.\, Кузнецов И.Е.\, Сидельцев М.Е.\, Сагдуллина Д.К.\, Насибулин А.Г\, Аккуратов А.В.\nВлияние природы растворителя на эффективность перовскитных солнечных батарей с дырочно-транспортным слоем на основе бензо[1\,2-В:4\,5-В’]дитиофена\nIV Национальная научно-практическая конференция «Фундаментальные\, поисковые\, прикладные исследования и инновационные проекты»\, 28-30 мая 2025г\, Балтийский федеральный университет им. И.Канта\, г. Калининград. \n7. Неласов И.В.\, Манохин С.С.\, Максименко В.Н.\, Киселев Е.В.\, Колобов Ю.Р.\nИсследование фазовых переходов в титане при воздействии импульсных высоких давлений.\nV Международная научная конференция «Техническая акустика: разработки\, проблемы\, перспективы»\, г. Тольятти\, Россия\,19-21 мая 2025 года \n8. Рогалин В.Е.\, Жаховский В.В.\, Иногамов Н.А.\, Колобов Ю.Р.\, Манохин С.С.\, Малинский Т.В.\, Неласов И.В.\, Перов Е.А.\, Петров Ю.В.\, Хомич Ю.В.\nТермоциклирование поверхности меди в доабляционном режиме при нагреве уф лазерными наносекундными импульсами.\nМеждународная конференция ФизикА\, г. Санкт-Петербург\, Россия\,20-24 октября 2025 года \n9. Perov E.A.\, Nelasov I.V.\, Manokhin S.S.\,Kolobov Yu.R.\, Zhakhovsky V.V.\, Inogamov N.A.\, Homich Yu.V.\, Malinsky T.V.\, Rogalin V.E.\nRelief formation on copper polycrystal by laser thermal cycling\nXL Fortov International Conference on Interaction of Intense Energy Fluxes with Matter March 1-6\, 2025\, Elbrus\, Kabardino-Balkaria \n10. Nelasov I.V.\, Manokhin S.S.\, Kolobov Yu.R.\, Zhakhovsky V.V.\, Perov E.A.\, Khomich Yu.V.\, Inogamov N.A.\, Malinsky T.V.\, Rogalin V.E.\nRegularities and mechanisms of copper surface relief formation under pulsed laser action\nXL Fortov International Conference on Interaction of Intense Energy Fluxes with Matter March 1-6\, 2025\, Elbrus\, Kabardino-Balkaria\n\nместо проведения: в актовом зале корпуса 2/2
URL:https://icp-ras.ru/event/zasedanie-sekcii-5-uchenogo-soveta-fic-pxf-i-mx-ran-27/
LOCATION:в режиме онлайн-конференции
ATTACH;FMTTYPE=image/jpeg:https://icp-ras.ru/wp-content/uploads/dis-sovet/icon/sci-5.jpg
END:VEVENT
END:VCALENDAR