BEGIN:VCALENDAR
VERSION:2.0
PRODID:-//ФЕДЕРАЛЬНЫЙ ИССЛЕДОВАТЕЛЬСКИЙ ЦЕНТР ПРОБЛЕМ ХИМИЧЕСКОЙ ФИЗИКИ И МЕДИЦИНСКОЙ ХИМИИ РАН - ECPv6.8.0//NONSGML v1.0//EN
CALSCALE:GREGORIAN
METHOD:PUBLISH
X-WR-CALNAME:ФЕДЕРАЛЬНЫЙ ИССЛЕДОВАТЕЛЬСКИЙ ЦЕНТР ПРОБЛЕМ ХИМИЧЕСКОЙ ФИЗИКИ И МЕДИЦИНСКОЙ ХИМИИ РАН
X-ORIGINAL-URL:https://icp-ras.ru
X-WR-CALDESC:Мероприятия для ФЕДЕРАЛЬНЫЙ ИССЛЕДОВАТЕЛЬСКИЙ ЦЕНТР ПРОБЛЕМ ХИМИЧЕСКОЙ ФИЗИКИ И МЕДИЦИНСКОЙ ХИМИИ РАН
REFRESH-INTERVAL;VALUE=DURATION:PT1H
X-Robots-Tag:noindex
X-PUBLISHED-TTL:PT1H
BEGIN:VTIMEZONE
TZID:Europe/Moscow
BEGIN:STANDARD
TZOFFSETFROM:+0300
TZOFFSETTO:+0300
TZNAME:MSK
DTSTART:20250101T000000
END:STANDARD
END:VTIMEZONE
BEGIN:VEVENT
DTSTART;TZID=Europe/Moscow:20250425T103000
DTEND;TZID=Europe/Moscow:20250425T123000
DTSTAMP:20260425T151532
CREATED:20250422T184146Z
LAST-MODIFIED:20250422T184146Z
UID:14724-1745577000-1745584200@icp-ras.ru
SUMMARY:Заседание секции № 5 Ученого Совета ФИЦ ПХФ и МХ РАН
DESCRIPTION:Повестка\nРассмотрение материалов\, предназначенных для открытого опубликования: \nСтатьи \n1.  Курмаз С.В.\, Баранникова Л.В.\, Лесничая В.А.\, Черняев Д.А.\, Белозерская Г.Г.\nПолучение и характеризация макромолекулярных пористых структур на основе линейного и сшитого альгината натрия // Журнал Прикладной химии \n2. Васильев А.Л.\, Криштал М.М.\, Григорьев Ю.В.\, Полунин А.В.\, Родин А.О.\, Колобов Ю.Р.\nМикроструктурные изменения в магниевом сплаве Mg-Zn-REE после облучения лазерными импульсами наносекундной длительности // Кристаллография \n3. Подвальная Ю.В.\, Баймуратова Г.Р.\, Черняев Д.А.\, Тарасов А.Е.\, Грищук А.А.\, Царева А.Д.\, Иванов Д.А.\, Мумятов А.В.\, Ярмоленко О.В.\,Бадамшина Э.Р.\nПолимерные гель-электролиты на основе полиакрилонитрила\, полученного анионной полимеризацией\, для литий-полиимидных аккумуляторов // Высокомолекулярные соединения \nТезисы \n1. Курмаз С.В.\, Емельянова Н.С.\, Жиленков А.В.\, Полетаева Д.А.\, Смолина А.В.\, Файнгольд И.И.\nЭкспериментальное и теоретическое исследование межмолекулярных взаимодействий между бычьим сывороточным альбумином и наноразмерными системами гидрофобных флуоресцентных красителей на основе амфифильных сополимеров N-винилпирролидона.\nТезисы доклада на Х Всероссийскую школу-конференцию молодых ученых «Органические и гибридные наноматериалы». Россия\, Иваново\, 16-20 июня 2025. \n2. Смолина А.В.\, Королева К.Р.\, Астафьев О.М.\, Полетаева Д.А.\, Курмаз С.В.\, Файнгольд И.И.\nНаноразмерные системы куркумина на основе сополимеров n-винилпирролидона и их антиоксидантная активность.\nТезисы доклада на Х Всероссийскую школу-конференцию молодых ученых «Органические и гибридные наноматериалы». Россия\, Иваново\, 16-20 июня 2025. \n3. Ульянов И.В.\, Рыбкин А.Ю.\, Ходос И.И.\, Емельянова Н.С.\, Курмаз С.В.\nФотофизические свойства наноразмерного гидрофобного метилфеофорбида а в составе полимерных композиций и его перспективы для фотодинамической терапии\nТезисы доклада на Х Всероссийскую школу-конференцию молодых ученых «Органические и гибридные наноматериалы». Россия\, Иваново\, 16-20 июня 2025.
URL:https://icp-ras.ru/event/zasedanie-sekcii-5-uchenogo-soveta-fic-pxf-i-mx-ran-28/
LOCATION:актовый зал корп. 2/2
ATTACH;FMTTYPE=image/jpeg:https://icp-ras.ru/wp-content/uploads/dis-sovet/icon/sci-5.jpg
END:VEVENT
BEGIN:VEVENT
DTSTART;TZID=Europe/Moscow:20250425T110000
DTEND;TZID=Europe/Moscow:20250425T123000
DTSTAMP:20260425T151532
CREATED:20250422T184457Z
LAST-MODIFIED:20250422T184457Z
UID:14728-1745578800-1745584200@icp-ras.ru
SUMMARY:Заседание семинара "Макрокинетика и процессы горения"
DESCRIPTION:Повестка: \nВан Гуанькай (студент 2 года магистратуры) \nДоклад по результатам выполнения дипломной работы “МАТЕМАТИЧЕСКОЕ МОДЕЛИРОВАНИЕ ПИРОЛИЗА МЕТАНА В РЕАКТОРЕ ФИЛЬТРАЦИОННОГО ГОРЕНИЯ С ПОДВИЖНЫМ СЛОЕМ ТЕПЛОНОСИТЕЛЯ”
URL:https://icp-ras.ru/event/zasedanie-seminara-makrokinetika-i-processy-goreniya-12/
LOCATION:корпус 1/6\, ком.18
ATTACH;FMTTYPE=image/jpeg:https://icp-ras.ru/wp-content/uploads/dis-sovet/icon/sci-1.jpg
END:VEVENT
BEGIN:VEVENT
DTSTART;TZID=Europe/Moscow:20250425T150000
DTEND;TZID=Europe/Moscow:20250425T170000
DTSTAMP:20260425T151532
CREATED:20250422T184316Z
LAST-MODIFIED:20250422T184316Z
UID:14726-1745593200-1745600400@icp-ras.ru
SUMMARY:Научный семинар Ученого совета ФИЦ ПХФ и МХ РАН
DESCRIPTION:Повестка дня: \n1. Будникова Юлия Германовна\, дхн\, проф.\, глнс\, заведующая Лабораторией электрохимического синтеза (ИОФХ им. А.Е. Арбузова ФИЦ КазНЦ РАН) \n«Электрохимический органический синтез и исследование материалов. Возможности и перспективы». \n2. Яхваров Дмитрий Григорьевич\, дхн\, глнс\, профессор РАН\, заведующий Лабораторией металлоорганических и координационных соединений (ИОФХ им. А.Е.Арбузова ФИЦ КазНЦ РАН) \n«Интермедиаты каталитических процессов с участием элементного фосфора» \nПриглашаются все желающие.
URL:https://icp-ras.ru/event/nauchnyj-seminar-uchenogo-soveta-fic-pxf-i-mx-ran-3/
LOCATION:актовый зал корпуса общего назначения\, пр. Академика Н.Н. Семенова\, д. 1\, Черноголовка
ATTACH;FMTTYPE=image/jpeg:https://icp-ras.ru/wp-content/uploads/LOGO/SciSec.jpg
END:VEVENT
END:VCALENDAR