BEGIN:VCALENDAR
VERSION:2.0
PRODID:-//ФЕДЕРАЛЬНЫЙ ИССЛЕДОВАТЕЛЬСКИЙ ЦЕНТР ПРОБЛЕМ ХИМИЧЕСКОЙ ФИЗИКИ И МЕДИЦИНСКОЙ ХИМИИ РАН - ECPv6.8.0//NONSGML v1.0//EN
CALSCALE:GREGORIAN
METHOD:PUBLISH
X-WR-CALNAME:ФЕДЕРАЛЬНЫЙ ИССЛЕДОВАТЕЛЬСКИЙ ЦЕНТР ПРОБЛЕМ ХИМИЧЕСКОЙ ФИЗИКИ И МЕДИЦИНСКОЙ ХИМИИ РАН
X-ORIGINAL-URL:https://icp-ras.ru
X-WR-CALDESC:Мероприятия для ФЕДЕРАЛЬНЫЙ ИССЛЕДОВАТЕЛЬСКИЙ ЦЕНТР ПРОБЛЕМ ХИМИЧЕСКОЙ ФИЗИКИ И МЕДИЦИНСКОЙ ХИМИИ РАН
REFRESH-INTERVAL;VALUE=DURATION:PT1H
X-Robots-Tag:noindex
X-PUBLISHED-TTL:PT1H
BEGIN:VTIMEZONE
TZID:Europe/Moscow
BEGIN:STANDARD
TZOFFSETFROM:+0300
TZOFFSETTO:+0300
TZNAME:MSK
DTSTART:20250101T000000
END:STANDARD
END:VTIMEZONE
BEGIN:VEVENT
DTSTART;TZID=Europe/Moscow:20250516T093000
DTEND;TZID=Europe/Moscow:20250516T113000
DTSTAMP:20260425T133214
CREATED:20250513T220300Z
LAST-MODIFIED:20250513T220300Z
UID:14967-1747387800-1747395000@icp-ras.ru
SUMMARY:Заседание cекции № 5 Ученого Совета ФИЦ ПХФ и МХ РАН
DESCRIPTION:Повестка\nРассмотрение материалов\, предназначенных для открытого опубликования: \nСтатья \n1. Martynov I.V.\, Agapitova M.M.\, Kuznetsov I.E.\, Volkov V.S.\,. Tepliakova M.M\, Akkuratov A.V.\, Arsenin A.V.\nMolecular Design of Star-Shaped Conjugated Small Molecule HTMs for High-Efficiency Perovskite SolarCells: Structure-Performance Insights. // RSC Advances\, 2025 \nТезисы \n1. Терещенко М.Д.\, Живчикова А.Н.\, Гапанович М.В.\, Перепелицина Е.О.\, Аккуратов А.В.\, Кузнецов И.В.\nОрганические полупроводниковые материалы на основе трифениламина\nТезисы доклада на XXI Международную научно-практическую конференцию «Новые полимерные композиционные материалы. Микитаевские чтения»\, п.Эльбрус\, 06-11 июля 2025г. \n2. Тарасов А.Е.\, Курбатов В.Г.\, Пугачёва Т.А.\, Варламов Д.А.\, Сенченко Н.С.\, Давыдова Е.С.\, Подвальная Ю.В.\, Бадамшина Э.Р\nПАВ для безметального проявителя\, использующегося в процессе фотолитографии\nТезисы доклада на XXI Международную научно-практическую конференцию «Новые полимерные композиционные материалы. Микитаевские чтения»\, п. Эльбрус\, 06-11 июля 2025г. \n3. Бороздина А.А.\, Князев М.А.\, Курбатов В.Г.\nРазработка электронно-лучевых резисторов на основе сополимеров метилметакрилата и метакриловой кислоты\nТезисы доклада на “Черноголовскую конференцию по электронной микроскопии 2025”.
URL:https://icp-ras.ru/event/zasedanie-cekcii-5-uchenogo-soveta-fic-pxf-i-mx-ran-4/
LOCATION:актовый зал корп. 2/2
ATTACH;FMTTYPE=image/jpeg:https://icp-ras.ru/wp-content/uploads/dis-sovet/icon/sci-5.jpg
END:VEVENT
BEGIN:VEVENT
DTSTART;TZID=Europe/Moscow:20250516T093000
DTEND;TZID=Europe/Moscow:20250516T120000
DTSTAMP:20260425T133214
CREATED:20250514T135430Z
LAST-MODIFIED:20250514T135430Z
UID:14978-1747387800-1747396800@icp-ras.ru
SUMMARY:Заседание cекции № 4 Ученого Совета ФИЦ ПХФ и МХ РАН
DESCRIPTION:Повестка\nРассмотрение материалов\, предназначенных для открытого опубликования: \n1. Белонович В. Л.\nA. Palii\, V. Belonovich\, S. Aldoshin\, B. Tsukerblat “Non-equilibrium magnetothermal effects in Ising dimers: Relevance to the problem of low-temperature magnetic refrigeration”\nСтатья в журнал Dalton Trasactions \n2. Белонович В. Л.\nA. Palii\, V. Belonovich\, S. Aldoshin\, B. Tsukerblat “Modelling thermal effects in Heisenberg dimers initiated by fast magnetic field switching off”\nСтатья в журнал The Journal of Chemical Physics \n3. Е.В. Дворецкая\nЕ.В. Дворецкая\, С.А. Галимуллин\, Р.А. Валеев\, В.П. Пискорский\, Р.Б. Моргунов “Восстановление аморфной атомной структуры и магнитных доменов в микропроводах RE-TM-B методами термической и лазерной обработки”\nСтатья в журнал “Труды ВИАМ” \n4. М.В. Бахметьев\nМ.В. Бахметьев\, А.В. Садовников\, В.А. Губанов\, В.В. Савин \, Р.Б. Моргунов “Смещение резонансных частот рассеяния при изменении интерфейса NiFe/Spacer/IrMn в обменно-смещенных тонких пленках”\nСтатья в журнал Физика твердого тела. \n5. Палий А.В.\nA. Палий\, Б. Цукерблат “Kinetic superexchange in a pair of pseudo-Jahn-Teller magnetic ions: Towards modelling cooperative phenomena at the molecular level”\nТезисы доклада на 26th International Conference on the Jahn-Teller Effect:Vibronic Coupling and Jahn-Teller Effects in Molecules\, Solids\, and Nanoscale Materials\nMay 5-9\, 2025 Online \n6. Палий А.В.\nБ. Цукерблат\, A. Палий\, Ш. Зильберг “Molecular Quantum Cellular Automata: Basic Principles from the Jahn–Teller Perspective”\nТезисы доклада на 26th International Conference on the Jahn-Teller Effect:Vibronic Coupling and Jahn-Teller Effects in Molecules\, Solids\, and Nanoscale Materials\nMay 5-9\, 2025 Online
URL:https://icp-ras.ru/event/zasedanie-cekcii-4-uchenogo-soveta-fic-pxf-i-mx-ran-5/
LOCATION:в режиме онлайн-конференции
ATTACH;FMTTYPE=image/jpeg:https://icp-ras.ru/wp-content/uploads/dis-sovet/icon/sci-4.jpg
END:VEVENT
BEGIN:VEVENT
DTSTART;TZID=Europe/Moscow:20250516T150000
DTEND;TZID=Europe/Moscow:20250516T170000
DTSTAMP:20260425T133214
CREATED:20250513T220442Z
LAST-MODIFIED:20250513T220442Z
UID:14969-1747407600-1747414800@icp-ras.ru
SUMMARY:Научный семинар Ученого совета ФИЦ ПХФ и МХ РАН
DESCRIPTION:Повестка дня: \n  \n1. Вошкин Андрей Алексеевич доктор технических наук\, профессор\, член-корреспондент РАН\, заведующий лабораторией теоретических основ химической технологии\, заместитель директора по научной работе ИОНХ РАН\n«Доступные экстракционные технологии: химия и аппаратурное оформление»\n\n2. Карлов Сергей Сергеевич\, профессор РАН\, и.о.декана химического факультета МГУ\n«Органические лиганды — как определяющий фактор в реакциях с участием комплексов металлов и металлоидов»\n\n3. Пискунов Александр Владимирович\, д.х.н.\, профессор РАН\, зам. директора по научной работе Института металлоорганической химии им. Г.А. Разуваева РАН\n«Многофункциональные металлокомплексы с редокс-активными лигандами. Синтез и практически полезные свойства». \n  \nПриглашаются все желающие.
URL:https://icp-ras.ru/event/nauchnyj-seminar-uchenogo-soveta-fic-pxf-i-mx-ran-4/
LOCATION:актовый зал корпуса общего назначения\, пр. Академика Н.Н. Семенова\, д. 1\, Черноголовка
ATTACH;FMTTYPE=image/jpeg:https://icp-ras.ru/wp-content/uploads/LOGO/SciCoun.jpg
END:VEVENT
END:VCALENDAR