BEGIN:VCALENDAR
VERSION:2.0
PRODID:-//ФЕДЕРАЛЬНЫЙ ИССЛЕДОВАТЕЛЬСКИЙ ЦЕНТР ПРОБЛЕМ ХИМИЧЕСКОЙ ФИЗИКИ И МЕДИЦИНСКОЙ ХИМИИ РАН - ECPv6.8.0//NONSGML v1.0//EN
CALSCALE:GREGORIAN
METHOD:PUBLISH
X-WR-CALNAME:ФЕДЕРАЛЬНЫЙ ИССЛЕДОВАТЕЛЬСКИЙ ЦЕНТР ПРОБЛЕМ ХИМИЧЕСКОЙ ФИЗИКИ И МЕДИЦИНСКОЙ ХИМИИ РАН
X-ORIGINAL-URL:https://icp-ras.ru
X-WR-CALDESC:Мероприятия для ФЕДЕРАЛЬНЫЙ ИССЛЕДОВАТЕЛЬСКИЙ ЦЕНТР ПРОБЛЕМ ХИМИЧЕСКОЙ ФИЗИКИ И МЕДИЦИНСКОЙ ХИМИИ РАН
REFRESH-INTERVAL;VALUE=DURATION:PT1H
X-Robots-Tag:noindex
X-PUBLISHED-TTL:PT1H
BEGIN:VTIMEZONE
TZID:Europe/Moscow
BEGIN:STANDARD
TZOFFSETFROM:+0300
TZOFFSETTO:+0300
TZNAME:MSK
DTSTART:20250101T000000
END:STANDARD
END:VTIMEZONE
BEGIN:VEVENT
DTSTART;TZID=Europe/Moscow:20250530T093000
DTEND;TZID=Europe/Moscow:20250530T120000
DTSTAMP:20260423T145927
CREATED:20250528T112055Z
LAST-MODIFIED:20250528T112055Z
UID:15208-1748597400-1748606400@icp-ras.ru
SUMMARY:Заседание cекции № 5 Ученого Совета ФИЦ ПХФ и МХ РАН
DESCRIPTION:Повестка: \n\n1. Рассмотрение материалов\, предназначенных для открытого опубликования.\n\nТезисы докладов на Х Всероссийскую школу-конференцию молодых ученых «Органические и гибридные наноматериалы» Россия\, Иваново\, 16-20 июня 2025 г :\n\n \n\nАккуратов А.В. Подходы к разработке органических полупроводниковых материалов для органической и гибридной электроники.\n\n\n Заморецков Д.С.\, Живчикова А.Н.\, Никитенко Н.Г.\, Теплякова М.М.\, Кузнецов И.Е.\, Конушкин И.А.\, Аккуратов А.В. Влияние блока a’ вдырочно-транспортных полимерах с [x-da’d]n архитектурой на характеристики устройств гибридной тонкопленочной электроники.\n\n\n Кузнецов И.Е.\, Живчикова А.Н.\, Теплякова М.М.\, Аккуратов А.В. Сопряженные полимеры на основе тиазолотиазола перспективные полупроводники для органической и гибриднойэлектроники.\n\n\n Сидельцев М.Е.\, Кузнецов И.Е.\, Пирязев А.А.\, Анохин Д.В.\, Ахкямова А.Ф.\, Аккуратов А.В. Разработка органических полупроводниковых материалов донорно-акцепторного типа для высокоэффективных устройств тонкопленочной электроники.
URL:https://icp-ras.ru/event/zasedanie-cekcii-5-uchenogo-soveta-fic-pxf-i-mx-ran-5/
LOCATION:актовый зал корп. 2/2
ATTACH;FMTTYPE=image/jpeg:https://icp-ras.ru/wp-content/uploads/dis-sovet/icon/sci-5.jpg
END:VEVENT
END:VCALENDAR