BEGIN:VCALENDAR
VERSION:2.0
PRODID:-//ФЕДЕРАЛЬНЫЙ ИССЛЕДОВАТЕЛЬСКИЙ ЦЕНТР ПРОБЛЕМ ХИМИЧЕСКОЙ ФИЗИКИ И МЕДИЦИНСКОЙ ХИМИИ РАН - ECPv6.8.0//NONSGML v1.0//EN
CALSCALE:GREGORIAN
METHOD:PUBLISH
X-ORIGINAL-URL:https://icp-ras.ru
X-WR-CALDESC:Мероприятия для ФЕДЕРАЛЬНЫЙ ИССЛЕДОВАТЕЛЬСКИЙ ЦЕНТР ПРОБЛЕМ ХИМИЧЕСКОЙ ФИЗИКИ И МЕДИЦИНСКОЙ ХИМИИ РАН
REFRESH-INTERVAL;VALUE=DURATION:PT1H
X-Robots-Tag:noindex
X-PUBLISHED-TTL:PT1H
BEGIN:VTIMEZONE
TZID:Europe/Moscow
BEGIN:STANDARD
TZOFFSETFROM:+0300
TZOFFSETTO:+0300
TZNAME:MSK
DTSTART:20250101T000000
END:STANDARD
END:VTIMEZONE
BEGIN:VEVENT
DTSTART;TZID=Europe/Moscow:20250911T093000
DTEND;TZID=Europe/Moscow:20250911T103000
DTSTAMP:20260423T094621
CREATED:20250909T214641Z
LAST-MODIFIED:20250909T214641Z
UID:16338-1757583000-1757586600@icp-ras.ru
SUMMARY:Заседание cекции № 5 Ученого Совета ФИЦ ПХФ и МХ РАН
DESCRIPTION:Повестка: \nВыдвижение кандидатуры заведующего Лабораторией фоточувствительных и электроактивных материалов Аккуратова А.В. на соискание премии РУДН за научные достижения и заслуги в области химии 2025 года.
URL:https://icp-ras.ru/event/zasedanie-cekcii-5-uchenogo-soveta-fic-pxf-i-mx-ran-10/
LOCATION:в режиме онлайн-конференции
ATTACH;FMTTYPE=image/jpeg:https://icp-ras.ru/wp-content/uploads/dis-sovet/icon/sci-5.jpg
END:VEVENT
END:VCALENDAR