BEGIN:VCALENDAR
VERSION:2.0
PRODID:-//ФЕДЕРАЛЬНЫЙ ИССЛЕДОВАТЕЛЬСКИЙ ЦЕНТР ПРОБЛЕМ ХИМИЧЕСКОЙ ФИЗИКИ И МЕДИЦИНСКОЙ ХИМИИ РАН - ECPv6.8.0//NONSGML v1.0//EN
CALSCALE:GREGORIAN
METHOD:PUBLISH
X-WR-CALNAME:ФЕДЕРАЛЬНЫЙ ИССЛЕДОВАТЕЛЬСКИЙ ЦЕНТР ПРОБЛЕМ ХИМИЧЕСКОЙ ФИЗИКИ И МЕДИЦИНСКОЙ ХИМИИ РАН
X-ORIGINAL-URL:https://icp-ras.ru
X-WR-CALDESC:Мероприятия для ФЕДЕРАЛЬНЫЙ ИССЛЕДОВАТЕЛЬСКИЙ ЦЕНТР ПРОБЛЕМ ХИМИЧЕСКОЙ ФИЗИКИ И МЕДИЦИНСКОЙ ХИМИИ РАН
REFRESH-INTERVAL;VALUE=DURATION:PT1H
X-Robots-Tag:noindex
X-PUBLISHED-TTL:PT1H
BEGIN:VTIMEZONE
TZID:Europe/Moscow
BEGIN:STANDARD
TZOFFSETFROM:+0300
TZOFFSETTO:+0300
TZNAME:MSK
DTSTART:20250101T000000
END:STANDARD
END:VTIMEZONE
BEGIN:VEVENT
DTSTART;VALUE=DATE:20250915
DTEND;VALUE=DATE:20250920
DTSTAMP:20260423T094322
CREATED:20250217T105423Z
LAST-MODIFIED:20250217T105423Z
UID:13166-1757894400-1758326399@icp-ras.ru
SUMMARY:XIII Международная научная конференция «Кинетика и механизм кристаллизации. Кристаллизация и материалы нового поколения» в Иваново
DESCRIPTION:С 15 по 19 сентября 2025 года в Институт химии растворов им. Г.А. Крестова РАН (г. Иваново\, ул. Академическая\, 1) состоится XIII Международная научная конференция «Кинетика и механизм кристаллизации. Кристаллизация и материалы нового поколения».
URL:https://icp-ras.ru/event/xiii-mezhdunarodnaya-nauchnaya-konferenciya-kinetika-i-mexanizm-kristallizacii-kristallizaciya-i-materialy-novogo-pokoleniya-v-ivanovo-3/
ATTACH;FMTTYPE=image/png:https://icp-ras.ru/wp-content/uploads/novosti-mir-nauki/ivanovo.png
END:VEVENT
END:VCALENDAR