BEGIN:VCALENDAR
VERSION:2.0
PRODID:-//ФЕДЕРАЛЬНЫЙ ИССЛЕДОВАТЕЛЬСКИЙ ЦЕНТР ПРОБЛЕМ ХИМИЧЕСКОЙ ФИЗИКИ И МЕДИЦИНСКОЙ ХИМИИ РАН - ECPv6.8.0//NONSGML v1.0//EN
CALSCALE:GREGORIAN
METHOD:PUBLISH
X-ORIGINAL-URL:https://icp-ras.ru
X-WR-CALDESC:Мероприятия для ФЕДЕРАЛЬНЫЙ ИССЛЕДОВАТЕЛЬСКИЙ ЦЕНТР ПРОБЛЕМ ХИМИЧЕСКОЙ ФИЗИКИ И МЕДИЦИНСКОЙ ХИМИИ РАН
REFRESH-INTERVAL;VALUE=DURATION:PT1H
X-Robots-Tag:noindex
X-PUBLISHED-TTL:PT1H
BEGIN:VTIMEZONE
TZID:Europe/Moscow
BEGIN:STANDARD
TZOFFSETFROM:+0300
TZOFFSETTO:+0300
TZNAME:MSK
DTSTART:20250101T000000
END:STANDARD
END:VTIMEZONE
BEGIN:VEVENT
DTSTART;TZID=Europe/Moscow:20251001T093000
DTEND;TZID=Europe/Moscow:20251001T120000
DTSTAMP:20260423T061803
CREATED:20250929T151706Z
LAST-MODIFIED:20251001T184412Z
UID:16555-1759311000-1759320000@icp-ras.ru
SUMMARY:Заседание Ученого совета ФИЦ ПХФ и МХ РАН
DESCRIPTION:Уважаемые сотрудники ФИЦ ПХФ и МХ РАН! \n Повестка дня: \n\nЗамещение вакантной должности ведущего научного сотрудника (выступление Навроцкого Максима Борисовича).\nО формировании государственного задания с учетом модели «квалифицированного заказчика» (выступление Золотухиной Екатерины Викторовны).\nВыдвижение Э.Р. Бадамшиной к присвоению почетного звания «Заслуженный деятель науки Российской Федерации». (Тайное голосование).\nВручение удостоверений аспирантам 1-го года обучения ФИЦ ПХФ и МХ РАН\, вручение дипломов окончившим аспирантуру ФИЦ ПХФ и МХ РАН.\nРазное.
URL:https://icp-ras.ru/event/zasedanie-uchenogo-soveta-fic-pxf-i-mx-ran-12/
LOCATION:в режиме онлайн-конференции
ATTACH;FMTTYPE=image/jpeg:https://icp-ras.ru/wp-content/uploads/LOGO/SciCoun.jpg
END:VEVENT
END:VCALENDAR