BEGIN:VCALENDAR
VERSION:2.0
PRODID:-//ФЕДЕРАЛЬНЫЙ ИССЛЕДОВАТЕЛЬСКИЙ ЦЕНТР ПРОБЛЕМ ХИМИЧЕСКОЙ ФИЗИКИ И МЕДИЦИНСКОЙ ХИМИИ РАН - ECPv6.8.0//NONSGML v1.0//EN
CALSCALE:GREGORIAN
METHOD:PUBLISH
X-ORIGINAL-URL:https://icp-ras.ru
X-WR-CALDESC:Мероприятия для ФЕДЕРАЛЬНЫЙ ИССЛЕДОВАТЕЛЬСКИЙ ЦЕНТР ПРОБЛЕМ ХИМИЧЕСКОЙ ФИЗИКИ И МЕДИЦИНСКОЙ ХИМИИ РАН
REFRESH-INTERVAL;VALUE=DURATION:PT1H
X-Robots-Tag:noindex
X-PUBLISHED-TTL:PT1H
BEGIN:VTIMEZONE
TZID:Europe/Moscow
BEGIN:STANDARD
TZOFFSETFROM:+0300
TZOFFSETTO:+0300
TZNAME:MSK
DTSTART:20250101T000000
END:STANDARD
END:VTIMEZONE
BEGIN:VEVENT
DTSTART;TZID=Europe/Moscow:20251107T093000
DTEND;TZID=Europe/Moscow:20251107T120000
DTSTAMP:20260423T042742
CREATED:20251106T140647Z
LAST-MODIFIED:20251106T140647Z
UID:17051-1762507800-1762516800@icp-ras.ru
SUMMARY:Заседание Ученого совета ФИЦ ПХФ и МХ РАН.
DESCRIPTION: Повестка дня:\n1. Выдвижение к присвоению почетного звания «Профессора РАН» (выступление Сергея Михайловича Алдошина\, Евгения Витальевича Голосова). (Тайное голосование).\n2. Замещение вакантной должности старшего научного сотрудника (выступление Азата Фатхулловича Акбулатова).\n3. Рассмотрение новой редакции квалификационных требований (выступление Екатерины Викторовны Золотухиной).\n4. Выдвижение сотрудников ФИЦ ПХФ и МХ РАН к награждению государственными наградами. (Тайное голосование).\n5. Рекомендация к опубликованию монографии Н.В. Чуканова\, Т.Л. Паникоровского «Везувианит — минералы супергруппы».\n6. О подготовке к празднованию 70-летия ФИЦ ПХФ и МХ РАН.\n7. Разное.
URL:https://icp-ras.ru/event/zasedanie-uchenogo-soveta-fic-pxf-i-mx-ran-13/
LOCATION:в режиме онлайн-конференции
ATTACH;FMTTYPE=image/jpeg:https://icp-ras.ru/wp-content/uploads/LOGO/SciCoun.jpg
END:VEVENT
END:VCALENDAR