BEGIN:VCALENDAR
VERSION:2.0
PRODID:-//ФЕДЕРАЛЬНЫЙ ИССЛЕДОВАТЕЛЬСКИЙ ЦЕНТР ПРОБЛЕМ ХИМИЧЕСКОЙ ФИЗИКИ И МЕДИЦИНСКОЙ ХИМИИ РАН - ECPv6.8.0//NONSGML v1.0//EN
CALSCALE:GREGORIAN
METHOD:PUBLISH
X-ORIGINAL-URL:https://icp-ras.ru
X-WR-CALDESC:Мероприятия для ФЕДЕРАЛЬНЫЙ ИССЛЕДОВАТЕЛЬСКИЙ ЦЕНТР ПРОБЛЕМ ХИМИЧЕСКОЙ ФИЗИКИ И МЕДИЦИНСКОЙ ХИМИИ РАН
REFRESH-INTERVAL;VALUE=DURATION:PT1H
X-Robots-Tag:noindex
X-PUBLISHED-TTL:PT1H
BEGIN:VTIMEZONE
TZID:Europe/Moscow
BEGIN:STANDARD
TZOFFSETFROM:+0300
TZOFFSETTO:+0300
TZNAME:MSK
DTSTART:20250101T000000
END:STANDARD
END:VTIMEZONE
BEGIN:VEVENT
DTSTART;TZID=Europe/Moscow:20251118T110000
DTEND;TZID=Europe/Moscow:20251118T130000
DTSTAMP:20260423T042741
CREATED:20251116T162412Z
LAST-MODIFIED:20251116T162412Z
UID:17090-1763463600-1763470800@icp-ras.ru
SUMMARY:Заседание секции N8 Ученого совета ФИЦ ПХФ и МХ РАН
DESCRIPTION:Повестка: \n1. Итоги работы (выступления руководителей подразделений). \n2. Утверждение отчета по теме FFSG-⁠2024-⁠0002 (Фельдман Э.Б.). \n3. Рассмотрение материалов\, предназначенных для открытого опубликования.
URL:https://icp-ras.ru/event/zasedanie-sekcii-n8-uchenogo-soveta-fic-pxf-i-mx-ran/
LOCATION:в корпусе 1/⁠1 (комната 55)
ATTACH;FMTTYPE=image/jpeg:https://icp-ras.ru/wp-content/uploads/dis-sovet/icon/sci-8.jpg
END:VEVENT
END:VCALENDAR