BEGIN:VCALENDAR
VERSION:2.0
PRODID:-//ФЕДЕРАЛЬНЫЙ ИССЛЕДОВАТЕЛЬСКИЙ ЦЕНТР ПРОБЛЕМ ХИМИЧЕСКОЙ ФИЗИКИ И МЕДИЦИНСКОЙ ХИМИИ РАН - ECPv6.8.0//NONSGML v1.0//EN
CALSCALE:GREGORIAN
METHOD:PUBLISH
X-ORIGINAL-URL:https://icp-ras.ru
X-WR-CALDESC:Мероприятия для ФЕДЕРАЛЬНЫЙ ИССЛЕДОВАТЕЛЬСКИЙ ЦЕНТР ПРОБЛЕМ ХИМИЧЕСКОЙ ФИЗИКИ И МЕДИЦИНСКОЙ ХИМИИ РАН
REFRESH-INTERVAL;VALUE=DURATION:PT1H
X-Robots-Tag:noindex
X-PUBLISHED-TTL:PT1H
BEGIN:VTIMEZONE
TZID:Europe/Moscow
BEGIN:STANDARD
TZOFFSETFROM:+0300
TZOFFSETTO:+0300
TZNAME:MSK
DTSTART:20250101T000000
END:STANDARD
END:VTIMEZONE
BEGIN:VEVENT
DTSTART;TZID=Europe/Moscow:20251128T100000
DTEND;TZID=Europe/Moscow:20251128T123000
DTSTAMP:20260423T042742
CREATED:20251125T073934Z
LAST-MODIFIED:20251125T073934Z
UID:17173-1764324000-1764333000@icp-ras.ru
SUMMARY:Заседание секции № 6 Ученого совета ФИЦ ПХФ и МХ РАН
DESCRIPTION:Повестка: \n1. Преддиссертационный доклад и утверждение отзыва ведущей организации ФИЦ ПХФ и МХ РАН по диссертационной работе Чекушкина Петра Михайловича «Термодинамические и кинетические аспекты электрохимической интеркаляции ионов в катодные материалы» (м.н.с. Объединенного Института высоких температур Российской академии наук»). \nСпециальность 1.3.17 – Химическая физика\, горение и взрыв\, физика экстремальных состояний вещества\, диссертация на соискание ученой степени кандидата физико-математических наук.\nРецензент от ФИЦ ПХФ и МХ РАН д.ф.-м.н. Кривенко А.Г. \n2. Отчеты руководителей подразделений ОФМХИЭ\, ЦК НТИ\, АЦКП по тематическим картам 2025 г. и планы на 2026 г. \n3. Обсуждение и утверждение основных и важнейших результатов фундаментальных и прикладных исследований\, полученных в 2025 г. \n4. Разное.
URL:https://icp-ras.ru/event/zasedanie-sekcii-6-uchenogo-soveta-fic-pxf-i-mx-ran-19/
LOCATION:в актовом зале корпуса 2/7 (ком.301)
ATTACH;FMTTYPE=image/jpeg:https://icp-ras.ru/wp-content/uploads/dis-sovet/icon/sci-6.jpg
END:VEVENT
END:VCALENDAR