BEGIN:VCALENDAR
VERSION:2.0
PRODID:-//ФЕДЕРАЛЬНЫЙ ИССЛЕДОВАТЕЛЬСКИЙ ЦЕНТР ПРОБЛЕМ ХИМИЧЕСКОЙ ФИЗИКИ И МЕДИЦИНСКОЙ ХИМИИ РАН - ECPv6.8.0//NONSGML v1.0//EN
CALSCALE:GREGORIAN
METHOD:PUBLISH
X-ORIGINAL-URL:https://icp-ras.ru
X-WR-CALDESC:Мероприятия для ФЕДЕРАЛЬНЫЙ ИССЛЕДОВАТЕЛЬСКИЙ ЦЕНТР ПРОБЛЕМ ХИМИЧЕСКОЙ ФИЗИКИ И МЕДИЦИНСКОЙ ХИМИИ РАН
REFRESH-INTERVAL;VALUE=DURATION:PT1H
X-Robots-Tag:noindex
X-PUBLISHED-TTL:PT1H
BEGIN:VTIMEZONE
TZID:Europe/Moscow
BEGIN:STANDARD
TZOFFSETFROM:+0300
TZOFFSETTO:+0300
TZNAME:MSK
DTSTART:20250101T000000
END:STANDARD
END:VTIMEZONE
BEGIN:VEVENT
DTSTART;TZID=Europe/Moscow:20251203T093000
DTEND;TZID=Europe/Moscow:20251203T110000
DTSTAMP:20260423T024535
CREATED:20251128T091000Z
LAST-MODIFIED:20251128T091000Z
UID:17196-1764754200-1764759600@icp-ras.ru
SUMMARY:Заседание секции N3 Ученого совета ФИЦ ПХФ И МХ РАН
DESCRIPTION:Повестка дня:  \n\nОтчеты о результатах НИР в 2025 году.\nПланы НИР на 2026 год.\nУтверждение важнейших результатов работы ОКХиБП в 2025 году.
URL:https://icp-ras.ru/event/zasedanie-sekcii-n3-uchenogo-soveta-fic-pxf-i-mx-ran/
LOCATION:в режиме онлайн-конференции
ATTACH;FMTTYPE=image/jpeg:https://icp-ras.ru/wp-content/uploads/dis-sovet/icon/sci-3.jpg
END:VEVENT
END:VCALENDAR