BEGIN:VCALENDAR
VERSION:2.0
PRODID:-//ФЕДЕРАЛЬНЫЙ ИССЛЕДОВАТЕЛЬСКИЙ ЦЕНТР ПРОБЛЕМ ХИМИЧЕСКОЙ ФИЗИКИ И МЕДИЦИНСКОЙ ХИМИИ РАН - ECPv6.8.0//NONSGML v1.0//EN
CALSCALE:GREGORIAN
METHOD:PUBLISH
X-ORIGINAL-URL:https://icp-ras.ru
X-WR-CALDESC:Мероприятия для ФЕДЕРАЛЬНЫЙ ИССЛЕДОВАТЕЛЬСКИЙ ЦЕНТР ПРОБЛЕМ ХИМИЧЕСКОЙ ФИЗИКИ И МЕДИЦИНСКОЙ ХИМИИ РАН
REFRESH-INTERVAL;VALUE=DURATION:PT1H
X-Robots-Tag:noindex
X-PUBLISHED-TTL:PT1H
BEGIN:VTIMEZONE
TZID:Europe/Moscow
BEGIN:STANDARD
TZOFFSETFROM:+0300
TZOFFSETTO:+0300
TZNAME:MSK
DTSTART:20250101T000000
END:STANDARD
END:VTIMEZONE
BEGIN:VEVENT
DTSTART;TZID=Europe/Moscow:20251218T093000
DTEND;TZID=Europe/Moscow:20251218T170000
DTSTAMP:20260423T024537
CREATED:20251216T221846Z
LAST-MODIFIED:20251216T221846Z
UID:17445-1766050200-1766077200@icp-ras.ru
SUMMARY:Заседание секции №3 Ученого совета ФИЦ ПХФ и МХ РАН
DESCRIPTION:Повестка \nРассмотрение материалов\, предназначенных для открытого опубликования: \n1. Sain Shushanov\, Yliya Chernykh\, Artur Gizatullin\, Natalia Akentieva. Co-regulation of gene expression involved in glucose uptake and proliferation in multiple myeloma cells.\n2. Акентьева Н.П.\,Санина Н.А.\, Гизатуллин А.Р.\, Антонов Ю.А.\, Шушанов С.С. Наночастицы – динитрозильный комплекс железа для таргетной терапии рака предстательной железыи множественной миеломы человека\n3. Саратовских Е.А.\, Куликова А.А.\, Санина Н.А. Нитрозильный комплекс железа с тиосульфатом – эффективный ингибитор пируваткиназы.\n4. Крапивин В.Б.\, Лужков В.Б. Молекулярная динамика комплекса деоксигемоглобина с тиосульфатным тетранитрозильным комплексом железа.\n5. Соколова Е.М.\, Дубенская Н.А.\, Психа Б.Л.\, Нешев Н.И. Индуцированный окислительный гемолиз эритроцитов как модель для оценки антиоксидантной активности фармацевтических субстанций.\n6. Раевская Т.А.\, Блохина С.В.\, Мищенко Д.В. Эффективность комбинаций пиридоксина (витамина В6) с противоопухолевыми цитостатиками в отношении лекарственно-устойчивых штаммов лимфолейкоза Р388.
URL:https://icp-ras.ru/event/zasedanie-sekcii-3-uchenogo-soveta-fic-pxf-i-mx-ran-30/
LOCATION:в режиме онлайн-конференции
ATTACH;FMTTYPE=image/jpeg:https://icp-ras.ru/wp-content/uploads/dis-sovet/icon/sci-3.jpg
END:VEVENT
BEGIN:VEVENT
DTSTART;TZID=Europe/Moscow:20251218T100000
DTEND;TZID=Europe/Moscow:20251218T123000
DTSTAMP:20260423T024537
CREATED:20251216T222231Z
LAST-MODIFIED:20251216T222231Z
UID:17449-1766052000-1766061000@icp-ras.ru
SUMMARY:Заседание cекции № 5 Ученого Совета ФИЦ ПХФ и МХ РАН
DESCRIPTION:Повестка \nРассмотрение материалов\, предназначенных для открытого опубликования\n\nСтатьи: \n1. Подвальная Ю.В.\, Тарасов А.Е.\, Грищук А.А.\, Ершов А.А.\, Вечкутова А.В.\, Огаркова И.В.\, Бадамшина Э.Р. Анионная полимеризация акрилонитрила под действием гидроксидатетраэтиламмония в среде диметилсульфоксида // ВМС \n2. Аллаяров С.Р.\, Капашаров А.Т.\, Демидов С.В.\, Малков Г.В.\, Федулин С.С.\, Диксон Д.А. Теплофизические свойства смеси полиэтилена и полипропилена\, подвергнутой пострадиационному высокотемпературному сдвиговому измельчению // Radiation Physics and Chemistry» \n3. Zaborin E.A.\, Borshchev O.V.\, Buzin A.I.\, Shaposhnik P.A.\, Trul A.A.\, Gorodov V.V.\, Ivanov A.D.\, Piryazev A.A.\, Banerjee D.\, Ivanov D.A. Synthesis\, Phase Behavior and Semiconductor Properties of Siloxane Copolymers Containing Grafted C8-BTBT Units // Macromolecular Rapid Communications \nТезисы докладов на  XXIX Всероссийской конференции молодых учёных-химиков (20-25 апреля 2026 г.\, г. Нижний Новгород): \n1. Подвальная Ю.В\, Тарасов А.Е.\, ГрищукА.А.\, Ершов А.А.\, Бадамшина Э.Р.Анионная полимеризация акрилонитрила под действием тетраэтиламмониевого основания \n2. Огаркова И.В.\, Тарасов А.Е.\, Курбатов В.Г.\, Пугачева Т.А.Реакционноспособные олигомеры для синтеза гребнеобразных ПАВ. \n3. Вечкутова А.В.\, Тарасов А.Е.\, Грищук А.А.\, Бадамшина Э.Р. Исследование анионной полимеризации акрилонитрила под действием 1\,4-диазобицикло[2.2.2]октана в среде тетрагидрофурана. \n4. Ершов А.А.\, Подвальная Ю.В.\, Грищук А.А.\, Тарасов А.Е.\, Бадамшина Э.Р. Побочные реакции при синтезе полиакрилонитрила методом анионной полимеризации под действием безметальных инициаторов
URL:https://icp-ras.ru/event/zasedanie-cekcii-5-uchenogo-soveta-fic-pxf-i-mx-ran-19/
LOCATION:актовый зал корп. 2/2
ATTACH;FMTTYPE=image/jpeg:https://icp-ras.ru/wp-content/uploads/dis-sovet/icon/sci-5.jpg
END:VEVENT
BEGIN:VEVENT
DTSTART;TZID=Europe/Moscow:20251218T100000
DTEND;TZID=Europe/Moscow:20251218T170000
DTSTAMP:20260423T024537
CREATED:20251216T222052Z
LAST-MODIFIED:20251216T222052Z
UID:17447-1766052000-1766077200@icp-ras.ru
SUMMARY:Заседание секции №4 Ученого совета ФИЦ ПХФ и МХ РАН
DESCRIPTION:Повестка \nРассмотрение материалов\, предназначенных для открытого опубликования: \n1. Корчагин Д. В.\nД.В. Корчагин\, Г.В. Шилов\, М.В. Жидков\, А.И. Дмитриев\, А.В. Палий\, Э.Б. Ягубский\, С.М. Алдошин\nДигалогензамещенные соли [MnIII(3\,5-diHal-sal2323)]BPh4: такие похожие\, но такие разные\nСтатья в журнал Dalton Transactions \n2. Е.И. Куницына\nЕ.И. Куницына\, А.Д. Таланцев\, Е.В. Дворецкая\, В.В. Савин\, Р.Б. Моргунов\nСелекция ферромагнитных наночастиц в процессе синтеза совершенных и дефектных углеродных нанотрубок каталитическим методом\nСтатья в журнал  ФТТ \n3.М.В. Бахметьев\nМ.В. Бахметьев\, Е.В. Дворецкая\, С.Н. Кашин\, В.В. Савин\, Р.Б. Моргунов\nРазмерный эффект в сверхпроводимости частиц карбида молибдена\nСтатья в журнал ФТТ \n4.Котов А.И.\nА.И.Котов\, Ю.Н.Козырев\, И.Е.Кареев\, В.П.Бубнов\, Л.В.Зорина\, С. В.Симонов\nСинтез и структура 4\,5-[3\,4-(тетрагидро-тиофен-1\,1-диоксид)диилдитио]-1\,3-дитиол-2-тиона\nСтатья в Журнал общей химии
URL:https://icp-ras.ru/event/zasedanie-sekcii-4-uchenogo-soveta-fic-pxf-i-mx-ran-26/
LOCATION:в режиме онлайн-конференции
ATTACH;FMTTYPE=image/jpeg:https://icp-ras.ru/wp-content/uploads/dis-sovet/icon/sci-4.jpg
END:VEVENT
BEGIN:VEVENT
DTSTART;TZID=Europe/Moscow:20251218T110000
DTEND;TZID=Europe/Moscow:20251218T170000
DTSTAMP:20260423T024537
CREATED:20251218T092605Z
LAST-MODIFIED:20251218T092605Z
UID:17468-1766055600-1766077200@icp-ras.ru
SUMMARY:Заседание семинара "Высокоэнергетические системы"
DESCRIPTION:Повестка: рассмотрение материалов для публикации в открытой печати.\n\n\nМихайлов Ю.М.\, Даровских А.В.\, Гаранин В.А.\, Ворожейкин М.И.\, Набатова А.В.\, Казаков А.И. О безопасности использования и химической стабильности водорастворимых нитратов циклодекстринов лекарственного назначения. Статья в журнал «Технологии безопасности жизнедеятельности»\nМихайлов Ю.М.\, Ганин Ю.В.\, Алешин В.В.\, Смирнов В.С. Влияние температуры отжига на свойства нанопористого кремния и чувствительность к удару его смесей с перхлоратом кальция. Статья в журнал «Физика горения и взрыва»\nТарасов Г.А. Обеспечение экологической безопасности в районах Крайнего Севера и Арктики путем утилизации техногенных отходов. Тезисы на Международную научно-техническую конференцию студентов и аспирантов “Радиоэлектроника\, электротехника и энергетика”\, Москва\, 26-27 февраля 2026 г.\nНоваковский Д.В.\, Ежов В.М.\, Ильина М.А.\, Червонная Н.А.\, Яновский Л.С. Изучение периода задержки воспламенения альтернативных топлив с добавлением биокомпонентов методом ударной трубы. Тезисы на Международную научно-техническую конференцию студентов и аспирантов “Радиоэлектроника\, электротехника и энергетика”\, Москва\, 26-27 февраля 2026 г.\nИльина М.А.\, Новаковский Д.В.\, Яновский Л.С. Влияние эксплуатационных свойств смазочных масел на ресурс маслосистем ГТУ. Тезисы на Международную научно-техническую конференцию студентов и аспирантов “Радиоэлектроника\, электротехника и энергетика”\, Москва\, 26-27 февраля 2026 г.                                    
URL:https://icp-ras.ru/event/zasedanie-seminara-vysokoenergeticheskie-sistemy-17/
LOCATION:в корпусе 1/7 (к. 85\, 5 этаж)
ATTACH;FMTTYPE=image/jpeg:https://icp-ras.ru/wp-content/uploads/nauka-otdely/OGV/C-and-E.jpg
END:VEVENT
END:VCALENDAR