BEGIN:VCALENDAR
VERSION:2.0
PRODID:-//ФЕДЕРАЛЬНЫЙ ИССЛЕДОВАТЕЛЬСКИЙ ЦЕНТР ПРОБЛЕМ ХИМИЧЕСКОЙ ФИЗИКИ И МЕДИЦИНСКОЙ ХИМИИ РАН - ECPv6.8.0//NONSGML v1.0//EN
CALSCALE:GREGORIAN
METHOD:PUBLISH
X-WR-CALNAME:ФЕДЕРАЛЬНЫЙ ИССЛЕДОВАТЕЛЬСКИЙ ЦЕНТР ПРОБЛЕМ ХИМИЧЕСКОЙ ФИЗИКИ И МЕДИЦИНСКОЙ ХИМИИ РАН
X-ORIGINAL-URL:https://icp-ras.ru
X-WR-CALDESC:Мероприятия для ФЕДЕРАЛЬНЫЙ ИССЛЕДОВАТЕЛЬСКИЙ ЦЕНТР ПРОБЛЕМ ХИМИЧЕСКОЙ ФИЗИКИ И МЕДИЦИНСКОЙ ХИМИИ РАН
REFRESH-INTERVAL;VALUE=DURATION:PT1H
X-Robots-Tag:noindex
X-PUBLISHED-TTL:PT1H
BEGIN:VTIMEZONE
TZID:Europe/Moscow
BEGIN:STANDARD
TZOFFSETFROM:+0300
TZOFFSETTO:+0300
TZNAME:MSK
DTSTART:20250101T000000
END:STANDARD
END:VTIMEZONE
BEGIN:VEVENT
DTSTART;TZID=Europe/Moscow:20251226T150000
DTEND;TZID=Europe/Moscow:20251226T170000
DTSTAMP:20260423T024730
CREATED:20251225T101737Z
LAST-MODIFIED:20251225T101737Z
UID:17540-1766761200-1766768400@icp-ras.ru
SUMMARY:Заседание Ученого совета ФИЦ ПХФ и МХ РАН
DESCRIPTION:Повестка дня: \n1. Доклад научного руководителя ФИЦ ПХФ и МХ РАН академика С.М. Алдошина «Важнейшие фундаментальные и прикладные результаты ФИЦ ПХФ и МХ РАН\, полученные в 2025 году».\n2. Доклад директора ФИЦ ПХФ и МХ РАН к.ф.-м.н. Е.В. Голосова «ФИЦ ПХФ и МХ РАН в 2025 году».
URL:https://icp-ras.ru/event/zasedanie-uchenogo-soveta-fic-pxf-i-mx-ran-14/
LOCATION:актовый зал корпуса общего назначения\, пр. Академика Н.Н. Семенова\, д. 1\, Черноголовка
ATTACH;FMTTYPE=image/jpeg:https://icp-ras.ru/wp-content/uploads/LOGO/SciCoun.jpg
END:VEVENT
END:VCALENDAR