BEGIN:VCALENDAR
VERSION:2.0
PRODID:-//ФЕДЕРАЛЬНЫЙ ИССЛЕДОВАТЕЛЬСКИЙ ЦЕНТР ПРОБЛЕМ ХИМИЧЕСКОЙ ФИЗИКИ И МЕДИЦИНСКОЙ ХИМИИ РАН - ECPv6.8.0//NONSGML v1.0//EN
CALSCALE:GREGORIAN
METHOD:PUBLISH
X-WR-CALNAME:ФЕДЕРАЛЬНЫЙ ИССЛЕДОВАТЕЛЬСКИЙ ЦЕНТР ПРОБЛЕМ ХИМИЧЕСКОЙ ФИЗИКИ И МЕДИЦИНСКОЙ ХИМИИ РАН
X-ORIGINAL-URL:https://icp-ras.ru
X-WR-CALDESC:Мероприятия для ФЕДЕРАЛЬНЫЙ ИССЛЕДОВАТЕЛЬСКИЙ ЦЕНТР ПРОБЛЕМ ХИМИЧЕСКОЙ ФИЗИКИ И МЕДИЦИНСКОЙ ХИМИИ РАН
REFRESH-INTERVAL;VALUE=DURATION:PT1H
X-Robots-Tag:noindex
X-PUBLISHED-TTL:PT1H
BEGIN:VTIMEZONE
TZID:Europe/Moscow
BEGIN:STANDARD
TZOFFSETFROM:+0300
TZOFFSETTO:+0300
TZNAME:MSK
DTSTART:20260101T000000
END:STANDARD
END:VTIMEZONE
BEGIN:VEVENT
DTSTART;TZID=Europe/Moscow:20260212T093000
DTEND;TZID=Europe/Moscow:20260212T113000
DTSTAMP:20260422T230606
CREATED:20260212T074052Z
LAST-MODIFIED:20260212T074052Z
UID:17904-1770888600-1770895800@icp-ras.ru
SUMMARY:Заседание секции №4 Ученого совета ФИЦ ПХФ и МХ РАН
DESCRIPTION:Повестка:\n1. Санина Н.А.\nЕ.A. Сырейщикова\, М.А. Благов\, А.В. Акимов\, А.С. Шмаков\, О.В. Покидова\, Н.А. Санина\, С.М. Алдошин\,\nНИТРОЗИЛЬНЫЙ КОМПЛЕКС ЖЕЛЕЗА С 4-АМИНО-5-ПИРИДИН-1\,2\,4-ТРИАЗОЛ-3-ТИОЛИЛОМ: CИНТЕЗ\, СТРОЕНИЕ И БИОЛОГИЧЕСКАЯ АКТИВНОСТЬ\nСтатья в журнал Доклады Академии Наук \n2.Палий А.В.\nAndrew Palii\, Valeria Belonovich\, Denis Korchagin\, Sergei Aldoshin\, Boris Tsukerblat\nModelling the non-equilibrium low-temperature magnetic cooling effect in Mn12Ac clusters\nСтатья в журнал Dalton Transactions \n\nГусенков Д.Л.\nД.Л. Гусенков\, Р.Б. Моргунов ​​​Смена механизма перемагничивания при замедлении и замораживании спиновых флуктуаций в монокристаллах CrSBr.\nТезисы на XXX Симпозиум «Нанофизика и наноэлектроника» (Нижний Новгород\, 9-13 марта 2026 года).\nГусенков Д.Л.\nД.Л. Гусенков\, Р.Б. Моргунов Оценка энергии отслоения CrSBr методом наноиндентирования.\nТезисы на Молодежную Школу по физике конденсированного состояния (23 – 27 марта 2026 года\, Ленинградская область)\n\nПодключиться в браузере по ссылке:\nhttps://salutejazz.ru/calls/aykv2j?psw=OAcQXBgABEAYFxdKRxQTUxcdCg
URL:https://icp-ras.ru/event/zasedanie-sekcii-4-uchenogo-soveta-fic-pxf-i-mx-ran-27/
LOCATION:в режиме онлайн-конференции
ATTACH;FMTTYPE=image/jpeg:https://icp-ras.ru/wp-content/uploads/dis-sovet/icon/sci-4.jpg
END:VEVENT
BEGIN:VEVENT
DTSTART;TZID=Europe/Moscow:20260212T110000
DTEND;TZID=Europe/Moscow:20260212T133000
DTSTAMP:20260422T230606
CREATED:20260212T074813Z
LAST-MODIFIED:20260212T074813Z
UID:17910-1770894000-1770903000@icp-ras.ru
SUMMARY:Заседание семинара "Высокоэнергетические системы"
DESCRIPTION:Повестка: рассмотрение материалов для публикации в открытой печати. \n\nМихайлов Ю.М.\, Даровских А.В.\, Смолина А.В.\, Бороздин И.А.\, Ворожейкин М.И.\, Полетаева Д.А.\, Файнгольд И.И. Антиоксидантное и антирадикальное действие комплексов включения нитрата γ-циклодекстрина с дигидрокверцетином. Статья в спецвыпуск журнала «Доклады Академии наук»\, посвященная юбилею академика РАН Валерия Николаевича Чарушина\n\n\nМихайлов Ю.М.\, Даровских А.В.\, Мальцев А.В.\, Виноградова Д.А.\, Шевцова Е.Ф.\, Бачурин С.О. Антиоксидантный и NO-донорный потенциал водорастворимых нитратов циклодекстринов лекарственного назначения. Статья в спецвыпуск журнала «Доклады Академии наук»\, посвященная юбилею академика РАН Геннадия Викторовича Саковича\nГудкова И.Ю.\, Зюзин И.Н.\, Лемперт Д.Б. Энергетические возможности ряда нитразолов в качестве компонентов специальных топлив. Статья в журнал «Боеприпасы и спецхимия»\nНазин Г.М.\, Казаков А.И.\, Набатова А.В.\, Юдин Н.В.\, Костин Н.А. Кинетика и механизм разложения бензотрифуроксана. Статья в журнал «Химическая физика»\nЛемперт Д.Б.\, Разносчиков В.В. Термодинамический анализ возможности повышения энергетического потенциала твердых топлив с использованием ряда высокоэнтальпийных полиазотистых соединений. Статья в журнал «Боеприпасы и спецхимия»
URL:https://icp-ras.ru/event/zasedanie-seminara-vysokoenergeticheskie-sistemy-18/
LOCATION:в корпусе 1/7 (к. 85\, 5 этаж)
ATTACH;FMTTYPE=image/jpeg:https://icp-ras.ru/wp-content/uploads/dis-sovet/icon/sci-1.jpg
END:VEVENT
END:VCALENDAR