BEGIN:VCALENDAR
VERSION:2.0
PRODID:-//ФЕДЕРАЛЬНЫЙ ИССЛЕДОВАТЕЛЬСКИЙ ЦЕНТР ПРОБЛЕМ ХИМИЧЕСКОЙ ФИЗИКИ И МЕДИЦИНСКОЙ ХИМИИ РАН - ECPv6.8.0//NONSGML v1.0//EN
CALSCALE:GREGORIAN
METHOD:PUBLISH
X-ORIGINAL-URL:https://icp-ras.ru
X-WR-CALDESC:Мероприятия для ФЕДЕРАЛЬНЫЙ ИССЛЕДОВАТЕЛЬСКИЙ ЦЕНТР ПРОБЛЕМ ХИМИЧЕСКОЙ ФИЗИКИ И МЕДИЦИНСКОЙ ХИМИИ РАН
REFRESH-INTERVAL;VALUE=DURATION:PT1H
X-Robots-Tag:noindex
X-PUBLISHED-TTL:PT1H
BEGIN:VTIMEZONE
TZID:Europe/Moscow
BEGIN:STANDARD
TZOFFSETFROM:+0300
TZOFFSETTO:+0300
TZNAME:MSK
DTSTART:20260101T000000
END:STANDARD
END:VTIMEZONE
BEGIN:VEVENT
DTSTART;VALUE=DATE:20260309
DTEND;VALUE=DATE:20260310
DTSTAMP:20260422T212438
CREATED:20260202T232546Z
LAST-MODIFIED:20260202T232546Z
UID:17819-1773014400-1773100799@icp-ras.ru
SUMMARY:Дедлайн подачи материалов на 28-й конкурс им. С.М. Батурина
DESCRIPTION:Конкурс молодых ученых на соискание премии им. С.М. Батурина \nВремя дрклада – 10 мин\, вопросы – 5 мин
URL:https://icp-ras.ru/event/dedlajn-podachi-materialov-na-28-j-konkurs-im-s-m-baturina/
ATTACH;FMTTYPE=image/jpeg:https://icp-ras.ru/wp-content/uploads/LOGO/SciCoun.jpg
END:VEVENT
END:VCALENDAR