BEGIN:VCALENDAR
VERSION:2.0
PRODID:-//ФЕДЕРАЛЬНЫЙ ИССЛЕДОВАТЕЛЬСКИЙ ЦЕНТР ПРОБЛЕМ ХИМИЧЕСКОЙ ФИЗИКИ И МЕДИЦИНСКОЙ ХИМИИ РАН - ECPv6.8.0//NONSGML v1.0//EN
CALSCALE:GREGORIAN
METHOD:PUBLISH
X-ORIGINAL-URL:https://icp-ras.ru
X-WR-CALDESC:Мероприятия для ФЕДЕРАЛЬНЫЙ ИССЛЕДОВАТЕЛЬСКИЙ ЦЕНТР ПРОБЛЕМ ХИМИЧЕСКОЙ ФИЗИКИ И МЕДИЦИНСКОЙ ХИМИИ РАН
REFRESH-INTERVAL;VALUE=DURATION:PT1H
X-Robots-Tag:noindex
X-PUBLISHED-TTL:PT1H
BEGIN:VTIMEZONE
TZID:Europe/Moscow
BEGIN:STANDARD
TZOFFSETFROM:+0300
TZOFFSETTO:+0300
TZNAME:MSK
DTSTART:20260101T000000
END:STANDARD
END:VTIMEZONE
BEGIN:VEVENT
DTSTART;TZID=Europe/Moscow:20260327T100000
DTEND;TZID=Europe/Moscow:20260327T120000
DTSTAMP:20260422T210911
CREATED:20260325T102514Z
LAST-MODIFIED:20260325T102514Z
UID:18252-1774605600-1774612800@icp-ras.ru
SUMMARY:Заседание Химико-технологического семинара
DESCRIPTION:Повестка дня – рассмотрение материалов\, направляемых в открытую печать.\n\n\n1. “Механизм деградации мембран из сплава Pd-10%Ru в условиях сепарации водорода и углеводородных сред”\nМанохин С.С.\, Максименко В.Н.\, Токмачева-Колобова А.Ю.\, Седов И.В.\, Лигачев А.Е.\, Колобов Ю.Р.\nЖурнал “Физика и химия обработки материалов”\nРецензент: к.ф.-м.н. Неласов И.В.\n2. “Закономерности структурно-фазовых превращений в мембранах из сплава Pd-40%Cu в условиях сепарации водорода” \nМанохин С.С.\, Максименко В.Н.\, Токмачева-Колобова А.Ю.\, Лигачев А.Е.\, Седов И.В.\, Колобов Ю.Р.\nЖурнал “Inorganic Materials”\nРецензент: к.ф.-м.н. Неласов И.В.
URL:https://icp-ras.ru/event/zasedanie-ximiko-texnologicheskogo-seminara/
LOCATION:актовый зал корп. 2/2
ATTACH;FMTTYPE=image/jpeg:https://icp-ras.ru/wp-content/uploads/nauka-otdely/XTO/Technology.jpg
END:VEVENT
END:VCALENDAR