BEGIN:VCALENDAR
VERSION:2.0
PRODID:-//ФЕДЕРАЛЬНЫЙ ИССЛЕДОВАТЕЛЬСКИЙ ЦЕНТР ПРОБЛЕМ ХИМИЧЕСКОЙ ФИЗИКИ И МЕДИЦИНСКОЙ ХИМИИ РАН - ECPv6.8.0//NONSGML v1.0//EN
CALSCALE:GREGORIAN
METHOD:PUBLISH
X-WR-CALNAME:ФЕДЕРАЛЬНЫЙ ИССЛЕДОВАТЕЛЬСКИЙ ЦЕНТР ПРОБЛЕМ ХИМИЧЕСКОЙ ФИЗИКИ И МЕДИЦИНСКОЙ ХИМИИ РАН
X-ORIGINAL-URL:https://icp-ras.ru
X-WR-CALDESC:Мероприятия для ФЕДЕРАЛЬНЫЙ ИССЛЕДОВАТЕЛЬСКИЙ ЦЕНТР ПРОБЛЕМ ХИМИЧЕСКОЙ ФИЗИКИ И МЕДИЦИНСКОЙ ХИМИИ РАН
REFRESH-INTERVAL;VALUE=DURATION:PT1H
X-Robots-Tag:noindex
X-PUBLISHED-TTL:PT1H
BEGIN:VTIMEZONE
TZID:Europe/Moscow
BEGIN:STANDARD
TZOFFSETFROM:+0300
TZOFFSETTO:+0300
TZNAME:MSK
DTSTART:20250101T000000
END:STANDARD
END:VTIMEZONE
BEGIN:VEVENT
DTSTART;TZID=Europe/Moscow:20250110T100000
DTEND;TZID=Europe/Moscow:20250110T130000
DTSTAMP:20260425T185633
CREATED:20250109T140205Z
LAST-MODIFIED:20250109T140205Z
UID:12484-1736503200-1736514000@icp-ras.ru
SUMMARY:Заседание секции №4 Ученого Совета ФИЦ ПХФ и МХ РАН
DESCRIPTION:10 января\, в пятницу\, в 10:00 на платформе SberJazz состоится заседание секции №4 Ученого Совета ФИЦ ПХФ и МХ РАН.\n\n\nВ повестке дня:\n\n1. Гусенков Д. Л.\n \nД.Л. Гусенков\,\, А.И. Тюрин\, М.В. Бахметьев\, Е.И. Куницына\, Е. Чиглинцев\, М.К. Татмышевский\, А.И. Чернов\, Р.Б. Моргунов. Effect of bromine depletion and oxidization on magnetic\, mechanical\, and optical properties of CrSBr semiconductor.  \nСтатья в  Journal of Physics and Chemistry of Solids. \n2. Гусенков Д. Л.\n \nД.Л. Гусенков\, Р.А. Валеев\, В.П. Пискорский\, А.И. Чернов\, Р.Б. Моргунов. Самопроизвольное образование включений фазы Cr2S3 в двумерном слоистом полупроводнике CrSBr. \nСтатья в журнал Физика твердого тела. \n3. Палий А. В.\n \nAndrew Palii\, Valeria Belonovich\, Denis Korchagin\, Juan-Modesto Clemente-Juan\, Boris Tsukerblat. Effects of Electron Transfer Network Topology on Functioning of Quantum Cellular Automata Based on Mixed-Valence Two-Electron Molecular Squares. \nСтатья в журнал The Journal of Chemical Physics.
URL:https://icp-ras.ru/event/zasedanie-sekcii-4-uchenogo-soveta-fic-pxf-i-mx-ran-11/
LOCATION:в режиме онлайн-конференции
ATTACH;FMTTYPE=image/jpeg:https://icp-ras.ru/wp-content/uploads/LOGO/Structure.jpg
END:VEVENT
BEGIN:VEVENT
DTSTART;TZID=Europe/Moscow:20250114T103000
DTEND;TZID=Europe/Moscow:20250114T123000
DTSTAMP:20260425T185633
CREATED:20250112T181301Z
LAST-MODIFIED:20250112T181301Z
UID:12499-1736850600-1736857800@icp-ras.ru
SUMMARY:Заседание Секции № 2 Ученого Совета ФИЦ ПХФ и МХ РАН
DESCRIPTION:Повестка \n\n1. Михайленко Максим Васильевич \n“Анионные соединения на основе производных гексаазатрифенилена: синтез\, структура и свойства”\n \nПреддиссертационный доклад на соискание ученой степени кандидата химических наук\n\n \nНаучный руководитель – д.х.н. Конарев Дмитрий Валентинович\n\nРецензенты:\nд.х.н. Баженова Тамара Александровна\nк.х.н. Казакова Анна Владимировна
URL:https://icp-ras.ru/event/zasedanie-sekcii-2-uchenogo-soveta-fic-pxf-i-mx-ran-10/
LOCATION:актовый зал корп. 2/2
ATTACH;FMTTYPE=image/jpeg:https://icp-ras.ru/wp-content/uploads/nauka-otdely/okik/K-and-K.jpg
END:VEVENT
BEGIN:VEVENT
DTSTART;TZID=Europe/Moscow:20250117T100000
DTEND;TZID=Europe/Moscow:20250117T123000
DTSTAMP:20260425T185633
CREATED:20250115T150136Z
LAST-MODIFIED:20250115T150136Z
UID:12571-1737108000-1737117000@icp-ras.ru
SUMMARY:Заседание секции №4 Ученого Совета ФИЦ ПХФ и МХ РАН
DESCRIPTION:В повестке дня:\n\n1. Е. П. Ивахненко\, Д. В. Корчагин\, Н. И. Омеличкин\, Г. В. Шилов\, А. А. Крайнюков\, М. В. Жидков\, А. И. Дмитриев\, О. П. Демидов\, П. А. Князев\, А. В. Чернышев\, А.В. Палий\, В. И. Минкин\, и С. М. Алдошин.\nНовая серия бифункциональных солей с катионом 12H-хиноксалино[2\,3-b]феноксазиния и анионами [Ln(hfac)4]−: синтез\, строение и теоретическое моделирование. Статья в журнал New Journal of Chemistry\n\n2. В. Д. Седых\, О. Г. Рыбченко\, А. И. Дмитриев\, В. И. Кулаков\, А.М. Гапочка\, В. С. Русаков. Влияние содержания Sr на кристаллическую и магнитную структуры ортоферрита\nСтатья в журнал Физика твердого тела\, отправлена соавторами из ИФТТ.\n\n3. М.В. Потапов\, А.В. Бузенков\, Р.А. Валеев\, В.П. Пискорский\, Р.Б. Моргунов. Влияние легирования гадолинием на магнитные свойства спеченных магнитов Pr-Dy-Fe-Co-B.\nСтатья в журнал Труды ВИАМ\n\n4. Дворецкая Е.В.  E.V. Dvoretskaya\, R.B. Morgunov.  PRODUCTION OF ULTRA-THIN NI NANONETWORK BY LASER ABLATION IN SUPERFLUID HELIUM”\nТезисы на 21-ое Международное совещание «Сложные системы заряженных частиц и их взаимодействие с электромагнитным излучением». (CSCPIER)\, 07-11 апреля 2025 года\, Москва\, ИОФ РАН\n\n5. Н. А. Санина\, В. О. Новикова\, О. В. Покидова. Разработка пероральной лекарственной формы миметиков нитрозильных ферредоксинов – перспективных экзогенных доноров оксида азота (NO).\nТезисы на V БАЙКАЛЬСКИЙ МАТЕРИАЛОВЕДЧЕСКИЙ ФОРУМ (4-10 июля 2025 года\, г. Улан-Удэ)
URL:https://icp-ras.ru/event/zasedanie-sekcii-4-uchenogo-soveta-fic-pxf-i-mx-ran-12/
LOCATION:в режиме онлайн-конференции
ATTACH;FMTTYPE=image/jpeg:https://icp-ras.ru/wp-content/uploads/LOGO/Structure.jpg
END:VEVENT
BEGIN:VEVENT
DTSTART;TZID=Europe/Moscow:20250117T100000
DTEND;TZID=Europe/Moscow:20250117T123000
DTSTAMP:20260425T185633
CREATED:20250115T150321Z
LAST-MODIFIED:20250115T150321Z
UID:12573-1737108000-1737117000@icp-ras.ru
SUMMARY:Заседание cекции № 6 Ученого Совета ФИЦ ПХФ и МХ РАН
DESCRIPTION: Повестка:\n\n1)      Выступление зав. лаб. ЯМР АЦКП ФИЦ ПХФ и МХ РАН проф.\, д.ф.-м.н. Волкова Виталия Ивановича “Возможности  методов  ЯМР для исследования перфторированных сульфокатионитных мембран”:\n\n \nБудут обсуждены возможности методов ЯМР в исследовании  формирования структуры транспортных каналов\, а также механизма молекулярной и ионной подвижности в перфторированных \n сульфокатионитовых мембранах нового типа на основе опыта работы с мембранами МФ-4СК и Нафион в лаборатории мембранных процессов НИФХИ им. Л.Я.Карпова\, лаборатории ЯМР ФИЦ ПХФ и МХ РАН. \n\n2) Рассмотрение материалов для открытого опубликования:\n\nТезисы докладов на конференцию «Лунинские чтения» (Химический факультет МГУ им. М.В. Ломоносова\, 12 февраля 2025 г.):\n\n1. Тарасов Б.П. Металлогидридный способ хранения водорода: проблемы и перспективы. Приглашенный доклад.\n\n2. Шамов И.Д. Исследование влияния легирующих\, раскисляющих и металл-углеродных каталитических добавок на водородсорбционные свойства силавов на основе интерметаллида TiFe. Стендовый доклад.\n\n3. Ахременков Б.В. Влияние никель-графеновой добавки на кинетику поглощения водорода интерметаллидом LaNi4.45Al0.55 в присутствии примеси воздуха. Стендовый доклад.\n\nСтатьи:\n\n1. U.M. Zavorotnaya\, Y.E. Gudkov\, I.I. Ponomarev\, N.V. Lyskov\, I.A. Ryzhkin\, V.V. Sinitsyn Comparative studies of the proton conductivity behavior during hydration of sulfonated perfluorinated and hydrocarbon proton exchange membranes // Ionics.\n\n2. E.V. Butyrskaya\, E.V. Zolotukhina\, P. Herbeck-Engel\, M. Koch\, Y.E. Silina Toward the development of a specific non-enzymatic amperometric sensor for determining uric acid in fermentation samples // Microchimica Acta.
URL:https://icp-ras.ru/event/zasedanie-cekcii-6-uchenogo-soveta-fic-pxf-i-mx-ran/
LOCATION:в актовом зале корпуса 2/7 (ком.301)
ATTACH;FMTTYPE=image/jpeg:https://icp-ras.ru/wp-content/uploads/LOGO/OFM.jpg
END:VEVENT
BEGIN:VEVENT
DTSTART;TZID=Europe/Moscow:20250124T150000
DTEND;TZID=Europe/Moscow:20250124T173000
DTSTAMP:20260425T185633
CREATED:20250122T163242Z
LAST-MODIFIED:20250122T163242Z
UID:12715-1737730800-1737739800@icp-ras.ru
SUMMARY:Заседание Ученого совета ФИЦ ПХФ и МХ РАН
DESCRIPTION:Повестка дня:\n1. Замещение вакантной должности главного научного сотрудника (выступление Иванова Дмитрия Анатольевича).\n2. Замещение вакантной должности старшего научного сотрудника (выступление Раевской Татьяны Анатольевны).\n3. Выдвижение кандидатур для избрания в члены Российской академии наук. (Тайное голосование).4. Разное.\n4.1 Выдвижение работ на соискание медалей РАН с премиями для молодых ученых России (Фараонов Максим Алексеевич\, Чапров Кирилл Дмитриевич).
URL:https://icp-ras.ru/event/zasedanie-uchenogo-soveta-fic-pxf-i-mx-ran-7/
LOCATION:в режиме онлайн-конференции
ATTACH;FMTTYPE=image/jpeg:https://icp-ras.ru/wp-content/uploads/LOGO/SciCoun.jpg
END:VEVENT
BEGIN:VEVENT
DTSTART;TZID=Europe/Moscow:20250130T150000
DTEND;TZID=Europe/Moscow:20250130T170000
DTSTAMP:20260425T185633
CREATED:20250129T082207Z
LAST-MODIFIED:20250129T082207Z
UID:12780-1738249200-1738256400@icp-ras.ru
SUMMARY:Заседание cекции № 6 Ученого cовета ФИЦ ПХФ и МХ РАН
DESCRIPTION:Повестка: \n1.   Дергачева Полина Евгеньевна\, м.н.с. лаборатории функциональной керамики Института металлургии и материаловедения им. А.А. Байкова РАН \n «Симметричные ячейки с высокопроводящим композиционным электролитом на основе Bi2O3 для электрохимического генератора кислорода»\n(Преддиссертационный доклад по работе\, представленной на соискание ученой степени кандидата технических наук по специальности 2.6.5. – Порошковая металлургия и композиционные материалы.  Научный руководитель – д.ф.-м.н. Белоусов В.В.\nФИЦ ПХФ И МХ РАН – Ведущая организация) \n2) Рассмотрение материалов для открытого опубликования:\n \n\n Volkov V.I.\, Avilova I.A. Cupper (II) EPR in Amino Phosphonic Polyampholytes //Applied Magnetic Resonance.\n\n\nЗюбин А.С.\, Зюбина Т.С.\, Кравченко О.В.\, Соловьев М.В.\, Васильев В.П.\, Зайцев А.А.\, Шиховцев А.В.\, Добровольский Ю.А. Квантово-химическое моделирование отщепления молекулярного водорода от бикатионного комплекса ZnMg(BH4)4 *4NH3 // Журнал неорганической химии.\n Lyskov N.\, Baldin E.\, Borunova A.\, Vorobieva G.\, Stolbov D.\, Shlyakhtina A. Proton conductivity in the Gd2O3-HfO2 system // New Journal of Chemistry.
URL:https://icp-ras.ru/event/zasedanie-cekcii-6-uchenogo-coveta-fic-pxf-i-mx-ran/
LOCATION:в актовом зале корпуса 2/7 (ком.301)
ATTACH;FMTTYPE=image/jpeg:https://icp-ras.ru/wp-content/uploads/LOGO/OFM.jpg
END:VEVENT
BEGIN:VEVENT
DTSTART;TZID=Europe/Moscow:20250131T150000
DTEND;TZID=Europe/Moscow:20250131T170000
DTSTAMP:20260425T185633
CREATED:20250127T185001Z
LAST-MODIFIED:20250127T185001Z
UID:12775-1738335600-1738342800@icp-ras.ru
SUMMARY:Научный семинар Ученого совета ФИЦ ПХФ и МХ РАН
DESCRIPTION:Повестка дня: \nТрифонов Александр Анатольевич\, чл.-корр. РАН\, доктор химических наук\, директор ИНЭОС РАН \n“Бифункциональные мономолекулярные магниты (SIM) на основе комплексов лантаноидов”
URL:https://icp-ras.ru/event/nauchnyj-seminar-uchenogo-soveta-fic-pxf-i-mx-ran/
LOCATION:актовый зал корпуса общего назначения\, пр. Академика Н.Н. Семенова\, д. 1\, Черноголовка
ATTACH;FMTTYPE=image/jpeg:https://icp-ras.ru/wp-content/uploads/LOGO/SciSec.jpg
END:VEVENT
END:VCALENDAR