BEGIN:VCALENDAR
VERSION:2.0
PRODID:-//ФЕДЕРАЛЬНЫЙ ИССЛЕДОВАТЕЛЬСКИЙ ЦЕНТР ПРОБЛЕМ ХИМИЧЕСКОЙ ФИЗИКИ И МЕДИЦИНСКОЙ ХИМИИ РАН - ECPv6.8.0//NONSGML v1.0//EN
CALSCALE:GREGORIAN
METHOD:PUBLISH
X-WR-CALNAME:ФЕДЕРАЛЬНЫЙ ИССЛЕДОВАТЕЛЬСКИЙ ЦЕНТР ПРОБЛЕМ ХИМИЧЕСКОЙ ФИЗИКИ И МЕДИЦИНСКОЙ ХИМИИ РАН
X-ORIGINAL-URL:https://icp-ras.ru
X-WR-CALDESC:Мероприятия для ФЕДЕРАЛЬНЫЙ ИССЛЕДОВАТЕЛЬСКИЙ ЦЕНТР ПРОБЛЕМ ХИМИЧЕСКОЙ ФИЗИКИ И МЕДИЦИНСКОЙ ХИМИИ РАН
REFRESH-INTERVAL;VALUE=DURATION:PT1H
X-Robots-Tag:noindex
X-PUBLISHED-TTL:PT1H
BEGIN:VTIMEZONE
TZID:Europe/Moscow
BEGIN:STANDARD
TZOFFSETFROM:+0300
TZOFFSETTO:+0300
TZNAME:MSK
DTSTART:20250101T000000
END:STANDARD
END:VTIMEZONE
BEGIN:VEVENT
DTSTART;TZID=Europe/Moscow:20250307T100000
DTEND;TZID=Europe/Moscow:20250307T120000
DTSTAMP:20260425T151624
CREATED:20250305T131740Z
LAST-MODIFIED:20250305T131740Z
UID:13426-1741341600-1741348800@icp-ras.ru
SUMMARY:Заседание секции №3 Ученого совета ФИЦ ПХФ и МХ РАН
DESCRIPTION:Повестка дня: \nДоклады на Итоговую сессию Ученого советаФИЦ ПХФ и МХ РАН \nТема: Заседание секции N3 УС ФИЦ ПХФ И МХ РАН
URL:https://icp-ras.ru/event/zasedanie-sekcii-3-uchenogo-soveta-fic-pxf-i-mx-ran-21/
LOCATION:в режиме онлайн-конференции
ATTACH;FMTTYPE=image/jpeg:https://icp-ras.ru/wp-content/uploads/dis-sovet/icon/sci-3.jpg
END:VEVENT
BEGIN:VEVENT
DTSTART;TZID=Europe/Moscow:20250312T110000
DTEND;TZID=Europe/Moscow:20250312T150000
DTSTAMP:20260425T151624
CREATED:20250310T122543Z
LAST-MODIFIED:20250310T122543Z
UID:13705-1741777200-1741791600@icp-ras.ru
SUMMARY:Заседание семинара "Высокоэнергетические системы"
DESCRIPTION:Повестка\nРассмотрение материалов для публикации в открытой печати: \n12-я Всероссийская конференция по внутрикамерным процессам и горению в установках на твердом топливе и ствольных системах (1СОС’2025)\, посвященная 90-летию акад. Липанова А.М. Ижевск\, 18-20 марта 2025 г. \n\nАверьков И.С.\, Яновский Л.С.\, Брусков В.А.\, Лемперт Д.Б.\, Разносчиков В.В.\, Суриков Е.В.\, Байков А.В.\, Волкова Н.Н.\, Пучковский И.В.\, Жолудев А.Ф.\, Кислов М.Б.\, Дорофеенко Е.М.\, Стольников А.М. Выбор топлива и проектирование ВРД для высокоскоростного ЛА.\nБайков А.В.\, Яновский Л.С.\, Картовицкий Л.Л. Приближенный метод расчета процессов в газовой фазе при горении топлива в условиях низкотемпературного ГГ.\nРазносчиков В.В.\, Яновский Л.С.\, Аверьков И.С.\, Суриков Е.В.\, Стольников А.М. Системный анализ и имитационное моделирование при создании ВРД для беспилотных ЛА.\nСтольников А.М.\, Аверьков И.С.\, Разносчиков В.В.\, Волкова Н.Н.\,\nЖолудев А.Ф.\, Кислов М.Б.\, Яновский Л.С. Оценка эффективности перспективных диспергаторов безметальных ЭКМ.\nАлексеева А.Н.\, Суриков Е.В.\,Байков А.В.\, Картовицкий Л.Л.\, Коломенцев П.А.\, Шаров М.С.\, Яновский Л.С. Исследование энергетической эффективности горения ЭКМ в ГГ.\nСуриков Е.В.\, Коломенцев П.А.\, Шаров М.С.\, Брусков В.А.\, Яновский Л.С. Проблемы использования ДУ на ТТ в составе ЛА.\nЯновский Л.С.\,Разносчиков В.В.\, Аверьков И.С.\, Стольников А.М.\, Картовицкий Л.Л. Проблемы горения ЭКМ в ВРД.\n\nXXVIII Конференция «Актуальные проблемы защиты и безопасности» МВАА\, Санкт -Петербург\, 2-4 апреля 2025 г. \n\nЯновский Л.С.\,Байков А.В.\, Разносчиков В.В. Тарасов Г.А.\, Заславский Г.Е.\, Картовицкий Л.Л. Формирование методических подходов к многомерному расчету рабочего процесса в низкотемпературном ГГ на ЭКМ.\nРазносчиков В.В.\, Аверьков И.С.\, Картовицкий Л.Л.\, Яновский Л.С. Системный подход формирования требований к топливу для двигателей ЛА.\n\n\n«Успехи в специальной химии и химической технологии» (ИХТ-90)\, Москва\, РХТУ\, 24-25 апреля 2025 г. \n\nЯновский Л.С.\,Байков А.В.\, Заславский Г.Е.\, Попов К.В.\, Картовицкий Л.Л. Приближенное моделирование горения октогена.\nЛемперт Д.Б.\, Дашко Д.В.\, Казаков А.И.\, Набатова А.В.\, Байков А.В.\, Разносчиков В.В.\, Игнатьева Е.Л.\, Аверьков И.С.\,Стольников А.М.\, Яновский Л.С.\, Михайлов Ю.М. Сравнительный анализ эффективности использования новых ЭКМ в ГГ составах.\n\n\nСтатья в журнал «Химическая физика» \nБайков А.В.\, Заславский Г.Е.\, Попов К.В.\, Яновский Л.С. Упрощенный подход к расчету основных параметров горения индивидуальных энергетических материалов на примере перхлората аммония и октогена.
URL:https://icp-ras.ru/event/zasedanie-seminara-vysokoenergeticheskie-sistemy-9/
LOCATION:в корпусе 1/7 (к. 85\, 5 этаж)
ATTACH;FMTTYPE=image/jpeg:https://icp-ras.ru/wp-content/uploads/nauka-otdely/OGV/C-and-E.jpg
END:VEVENT
BEGIN:VEVENT
DTSTART;TZID=Europe/Moscow:20250313T090000
DTEND;TZID=Europe/Moscow:20250313T120000
DTSTAMP:20260425T151624
CREATED:20250311T103256Z
LAST-MODIFIED:20250311T103738Z
UID:13741-1741856400-1741867200@icp-ras.ru
SUMMARY:Заседание ученого совета ФИЦ ПХФ и МХ РАН
DESCRIPTION:Повестка дня: \n13 марта 2025 г. 9:00 \n1. Научные доклады по итогам деятельности ФИЦ ПХФ и МХ РАН в 2024 г. 21 -й Конкурс на лучшую работу фундаментального характера \n\n\n Лазарев Илья Дмитриевич\, М. Нарожняк\, Т. Бернс\, Пырков А.Н. «Гибридный алгоритм кластеризации данных без учителя на основе самоорганизующейся карты признаков»\nВасильев Сергей Геннадьевич\, Фельдман Э.Б.\, Бочкин Г.А.\, Кузнецова Е.И. «Диссипативная динамика многоквантовых когерентностей ЯМР в двухспиновых системах»\nПалий Андрей Владимирович\, Цукерблат Б.С. «Исследование взаимосвязи магнитной анизотропии и рассеяния мощности при неадиабатическом выключении магнитного поля в парамагнитных комплексах переходных металлов с погашенными орбитальными моментами»\nРазумов Владимир Федорович\, Акимов А.В.\, Гак В.Ю.\, Назаров В.Б.\, Николенко Л.М.\, Певцов Д.Н.\, Попков Д.С.\, Товстун С.А. «Особенности проявления размерного эффекта в люминесценции коллоидных квантовых точек фосфида индия допированных ионами марганца»\nМочалова Валентина Михайловна\,Уткин А.В.\,Николаев Д.Н.\, Малков Г.В. «Ударная сжимаемость полимерных композиционных материалов до давления 370 Гпа»\nКузнецов П.М.\, Шестаков А.Ф.\, Трошин Павел Анатольевич «Стабильность материалов для органических солнечных батарей: от методологии оценки до предсказательной модели»\nГадомский С.Я.\, Третьяков Б.А.\, Балакина А.А.\, Филатова Н.В.\, Мумятова В.А.\, Сашенкова Т.Е.\, Климанова Е.Н.\, Коковина Т.С.\, Терентьев Алексей Алексеевич «Производные N-гидроксибутанамида: влияние на Zn-металлоферменты и противоопухолевый потенциал»\nТараканов Павел Александрович «1\,4-Диазепинопорфиразины как модель для изучения связи структура-свойство в тетрапиррольных макроциклах»\nКурмаз Светлана Викторовна\, Ульянов И.В.\, Емельянова Н.С.\, Рыбкин А.А.\, Балакина А.А.\, Амозова В.И.\, Мищенко Д.В. «Физико-химические основы создания эффективных транспортных платформ для гидрофобных фотосенсибилизаторов на основе оригинальных сополимеров N-винилпирролидона»\n\n\n2. Подведение итогов 21-го конкурса на лучшую работу фундаментального характера. (Тайное голосование)\n3. Разное.
URL:https://icp-ras.ru/event/zasedanie-uchenogo-soveta-fic-pxf-i-mx-ran-10/
ATTACH;FMTTYPE=image/jpeg:https://icp-ras.ru/wp-content/uploads/LOGO/SciCoun.jpg
END:VEVENT
BEGIN:VEVENT
DTSTART;TZID=Europe/Moscow:20250314T150000
DTEND;TZID=Europe/Moscow:20250314T170000
DTSTAMP:20260425T151624
CREATED:20250303T175455Z
LAST-MODIFIED:20250311T103941Z
UID:13393-1741964400-1741971600@icp-ras.ru
SUMMARY:Итоговая сессия Ученого совета ФИЦ ПХФ и МХ РАН за 2024 год
DESCRIPTION:1. Научные доклады по итогам деятельности ФИЦ ПХФ и МХ РАН в 2024 г. \n24-й Конкурс им. Ф.И. Дубовицкого \n\nГерасимова Екатерина Владимировна\, Бельмесов А.А.\, Галин М.З.\, Чуб А.В.\, Шмыглева Л.В.\, Левченко А.В. «Ресурсные испытания низкотемпературного топливного элемента с воздушным охлаждением: эксперимент и моделирование»\nФайнгольд Евгений Ефимович\, Саратовских С.Л.\, Панин А.Н.\, Голодков О.Н.\, Жарков И.В.\, Бравая Н.М.\, Кнерельман Е.И.\, Лазарев А.Е.\, Коротков К.К.\, Васильева Л.П.\, Седов И.В.\, Кульчаковский П.И.\, Ленев Д.А. «Исследование закономерностей тримеризации этилена в гексен-1  на хром-пиррольной каталитической системе»\nЗайченко А.Ю.\, Подлесный Д.Н.\, Полианчик Евгений Викторович\, Цветков М.В.\, Яновский Л.С. «Сжигание бедных смесей этанола с воздухом в реакторе типа swiss-roll»\n\n2. Подведение итогов 24-го конкурса на соискание премии им. Ф.И. Дубовицкого. (Тайное голосование)\n3. Разное.
URL:https://icp-ras.ru/event/itogovaya-sessiya-uchenogo-soveta-fic-pxf-i-mx-ran-za-2024-god/
ATTACH;FMTTYPE=image/jpeg:https://icp-ras.ru/wp-content/uploads/LOGO/SciCoun.jpg
END:VEVENT
BEGIN:VEVENT
DTSTART;TZID=Europe/Moscow:20250320T093000
DTEND;TZID=Europe/Moscow:20250320T120000
DTSTAMP:20260425T151624
CREATED:20250319T032703Z
LAST-MODIFIED:20250319T032703Z
UID:13820-1742463000-1742472000@icp-ras.ru
SUMMARY:Заседание секции № 5 Ученого Совета ФИЦ ПХФ и МХ РАН
DESCRIPTION:Повестка: \n1. Абдуллин А. Р.(ФГАОУВО «Казанский (Приволжский) федеральный университет») \nВлияние плотности ковалентной сшивки на кинетику кристаллизации и нуклеации ряда полимеров по данным быстрой сканирующей калориметрии \nПредзащита диссертации на соискание учёной степени кандидата химических наук по специальности 1.4.4. – Физическая химия \nВедущая организация: ФИЦ проблем химической физики и медицинской химии Российской академии наук\, г. Черноголовка \nАвтореферат Абиуллина А.Р. \n2. L.L. Levkov\, N.M. Surin\, O.V. Borshchev\, Y.O. Titova\, N.O. Dubinets\, E.A. Svidchenko\, P.A. Shaposhnik\, A.A. Trul \, A.Z. Umarov \,D.V. Anokhin\, M.Rosenthal\, D.A. IvanovV.V. Ivanov and SA. Ponomarenko \nThree Isomeric Dioctyl Derivatives of 2\,7-Dithienyl[1]benzo-thieno[3\,2-b][1]benzothiophene: Synthesis\, Optical\, Thermal\, and Semiconductor Properties.//Materials \n3. Тезисы докладов на конференции
URL:https://icp-ras.ru/event/zasedanie-sekcii-5-uchenogo-soveta-fic-pxf-i-mx-ran-25/
LOCATION:актовый зал корп. 2/2
ATTACH;FMTTYPE=image/jpeg:https://icp-ras.ru/wp-content/uploads/dis-sovet/icon/sci-5.jpg
END:VEVENT
BEGIN:VEVENT
DTSTART;VALUE=DATE:20250321
DTEND;VALUE=DATE:20250322
DTSTAMP:20260425T151624
CREATED:20250303T175648Z
LAST-MODIFIED:20250303T175709Z
UID:13395-1742515200-1742601599@icp-ras.ru
SUMMARY:Итоговая сессия Ученого совета ФИЦ ПХФ и МХ РАН за 2024 год
DESCRIPTION:27-й конкурс молодых ученых на соискание премии С.М. Батурина \nСекциям Ученого совета и Ученому совету обособленного подразделения на своих заседаниях рассмотреть вопрос о выдвижении научных докладов на итоговую сессию.\nПри рассмотрении предпочтение следует отдавать работам\, результаты которых были признаны лучшими в отделе в 2024 году
URL:https://icp-ras.ru/event/itogovaya-sessiya-uchenogo-soveta-fic-pxf-i-mx-ran-za-2024-god-2/
ATTACH;FMTTYPE=image/jpeg:https://icp-ras.ru/wp-content/uploads/LOGO/SciCoun.jpg
END:VEVENT
BEGIN:VEVENT
DTSTART;TZID=Europe/Moscow:20250321T103000
DTEND;TZID=Europe/Moscow:20250321T123000
DTSTAMP:20260425T151624
CREATED:20250320T135339Z
LAST-MODIFIED:20250320T135339Z
UID:13877-1742553000-1742560200@icp-ras.ru
SUMMARY:Заседание семинара "Макрокинетика и процессы горения"
DESCRIPTION:Повестка: \n1. Тарасов Г.А. “Конверсия низкосортного топлива в синтез-газ: эксперимент\, моделирование\, приложение” доклад на семинаре в рамках КНП “Фундаментальные исследования процессов горения и детонации в перспективных технологиях энергетики и двигателестроения”. \n2. Тезисы докладов на XXXVII Симпозиум «Современная химическая физика»:\n \n1) Зайченко А.Ю.\, Подлесный Д.Н.\, Полианчик Е.В.\, Салганская М.В.\, Тарасов Г.А.\, Цветков М.В. Влияние газодинамических факторов на окислительной конверсии этанола в синтез-газ в реакторе с подвижным слоем инертного теплоносителя. \n2) Подлесный Д.Н.\, Полианчик Е.В.\, Цветков М.В.\, Яновский Л.С.\, Зайченко А.Ю. Сжигание бедных смесей этанола с воздухом в реакторе типа swiss-roll. \n3) Дорофеенко С.О.\, Подлесный Д.Н.\, Полианчик Е.В.\, Салганская М.В.\, Цветков М.В.\, Яновский Л.С.\, Зайченко А.Ю. Окислительная конверсия этанола в синтез-газ в реакторе с раздельным вводом реагентов в условиях подвижного слоя инертного теплоносителя.\n4) Цветков М.В.\, Зайченко А.Ю.\, Подлесный Д.Н.\, Цветкова Ю.Ю.\, Салганская М.В.\, Кислов В.М.\, Салганский Е.А. Термодинамическая оценка устойчивости сульфата кальция при паровоздушной газификации твердого топлива в фильтрационном режиме. \n5) Полианчик Е.В.\, Подлесный Д.Н.\, Цветков М.В.\, Салганская М.В.\, Зайченко А.Ю. Окислительная конверсия богатых этанол-воздушных смесей в синтез-газ в реакторе типа Swiss-roll. \n6) Полианчик Е.В.\, Подлесный Д.Н.\, Цветков М.В.\, Салганская М.В.\, Зайченко А.Ю. Обезвреживание замазученных песков в режиме фильтрационного горения. \n7) Полианчик Е.В.\, Подлесный Д.Н.\, Цветков М.В.\, Салганская М.В.\, Зайченко А.Ю. Термодинамическая оценка режимов получения синтез-газа при высокотемпературной конверсии мазутного топлива. \n8) Полианчик Е.В. Процессы с повышенной энтальпией (обзорный). \n9) Кислов В.М.\, Цветкова Ю.Ю.\, Пилипенко Е.Н.\, Зайченко А.Ю.\, Подлесный Д.Н.\, Цветков М.В.\, Салганский Е.А.\, Салганская М.В. Выбор оптимальной кальцийсодержащей добавки для поглощения серы при фильтрационном горении твердых топлив. \n10) Кислов В.М.\, Цветкова Ю.Ю.\, Пилипенко Е.Н.\, Зайченко А.Ю.\, Подлесный Д.Н.\, Цветков М.В.\, Салганский Е.А.\, Салганская М.В. Поглощение серы при термической утилизации кислых гудронов. \n11) Кислов В.М.\, Цветкова Ю.Ю.\, Пилипенко Е.Н.\, Зайченко А.Ю.\, Подлесный Д.Н.\, Цветков М.В.\, Салганский Е.А.\,  Салганская М.В. Поглощение серы при фильтрационном горении отходов нефтеперерабатывающей промышленности.
URL:https://icp-ras.ru/event/zasedanie-seminara-makrokinetika-i-processy-goreniya-11/
ATTACH;FMTTYPE=image/jpeg:https://icp-ras.ru/wp-content/uploads/nauka-otdely/OGV/C-and-E.jpg
END:VEVENT
BEGIN:VEVENT
DTSTART;TZID=Europe/Moscow:20250328T110000
DTEND;TZID=Europe/Moscow:20250328T130000
DTSTAMP:20260425T151624
CREATED:20250325T095226Z
LAST-MODIFIED:20250325T095226Z
UID:13928-1743159600-1743166800@icp-ras.ru
SUMMARY:Заседание секции №4 Ученого Совета ФИЦ ПХФ и МХ РАН
DESCRIPTION:Повестка\nРассмотрение материалов для публикации в открытой печати: \nЭ.Б. Ягубский \nV.A. Kopotkov\, L.V. Zorina\, S.V. Simonov\, D.V. Korchagin\, M.V. Zhidkov\, A.I. Dmitriev\, G. Mahmoudi and E.B. Yagubskii «Mononuclear complexes of dysprosium(III) with 2\,6-diacetylpyridine bis(isonicotinoylhydrazone): synthesis\, crystal structure\, magnetic properties» \nСтатья в журнал CrystEngComm. \n  \nК.В.Боженко\nK.V. Bozhenko\, A.N. Utenyshev\, L.G. Gutsev\, S.M. Aldoshin1 and G.L. GutsevQuantum-Chemical study of Interactions of Fe2On (n=7\, 9) Clusters with H2 and O2 Molecules. \nТезисы на 22-nd International School-Conference Spinus 2025.Magnetic resonance and its applications \nSt. Petersburg\, Russia\, 31 March — 4 April\, 2025.
URL:https://icp-ras.ru/event/zasedanie-sekcii-4-uchenogo-soveta-fic-pxf-i-mx-ran-14/
ATTACH;FMTTYPE=image/jpeg:https://icp-ras.ru/wp-content/uploads/dis-sovet/icon/sci-4.jpg
END:VEVENT
END:VCALENDAR