BEGIN:VCALENDAR
VERSION:2.0
PRODID:-//ФЕДЕРАЛЬНЫЙ ИССЛЕДОВАТЕЛЬСКИЙ ЦЕНТР ПРОБЛЕМ ХИМИЧЕСКОЙ ФИЗИКИ И МЕДИЦИНСКОЙ ХИМИИ РАН - ECPv6.8.0//NONSGML v1.0//EN
CALSCALE:GREGORIAN
METHOD:PUBLISH
X-ORIGINAL-URL:https://icp-ras.ru
X-WR-CALDESC:Мероприятия для ФЕДЕРАЛЬНЫЙ ИССЛЕДОВАТЕЛЬСКИЙ ЦЕНТР ПРОБЛЕМ ХИМИЧЕСКОЙ ФИЗИКИ И МЕДИЦИНСКОЙ ХИМИИ РАН
REFRESH-INTERVAL;VALUE=DURATION:PT1H
X-Robots-Tag:noindex
X-PUBLISHED-TTL:PT1H
BEGIN:VTIMEZONE
TZID:Europe/Moscow
BEGIN:STANDARD
TZOFFSETFROM:+0300
TZOFFSETTO:+0300
TZNAME:MSK
DTSTART:20250101T000000
END:STANDARD
END:VTIMEZONE
BEGIN:VEVENT
DTSTART;TZID=Europe/Moscow:20250604T103000
DTEND;TZID=Europe/Moscow:20250604T123000
DTSTAMP:20260423T131716
CREATED:20250421T074445Z
LAST-MODIFIED:20250421T074445Z
UID:14620-1749033000-1749040200@icp-ras.ru
SUMMARY:Защита диссертации Михайленко М.В.
DESCRIPTION:«Обменные взаимодействия в комплексах 3d-металлов с восстановленными производными гексаазатрифенилена» \nТекст диссертации расположен по адресу: https://icp-ras.ru/wp-content/uploads/DISS/Mikhailenko/Dissert_Mikhailenko.pdf
URL:https://icp-ras.ru/event/zashhita-dissertacii-mixajlenko-m-v/
LOCATION:актовый зал корпуса общего назначения\, пр. Академика Н.Н. Семенова\, д. 1\, Черноголовка
ATTACH;FMTTYPE=image/webp:https://icp-ras.ru/wp-content/uploads/DISS/Mikhailenko/Michailenko_icon.webp
END:VEVENT
BEGIN:VEVENT
DTSTART;TZID=Europe/Moscow:20250605T093000
DTEND;TZID=Europe/Moscow:20250605T120000
DTSTAMP:20260423T131716
CREATED:20250602T163155Z
LAST-MODIFIED:20250602T163155Z
UID:15259-1749115800-1749124800@icp-ras.ru
SUMMARY:Заседание cекции № 5 Ученого Совета ФИЦ ПХФ и МХ РАН
DESCRIPTION:Повестка\nРассмотрение материалов\, предназначенных для открытого опубликования\n\nСтатьи: \n1. Савченко В.И.\, Озерский А.В.\, Бузилло Э.\, Никитин А.В.\, Седов И.В.\, Арутюнов В.С.\nВлияние давления на кинетику некаталитической термической конверсии метана в присутствии различных газов//Petroleum Chemistry \n2. Савченко В.И.\, Озерский А.В.\, Бузилло Э.\, Никитин А.В.\, Седов И.В.\, Арутюнов В.С.\nНекаталитическое парциальное окисление метана под давлением//Petroleum Chemistry \n3. Ульянов И.В.\, Рыбкин А.Ю.\, Ходос И.И.\, Емельянова Н.С.\, Курмаз С.В.\nФотофизические свойства наноразмерного гидрофобного метилфеофорбида а в составе полимерных композиций и его перспективы для фотодинамической терапии// High Energy Chemistry \nТезисы: \n1. Ульянов И.В.\, Рыбкин А.Ю.\, Курмаз С.В.\nРазработка систем доставки гидрофобных красителей для фотодинамической терапии на основе биосовместимых термочувствительных сополимеров n-изопропилакриламида с диметакрилатом триэтиленгликоля.\nТезисы доклада на Третью всероссийскую школу-конференцию по медицинской химии для молодых ученых с международным участием 23-27 июня 2025 г. Уфа. \n2. Курмаз С.В.\, Емельянова Н.С.\, Ходос И.И.\, Рыбкин А.Ю.\, Лапшина М.А.\, Бондаренко С.Д.\, Мищенко Д.В.\nРазработка перспективных систем адресной доставки гидрофобного фотосенсибилизатора – метилфеофорбида а на основе амфифильных сополимеров N-винилпирролидона с (ди)метакрилатами и их исследование in vitro\, in vivo и ex vivo\nТезисы доклада для участия в IX Международной конференции «Современные синтетические методологии для создания лекарственных препаратов и функциональных материалов» (MOSM 2025)\, 6-10 сентября 2025\, г. Пермь. \n3. Курмаз С.В.\, Конев Д.В.\, Курмаз В.А.\nПолучение\, характеризация полимерных композиций куркумина и их перспективы в биомедицинских приложениях\nТезисы доклада для участия в IX Международной конференции «Современные синтетические методологии для создания лекарственных препаратов и функциональных материалов» (MOSM 2025)\, 6-10 сентября 2025\, г. Пермь\, Стендовый доклад. \n4) Курмаз С.В.\, Емельянова Н.С.\, Жиленков А.В.\, Полетаева Д.А.\, Смолина А.В.\, Файнгольд И.И.\n«Экспериментальное и теоретическое исследование межмолекулярных взаимодействий между бычьим сывороточным альбумином и наноразмерными системами гидрофобных флуоресцентных красителей на основе амфифильных сополимеров N-винилпирролидона»\nГлава в коллективную монографию Х Всероссийской школы-конференции молодых ученых «Органические и гибридные наноматериалы» и IV Молодежная школа «Водородные и металлогидридные энерготехнологии»\, Россия\, Иваново\, 16-20 июня 2025 г.
URL:https://icp-ras.ru/event/zasedanie-cekcii-5-uchenogo-soveta-fic-pxf-i-mx-ran-6/
LOCATION:актовый зал корп. 2/2
ATTACH;FMTTYPE=image/jpeg:https://icp-ras.ru/wp-content/uploads/dis-sovet/icon/sci-5.jpg
END:VEVENT
BEGIN:VEVENT
DTSTART;TZID=Europe/Moscow:20250605T103000
DTEND;TZID=Europe/Moscow:20250605T113000
DTSTAMP:20260423T131716
CREATED:20250604T120635Z
LAST-MODIFIED:20250604T120635Z
UID:15284-1749119400-1749123000@icp-ras.ru
SUMMARY:Заседание cекции № 9 Ученого Совета ФИЦ ПХФ и МХ РАН
DESCRIPTION:Повестка:\nПереаттестация аспирантов\n1. Аспирант 1-го года обучения Поликарпов Дмитрий Сергеевич (научный руководитель к.х.н.\, с.н.с. Гапанович Михаил Вячеславович)\n2. Аспирант 4-го года обучения Матюхин Павел Борисович (научный руководитель к.х.н.\, в.н.с. Спирин Максим Геннадьевич)\n3. Аспирант 4-го года обучения Лочин Георгий Александрович (научный руководитель д.х.н.\, г.н.с. Бричкин Сергей Борисович)
URL:https://icp-ras.ru/event/zasedanie-cekcii-9-uchenogo-soveta-fic-pxf-i-mx-ran-2/
LOCATION:актовый зал корпуса 2/10
ATTACH;FMTTYPE=image/jpeg:https://icp-ras.ru/wp-content/uploads/dis-sovet/icon/sci-9.jpg
END:VEVENT
BEGIN:VEVENT
DTSTART;TZID=Europe/Moscow:20250606T100000
DTEND;TZID=Europe/Moscow:20250606T120000
DTSTAMP:20260423T131716
CREATED:20250604T120808Z
LAST-MODIFIED:20250604T120808Z
UID:15287-1749204000-1749211200@icp-ras.ru
SUMMARY:Заседание секции №3 Ученого совета ФИЦ ПХФ и МХ РАН
DESCRIPTION:Повестка \n1. Преддиссертационный доклад аспиранта 4 года обучения Амозовой Веры Игоревны «Редокс-регулируемые механизмы цитотоксического действия нитрозильных комплексов железа – активаторов транскрипционного фактора Nrf2»\nНаправление подготовки 06.06.01 – Биологические науки\nПрофиль 03.01.04 – Биохимия\nНаучный руководитель: к.б.н. Балакина А.А.\nРецензенты: к.б.н. Файнгольд И.И.\, к.б.н. Лапшина М.А. \n2. Доклады аспирантов 4-го года обучения для ГИА.
URL:https://icp-ras.ru/event/zasedanie-sekcii-3-uchenogo-soveta-fic-pxf-i-mx-ran-24/
LOCATION:в корпусе 2/2 (Учебный класс МГУ)
ATTACH;FMTTYPE=image/jpeg:https://icp-ras.ru/wp-content/uploads/dis-sovet/icon/sci-3.jpg
END:VEVENT
BEGIN:VEVENT
DTSTART;TZID=Europe/Moscow:20250609T110000
DTEND;TZID=Europe/Moscow:20250609T140000
DTSTAMP:20260423T131716
CREATED:20250605T113449Z
LAST-MODIFIED:20250605T113449Z
UID:15293-1749466800-1749477600@icp-ras.ru
SUMMARY:Заседание семинара "Высокоэнергетические системы"
DESCRIPTION:Повестка: рассмотрение материалов для публикации в открытой печати. \n1. Захарова Алиса Дмитриевна\nПолучение комплексов включения гамма-циклодекстрина и его нитрованных производных с пестицидами. \nПредзащита магистерского диплома (МФТИ).\nНаучный руководитель – к.х.н. Даровских Анна Владимировна. \n2. Назин Г.М.\, Казаков А.И.\, Набатова А.В.\, Юдин Н.В.\, Костин Н.А.\, Волкова Н.Н.\, Заславский Г.Е. Кинетика и механизм разложения 5-нитро-2H-1\,2\,4-триазол-3(4H)-она.\nСтатья в журнал «Химическая физика». \n3. Казаков А.И.\, Лемперт Д.Б.\, Дашко Д.В.\, Набатова А.В.\, Игнатьева Е.Л.\, Яновский Л.С. Кинетика термического распада нового диспергатора — производного фуразаноазепина.\nСтатья в журнал «Боеприпасы и спецхимия». \n4. Крисюк Б.Э.\, Зюзин И.Н.\, Сыпко Т.М.\, Чуканов Н.В. Механизм термолиза нитрозамещенных 1-[2\,2-бис(метокси-NNO-азокси)этил]пиразолов.\nСтатья в журнал «Известия академии наук. Серия химическая». \n5. Волохов В.М.\, Парахин В.В.\, Амосова Е.С.\, Лемперт Д.Б.\, Воеводин В.В. Сравнение квантово-химических программ и методов для расчета энтальпий образования высокоэнергетических тетрациклов. (Volokhov V.M.\, Parakhin V.V.\, Amosova E.S.\, Lempert D.B.\, Voevodin V.V. Comparison of Quantum-Chemical Programs and Methods for the Calculation of Enthalpies of Formation of High-Energy Tetracyclic Compounds).\nСтатья в журнал «Supercomputing Frontiers and Innovations». \n6. Тарасов Г.А.\, Яновский Л.С. Моделирование двухфазного закрученного потока в канале Г-образной формы.\nТезисы на X Международную конференцию “Тепломассообмен и гидродинамика в закрученных потоках”. 20-22 октября 2025 г.\, Архангельск \n7. Зайцев В.П.\, Яновский Л.С. Топливно-экологические проблемы активного освоения Арктики.\nТезисы на Международную научно-техническую конференцию по авиационным двигателям «International Conference on Aviation Motors» (ICAM 2025)\, приуроченную к 95-летию ФАУ «ЦИАМ им. П.И. Баранова»\, 1-3 декабря 2025 г.\, Москва
URL:https://icp-ras.ru/event/zasedanie-seminara-vysokoenergeticheskie-sistemy-12/
LOCATION:в корпусе 1/7 (к. 85\, 5 этаж)
ATTACH;FMTTYPE=image/jpeg:https://icp-ras.ru/wp-content/uploads/dis-sovet/icon/sci-1.jpg
END:VEVENT
BEGIN:VEVENT
DTSTART;TZID=Europe/Moscow:20250610T100000
DTEND;TZID=Europe/Moscow:20250610T120000
DTSTAMP:20260423T131716
CREATED:20250606T145028Z
LAST-MODIFIED:20250606T145028Z
UID:15324-1749549600-1749556800@icp-ras.ru
SUMMARY:Заседание секции №3 Ученого совета ФИЦ ПХФ и МХ РАН
DESCRIPTION:Повестка \nРассмотрение материалов для публикации в открытой печати:\n\n1. А.В. Смолина\, И.И. Файнгольд\, Д.А. Полетаева\, К.Р. Королева\, О.М. Астафьев\, В.А. Курмаз\, Д.В. Конев\, С.В. Курмаз Наноразмерные системы куркумина на основе амфифильных (со)полимеров N-винилпирролидона с (ди)метакрилатами и их антиоксидантная активность.\n2. Саратовских Е.А.\, Куликова А.А.\, Санина Н.А. Ингибирование гликолитической пируваткиназы тиосульфатным комплексом железа – донором NO.\n3. Saratovskikh E.A. Specificity of inhibition of oxidative processes by roundup (N-Phosphomethylglycine) and its photodecomposition products. Chapter in the book “Chemistry and Biochemistry: Research Progress”\, Publ. BP International.\n4. Тезисы докладов на конференции
URL:https://icp-ras.ru/event/zasedanie-sekcii-3-uchenogo-soveta-fic-pxf-i-mx-ran-25/
LOCATION:в режиме онлайн-конференции
ATTACH;FMTTYPE=image/jpeg:https://icp-ras.ru/wp-content/uploads/dis-sovet/icon/sci-3.jpg
END:VEVENT
BEGIN:VEVENT
DTSTART;TZID=Europe/Moscow:20250611T110000
DTEND;TZID=Europe/Moscow:20250611T133000
DTSTAMP:20260423T131716
CREATED:20250606T110934Z
LAST-MODIFIED:20250606T111421Z
UID:15321-1749639600-1749648600@icp-ras.ru
SUMMARY:Заседание cекции № 2 Ученого Совета ФИЦ ПХФ и МХ РАН
DESCRIPTION:Повестка\n\nРассмотрение материалов для публикации в открытой печати: \n\n\n1. T. A Salimova\, L. V Kameneva\, E. S. Ershova\, V. S Bolshakova\, O. A Kraevaya\, A. S. Peregudov\, P. A Troshin\, E. A Savinova\, N. N Veiko\, S. V Kostyuk The effect of fullerene derivatives with two different types of aromatic addends on the level of oxidative damage in HELF Cells// Journal of Cell Science and Regenerative Medicine \n2. N. G. Osipov\, M. A. Faraonov\, I. A. Yakushev\, S. L. Veber\, M. V. Fedin\, N. N. Denisov\, A. F. Shestakov\, A. Otsuka\, H. Kitagawa\, D. V. Konarev\nComplex of copper(II) hexafluoroacetylacetonate with spiropyran in the merocyanine form: Field-induced slow magnetic relaxation and quantum coherence for Cu(II) (S = 1/2) and photoswitching of spiropyran ligand// Dalton Trans. \n3. A. M. Flakina\, D. I. Nazarov\, M. A. Faraonov\, A. V. Kuzmin\, E. I. Khasanova\, I. A. Yakushev\, V. N. Zverev\, A. Otsuka\, H. Kitagawa\, D. V. Konarev Salts of organic donors with metal hexafluoroacetylacetonate anions: Mn(II)(hfac)3-\, Co(II)(hfac)2Cl- and Pr(III)(hfac)4-. Cryst. Growth. Des. \n\n\n4. K. D. Krivenko\, A. V. Kuzmin\, M. V. Mikhailenko\, S. S. Khasanov\, A. F. Shestakov\, M. A. Faraonov\, A. Otsuka\, H. Kitagawa\, D. V. Konarev Mono- and binuclear complexes of iron(II) and cobalt(II) with deprotonated trans-Indigo anions. Effect of cationic surrounding on structure and magnetic properties// Dyes and Pigm. \n5. M.A. Faraonov\, N.R. Romanenko\, T.E. Ivanov\, D.V. Korchagin\, G.V. Shilov\, I.A. Yakushev\, A.V. Kuzmin\, S.S. Khasanov\, A. Otsuka\, H. Kitagawa\, D. V. Konarev Crystalline trinuclear endo- and exohedral complexes of tetrapyrazinoporphyrazine ligand with 3d- and 4f-metals// Inorg. Chem. \n6. Слесаренко А.А.\, Слесаренко Н.А.\, Баймуратова Г.Р.\, Черняев Д.А.\, Ярмоленко О.В. Исследование новой сольватно-ионной жидкости на основе соли LITFSI и тетраглима в различном мольном соотношении и возможность применения в литиевых источниках тока// Химия Высоких энергий \n7. А. В. Юдина\,  К.Г. Хатмуллина\,  Г. Р. Баймуратова\,  Н. А. Слесаренко\, Д. А. Черняев\, О. В. Ярмоленко Свойства гель-полимерных электролитов с введением глимовых растворителей\, ионной жидкости и наночастиц TiO2// Химия высоких энергий \n8. Jan Arneth\, Lena Spillecke\, Changyun Koo\, Tamara A. Bazhenova\, Eduard B. Yagubskii\, and Rüdiger Klingeler “The Relevance of Non-axiality and Low-lying Excited States for Slow Magnetic Relaxation in Pentagonal-bipyramidal Erbium(III) Complexes Probed by High-frequency EPR”// ChemistryA European Journal\, 2025\, e202500369 \nТезисы
URL:https://icp-ras.ru/event/zasedanie-cekcii-2-uchenogo-soveta-fic-pxf-i-mx-ran-5/
LOCATION:актовый зал корп. 2/2
ATTACH;FMTTYPE=image/jpeg:https://icp-ras.ru/wp-content/uploads/dis-sovet/icon/sci-2.jpg
END:VEVENT
BEGIN:VEVENT
DTSTART;TZID=Europe/Moscow:20250616T093000
DTEND;TZID=Europe/Moscow:20250616T110000
DTSTAMP:20260423T131716
CREATED:20250610T070213Z
LAST-MODIFIED:20250610T070213Z
UID:15348-1750066200-1750071600@icp-ras.ru
SUMMARY:Заседание cекции № 5 Ученого Совета ФИЦ ПХФ и МХ РАН
DESCRIPTION:Повестка\nРассмотрение материалов\, предназначенных для открытого опубликования \n\n1. Mykhaylo V. Lototskyy\, Rose K. Baimuratova\, Sergey A. Mozhzhukhin\, Gulzhian I. Dzhardimalieva\, Vladislav L. Sidorov\, Artem A. Arbuzov\, Pavel V. Fursikov\, Igor I. Khodos\, Boris P. Tarasov\, Sivakumar Pasupathi and Vladimir M. Linkov\nMetal Organic Frameworks and their Derivatives as Catalysts of Magnesium Hydrogenation//Journal of Physics Energy \n2. Богданова Л.М.\, Спирин М.Г.\, Букичев Ю.С.\, Чуканов Н.В.\, Шендрик Р.Ю.\, Шилов Г.В.\, Джардималиева Г.И\nВлияние УФ-облучения на свойства эпоксидных нанокомпозитов\, содержащих наночастицы диоксида титана.//High Energy Chemistry
URL:https://icp-ras.ru/event/zasedanie-cekcii-5-uchenogo-soveta-fic-pxf-i-mx-ran-7/
LOCATION:актовый зал корп. 2/2
ATTACH;FMTTYPE=image/jpeg:https://icp-ras.ru/wp-content/uploads/dis-sovet/icon/sci-5.jpg
END:VEVENT
BEGIN:VEVENT
DTSTART;TZID=Europe/Moscow:20250618T100000
DTEND;TZID=Europe/Moscow:20250618T113000
DTSTAMP:20260423T131716
CREATED:20250617T104622Z
LAST-MODIFIED:20250617T104622Z
UID:15451-1750240800-1750246200@icp-ras.ru
SUMMARY:Семинар Отдела ОХ и ПФМ (ИФАВ)
DESCRIPTION:Cеминар отдела органической химии и перспективных функциональных материалов.  \nПовестка: \nПреддиссертационный доклад Беляевой Анастасии Александровны «Мультистимул-чувствительные материалы на основе поли(N-изопропилакриламида) для клеточных скаффолдов и актюаторов» на соискание ученой степени кандидата химических наук по специальности 1.4.7 Высокомолекулярные соединения. \nБеляева Анастасия Александровна в 2021-2025 гг. прошла обучение в очной аспирантуре ИФАВ РАН по направлению подготовки 04.06.01 Химические науки по специальности 1.4.3. — Органическая Химия. Научный руководитель — к.х.н. Морозова Софья Михайловна.
URL:https://icp-ras.ru/event/seminar-otdela-ox-i-pfm-ifav/
LOCATION:зал заседания Ученого совета (ИФАВ)
ATTACH;FMTTYPE=image/jpeg:https://icp-ras.ru/wp-content/uploads/nauka-otdely/ipac/log_g.jpg
END:VEVENT
BEGIN:VEVENT
DTSTART;TZID=Europe/Moscow:20250620T093000
DTEND;TZID=Europe/Moscow:20250620T110000
DTSTAMP:20260423T131716
CREATED:20250617T104801Z
LAST-MODIFIED:20250617T104801Z
UID:15454-1750411800-1750417200@icp-ras.ru
SUMMARY:Заседание секции №4 Ученого совета ФИЦ ПХФ и МХ РАН
DESCRIPTION:Повестка:\n\n\nКашин С.Н. \nДеформационная инженерия магнитокалорического эффекта в микро- и наноструктурах Gd и Ho\n\n(преддиссертационный доклад на соискание ученой степени кандидата физико-математических наук по специальности 1.3.17 – Химическая физика\, горение и взрыв\, физика\nэкстремальных состояний вещества)\n\nНаучный руководитель — д.ф.-м.н. Моргунов Р.Б.\n\nРецензенты:\nд.ф.-м.н. Палий А.В.\nк.х.н. Кареев И.Е.
URL:https://icp-ras.ru/event/zasedanie-sekcii-4-uchenogo-soveta-fic-pxf-i-mx-ran-15/
LOCATION:в режиме онлайн-конференции
ATTACH;FMTTYPE=image/jpeg:https://icp-ras.ru/wp-content/uploads/dis-sovet/icon/sci-4.jpg
END:VEVENT
BEGIN:VEVENT
DTSTART;TZID=Europe/Moscow:20250625T103000
DTEND;TZID=Europe/Moscow:20250625T123000
DTSTAMP:20260423T131716
CREATED:20250421T074737Z
LAST-MODIFIED:20250421T074737Z
UID:14624-1750847400-1750854600@icp-ras.ru
SUMMARY:Защита диссертации Стреловой М.С.
DESCRIPTION:«Исследование влияния полиэлектролитов на формирование карбоната и фосфата кальция в водной среде » \nТекст диссертации расположен по адресу: https://icp-ras.ru/wp-content/uploads/DISS/Strelova/Dissert_Strelova.pdf
URL:https://icp-ras.ru/event/zashhita-dissertacii-strelovoj-m-s/
LOCATION:актовый зал корпуса общего назначения\, пр. Академика Н.Н. Семенова\, д. 1\, Черноголовка
ATTACH;FMTTYPE=image/webp:https://icp-ras.ru/wp-content/uploads/DISS/Strelova/Strelova_ic.webp
END:VEVENT
BEGIN:VEVENT
DTSTART;TZID=Europe/Moscow:20250625T120000
DTEND;TZID=Europe/Moscow:20250625T140000
DTSTAMP:20260423T131716
CREATED:20250421T074626Z
LAST-MODIFIED:20250421T074626Z
UID:14622-1750852800-1750860000@icp-ras.ru
SUMMARY:Защита диссертации Бандуриста П.С.
DESCRIPTION:«Влияние допирования кластеров золота и меди\, стабилизированных лигандами\, на окисление CO и активацию метана» \nПодробнее о диссертации >>
URL:https://icp-ras.ru/event/zashhita-dissertacii-bandurista-p-s/
LOCATION:актовый зал корпуса общего назначения\, пр. Академика Н.Н. Семенова\, д. 1\, Черноголовка
ATTACH;FMTTYPE=image/webp:https://icp-ras.ru/wp-content/uploads/DISS/Bandurist/Bandurist_icon.webp
END:VEVENT
BEGIN:VEVENT
DTSTART;TZID=Europe/Moscow:20250627T093000
DTEND;TZID=Europe/Moscow:20250627T110000
DTSTAMP:20260423T131716
CREATED:20250625T155718Z
LAST-MODIFIED:20250625T155718Z
UID:15689-1751016600-1751022000@icp-ras.ru
SUMMARY:Заседание секции №4 Ученого совета ФИЦ ПХФ и МХ РАН
DESCRIPTION:В повестке дня:\n\n1.Благов М.А.\nM.A. Blagov\, A.S. Lobach\, L.V. Zorina\, S.V. Simonov\, K.V. Zakharov\, A.N. Vasiliev\, N.G. Spitsyna. The magneto-structural correlations of ferric and ferrous neutral complexes with pyruvic acid thiosemicarbazone ligand. Статья в журнал Dalton Transactions \n2.Е.И. Куницына\nЕ.И. Куницына\, Р.Б. Моргунов. Влияние одноионных магнитных комплексов [Er(HL)(L)]•4CHCl3•H2O на сверхпроводник”. Статья в журнал Journal of Magnetism and Magnetic Materials \n3.С.Н. Кашин\nС.Н. Кашин\, А.И. Чернов\, Р.Б. Моргунов. Strain driven magneto-caloric effects in Gd microwires. Статья в журнал Applied Physics Letters \n4. Аттестация аспиранта 3 года обучения Кашина С. Н. \, научн. рук. д. ф.- м. н. Моргунов Р. Б.
URL:https://icp-ras.ru/event/zasedanie-sekcii-4-uchenogo-soveta-fic-pxf-i-mx-ran-16/
LOCATION:в режиме онлайн-конференции
ATTACH;FMTTYPE=image/jpeg:https://icp-ras.ru/wp-content/uploads/dis-sovet/icon/sci-4.jpg
END:VEVENT
END:VCALENDAR