BEGIN:VCALENDAR
VERSION:2.0
PRODID:-//ФЕДЕРАЛЬНЫЙ ИССЛЕДОВАТЕЛЬСКИЙ ЦЕНТР ПРОБЛЕМ ХИМИЧЕСКОЙ ФИЗИКИ И МЕДИЦИНСКОЙ ХИМИИ РАН - ECPv6.8.0//NONSGML v1.0//EN
CALSCALE:GREGORIAN
METHOD:PUBLISH
X-ORIGINAL-URL:https://icp-ras.ru
X-WR-CALDESC:Мероприятия для ФЕДЕРАЛЬНЫЙ ИССЛЕДОВАТЕЛЬСКИЙ ЦЕНТР ПРОБЛЕМ ХИМИЧЕСКОЙ ФИЗИКИ И МЕДИЦИНСКОЙ ХИМИИ РАН
REFRESH-INTERVAL;VALUE=DURATION:PT1H
X-Robots-Tag:noindex
X-PUBLISHED-TTL:PT1H
BEGIN:VTIMEZONE
TZID:Europe/Moscow
BEGIN:STANDARD
TZOFFSETFROM:+0300
TZOFFSETTO:+0300
TZNAME:MSK
DTSTART:20250101T000000
END:STANDARD
END:VTIMEZONE
BEGIN:VEVENT
DTSTART;TZID=Europe/Moscow:20250701T100000
DTEND;TZID=Europe/Moscow:20250701T123000
DTSTAMP:20260423T112734
CREATED:20250627T113234Z
LAST-MODIFIED:20250627T113234Z
UID:15756-1751364000-1751373000@icp-ras.ru
SUMMARY:Заседание Секции № 6 Ученого совета ФИЦ ПХФ и МХ РАН
DESCRIPTION:Повестка: \n1. Промежуточная аттестация аспирантов всех годов обучения ОФМХИЭ\, время доклада 10 мин.: \n3 год обучения: \nАхременков Борис Вадимович (науч. рук. д.х.н. Тарасов Б.П.\, к.т.н. Берестенко В.И.) \n2 год обучения: \nПанкин Александр Сергеевич (науч. рук. к.х.н. Герасимова Е.В.) \nШамов Иван Дмитриевич (науч. рук. д.х.н. Тарасов Б.П.) \nШмалий Сергей Владимирович (науч. рук. к.х.н. Володин А.А.) \nЯльмаев Азат Булатович (науч. рук. к.х.н. Левченко А.В.) \n1 год обучения: \nЗагороднова Анастасия Сергеевна (науч. рук. д.х.н. Добровольский Ю.А.) \nПугачева Анастасия Владимировна (науч. рук. д.ф.-м.н. Кривенко А.Г.) \nСайгушева Татьяна Николаевна (науч. рук. д.х.н. Добровольский Ю.А.) \nЯкушин Илья Олегович (науч. рук. к.х.н. Володин А.А.) \nЯшина Елена Евгеньевна (науч. рук. д.х.н. Добровольский Ю.А.) \n2. Рассмотрение материалов для открытого опубликования: \nКарелин А.И.\, Сангинов Е.А. «Vibrational spectra studies of HClO4-DMSO solutions». Статья в журнал Vibrational Spectroscopy.
URL:https://icp-ras.ru/event/zasedanie-sekcii-6-uchenogo-soveta-fic-pxf-i-mx-ran-17/
LOCATION:в актовом зале корпуса 2/7 (ком.301)
ATTACH;FMTTYPE=image/jpeg:https://icp-ras.ru/wp-content/uploads/dis-sovet/icon/sci-6.jpg
END:VEVENT
BEGIN:VEVENT
DTSTART;TZID=Europe/Moscow:20250701T100000
DTEND;TZID=Europe/Moscow:20250701T130000
DTSTAMP:20260423T112734
CREATED:20250626T163409Z
LAST-MODIFIED:20250626T163409Z
UID:15713-1751364000-1751374800@icp-ras.ru
SUMMARY:Заседание Секции № 6 Ученого совета ФИЦ ПХФ и МХ РАН
DESCRIPTION:Повестка: \n1. Промежуточная аттестация аспирантов всех годов обучения ОФМХИЭ\, время доклада 10 мин.: \n3 год обучения:  \nАхременков Борис Вадимович (науч. рук. к.х.н. Тарасов Б.П.\, к.т.н. Берестенко В.И.) \n2 год обучения:  \nПанкин Александр Сергеевич (науч. рук. к.х.н. Герасимова Е.В.) \nШамов Иван Дмитриевич (науч. рук. к.х.н. Тарасов Б.П.) \nШмалий Сергей Владимирович (науч. рук. к.х.н. Володин А.А.) \nЯльмаев Азат Булатович (науч. рук. к.х.н. Левченко А.В.) \n1 год обучения:  \nЗагороднова Анастасия Сергеевна (науч. рук. д.х.н. Добровольский Ю.А.) \nПугачева Анастасия Владимировна (науч. рук. д.ф.-м.н. Кривенко А.Г.) \nСайгушева Татьяна Николаевна (науч. рук. д.х.н. Добровольский Ю.А.) \nЯкушин Илья Олегович (науч. рук. к.х.н. Володин А.А.) \nЯшина Елена Евгеньевна (науч. рук. д.х.н. Добровольский Ю.А.) \n2. Рассмотрение материалов для открытого опубликования: \nКарелин А.И.\, Сангинов Е.А. «Vibrational spectra studies of HClO4-DMSO solutions». Статья в журнал Vibrational Spectroscopy.
URL:https://icp-ras.ru/event/zasedanie-sekcii-6-uchenogo-soveta-fic-pxf-i-mx-ran-16/
LOCATION:в актовом зале корпуса 2/7 (ком.301)
ATTACH;FMTTYPE=image/jpeg:https://icp-ras.ru/wp-content/uploads/dis-sovet/icon/sci-6.jpg
END:VEVENT
BEGIN:VEVENT
DTSTART;TZID=Europe/Moscow:20250702T103000
DTEND;TZID=Europe/Moscow:20250702T123000
DTSTAMP:20260423T112734
CREATED:20250627T113054Z
LAST-MODIFIED:20250627T113054Z
UID:15754-1751452200-1751459400@icp-ras.ru
SUMMARY:Заседание cекции № 2 Ученого Совета ФИЦ ПХФ и МХ РАН
DESCRIPTION:Повестка: \n1. Промежуточная аттестация аспирантов \n2. Рассмотрение материалов\, предназначенных для открытого опубликования: \n\nСтатьи \n1. Ярмоленко О.В.\, Слесаренко А.А.\, Тулибаева Г.З.\, Слесаренко Н.А.\, Баймуратова Г.Р.\, Юдина А.В. Шестаков А.Ф. Электролитные системы для низких температур на основе глимов: дизайн и эффективность использования // глава в монографию «Органические и гибридные наноматериалы»\, Иваново \n2. Тулибаева Г.З.\, Шестаков А.Ф.\, Ярмоленко О.В. Квантово-химическое моделирование транспорта катиона лития с сольватной оболочкой из диглима и тетраглима в гель-полимерных электролитах // Краткое сообщение в спецвыпуск журнала «Химия высоких энергий»\, посвященный Х Всероссийской школе-конференции молодых ученых«ОРГАНИЧЕСКИЕ И ГИБРИДНЫЕ НАНОМАТЕРИАЛЫ»\, Россия\, Иваново\, 16-20 июня 2025 г. \n3. Л.И. Ткаченко\, С.Ж. Озкан\, В.А. Петров\, О.Н. Ефимов\, Г.П. Карпачева\, Н.Н. Дремова\, Е.Н. Кабачков\, Д.Г. Муратов\, Электрохимические свойства электродных покрытый полифенотиазина и полифеноксазина и их композитов с восстановленным оксидом графена в литиевом органическом электролите для суперконденсаторов. \n4. А.И. Дмитриев\, М.В. Жидков\, З.М. Джабиева\, Г.В. Шилов\, Т.А. Савиных\, Н.Н. Денисов\, М.С. Дмитриева\, Т.С. Джабиев Влияние дегидратации на магнетизм тетраядерного кластера кобальта (II) Li10[Co4(H2O)2•(α-VW9O34)2]•34H2O // Письма в журнал технической физики \nТезисы докладов\n\n1. Н.А. Емельянов “Сканирующая ближнепольная ИК-микроскопия комплексных галогенидов свинца со структурой перовскита” // Международный семинар по физике сегнетоэластиков\, Воронеж\, ВГТУ\, 15-19 сентября 2025 г.\n\n3. Разное.
URL:https://icp-ras.ru/event/zasedanie-cekcii-2-uchenogo-soveta-fic-pxf-i-mx-ran-6/
LOCATION:актовый зал корп. 2/2
ATTACH;FMTTYPE=image/jpeg:https://icp-ras.ru/wp-content/uploads/dis-sovet/icon/sci-2.jpg
END:VEVENT
BEGIN:VEVENT
DTSTART;TZID=Europe/Moscow:20250703T100000
DTEND;TZID=Europe/Moscow:20250703T120000
DTSTAMP:20260423T112734
CREATED:20250701T131012Z
LAST-MODIFIED:20250701T131012Z
UID:15804-1751536800-1751544000@icp-ras.ru
SUMMARY:Заседание секции №3 Ученого совета ФИЦ ПХФ и МХ РАН
DESCRIPTION:Повестка \nПереаттестация аспирантов ОКХиБП
URL:https://icp-ras.ru/event/zasedanie-sekcii-3-uchenogo-soveta-fic-pxf-i-mx-ran-26/
LOCATION:в корпусе 2/2 (Учебный класс МГУ)
ATTACH;FMTTYPE=image/jpeg:https://icp-ras.ru/wp-content/uploads/dis-sovet/icon/sci-3.jpg
END:VEVENT
BEGIN:VEVENT
DTSTART;TZID=Europe/Moscow:20250704T093000
DTEND;TZID=Europe/Moscow:20250704T113000
DTSTAMP:20260423T112734
CREATED:20250702T094534Z
LAST-MODIFIED:20250702T094534Z
UID:15827-1751621400-1751628600@icp-ras.ru
SUMMARY:Заседание секции №4 Ученого совета ФИЦ ПХФ и МХ РАН
DESCRIPTION:Повестка: \n1. Кашин С.Н.\nЕ.В. Дворецкая\, С.Н. Кашин\, Р.А. Валеев\, А.О. Колмаков\, М.В. Потапов\, В.П. Пискорский\, Р.Б. Моргунов\nСравнение магнитокалорических свойств микропроводов PrDyFeCoB и гадолиния”\nСтатья в журнал Физика твердого тела \n2. Дворецкая Е.В.\nE.V. Dvoretskaya\, A.A. Anosov\, R.B. Morgunov\nNon-destructive penetration of Fe3O4 nanoparticles through a lipid bilayer under the influence of a non-uniform magnetic field”\nСтатья в журнал: Magnetochemistry \n3. Гусенков Д.Л.\nД.Л. Гусенковa\, Е. Чиглинцев\, А.И. Тюрин\, В.В. Коренков\, Е.И. Куницына\, А.И. Чернов\, Р.Б. Моргунов\nDetermination of exfoliation energy from nanoindentation in 2D van der Waals CrSBr crystals»\nСтатья в журнал: Materials Science and Engineering: A \n4. Палий А.В.\nА. Палий\, В. Белонович\, Б Цукерблат\nTemperature change in adiabatically isolated magnetically anisotropic 3d metal complexes induced by sudden magnetic field removal\nСтатья в журнал Magnetochemistry
URL:https://icp-ras.ru/event/zasedanie-sekcii-4-uchenogo-soveta-fic-pxf-i-mx-ran-17/
LOCATION:в режиме онлайн-конференции
ATTACH;FMTTYPE=image/jpeg:https://icp-ras.ru/wp-content/uploads/dis-sovet/icon/sci-4.jpg
END:VEVENT
BEGIN:VEVENT
DTSTART;TZID=Europe/Moscow:20250704T093000
DTEND;TZID=Europe/Moscow:20250704T120000
DTSTAMP:20260423T112734
CREATED:20250701T131207Z
LAST-MODIFIED:20250701T131207Z
UID:15806-1751621400-1751630400@icp-ras.ru
SUMMARY:Заседание cекции № 5 Ученого Совета ФИЦ ПХФ и МХ РАН
DESCRIPTION:Повестка \n\nДзеранов А.А.\n“pH-Чувствительные магнитные мезопористые сорбенты ципрофлоксацина”\n\nПредзащита кандидатской диссертации \n\nБаскаков С.А.\n“Новые функционально-ориентированные 2D и 3D ПКМ\, в том числе с использованием графена и его аналогов\, и методов их получения с использованием аддитивных технологий”\n\nДоклад по результатам выполнения 1 этапа договора с Центром НТИ “Цифровое материаловедение” \n\nРассмотрение материалов\, предназначенных для открытого опубликования.\n\n Статьи \n\nМакарян И.А.\, Седов И.В. Критерии технико-экономической оценки технологий улавливания\, хранения и утилизации со2//Катализ в промышленности.\n\n2.Romanov D.S.\, Shlegel N.E.\, Sedov I.V.\, Salgansky E.A.Thermodynamic evaluation of hydrogen production modes during ammonia pyrolysis in the swiss-roll reactor//Russian Journal of Physical Chemistry B \n\nAkkuratov Alexander\, Zamoretskov Davlad\, Agapitova Mariia\, Gapanovich Mikhail\, Konushkin Ivan\, Perepelitsina Eugeniya\, Zhivchikova Aleksandra\, Slesarenko Nikita\, Kapasharov Artur\, Tepliakova Marina.Polymeric thienopyrroledione-containing dopant-free hole-transport materials for perovskite photovoltaics//Journal: Polymer\nМарясевская А.В.\, Анохин Д.В.\, Вашуркин Д.В.\, Сяглова Е.Д.\, Коняхина А.Ю.\, Гурьева Л.Л.\, Иванов Д.А.Влияние пространственного распределения клиновидных мезогенов вдоль полимерной цепи на самоорганизацию супрамолекулярных комплексов.// Высокомолекулярные соединения.\n\nТезисы \n1.Ульянов И.В.\, Рыбкин А.Ю.\, Филатова Н.В.\, Курмаз С.В.Создание функциональных материалов на основе термочувствительных биосовместимых сополимеров n-изопропилакриламида с диметакрилатом триэтиленгликоля для фотодинамической терапии онкологических и микробных заболеваний.\nТезисы доклада IX Международной конференции «Современные синтетические методологии для создания лекарственных препаратов и функциональных материалов» (MOSM 2025)\, 6-10 сентября 2025\, г. Пермь. \n\nЕршов А.А.\, Тарасов А.Е.\, Грищук А.А.\, Подвальная Ю.В.\, Перепелицина Е.О.\, Бадамшина Э.Р Анионная полимеризация акрилонитрила под действием бициклических азотсодержащих соединений..\nТезисы доклада на XXI Международной научно-практической конференции «Новые полимерные композиционные материалы». Микитаевские чтения. 7-10 июля 2025 г.\, п. Эльбрус (КБР\, Россия).
URL:https://icp-ras.ru/event/zasedanie-cekcii-5-uchenogo-soveta-fic-pxf-i-mx-ran-8/
LOCATION:в режиме онлайн-конференции
ATTACH;FMTTYPE=image/jpeg:https://icp-ras.ru/wp-content/uploads/dis-sovet/icon/sci-5.jpg
END:VEVENT
BEGIN:VEVENT
DTSTART;TZID=Europe/Moscow:20250705T150000
DTEND;TZID=Europe/Moscow:20250705T170000
DTSTAMP:20260423T112734
CREATED:20250703T112547Z
LAST-MODIFIED:20250703T112547Z
UID:15869-1751727600-1751734800@icp-ras.ru
SUMMARY:Заседание Ученого совета ФИЦ ПХФ и МХ РАН
DESCRIPTION:Повестка дня:\n1. О состоянии дел и перспективе развития Отдела кинетики и катализа (выступление Трошина Павла Анатольевича).\n2. О состоянии дел и перспективе развития Лаборатория функциональных материалов для электроники и медицины (выступление Мумятова Александра Валерьевича).\n3. Выдвижение на конкурс на соискание премии Президента в области науки и инноваций для молодых учёных за 2025 год. (Тайное голосование).\n4. Разное.\n4.1. Замещение вакантной должности старшего научного сотрудника (выступление Даровских Анны Владимировны\, Чапрова Кирилла Дмитриевича).
URL:https://icp-ras.ru/event/zasedanie-uchenogo-soveta-fic-pxf-i-mx-ran-11/
LOCATION:в режиме онлайн-конференции
ATTACH;FMTTYPE=image/jpeg:https://icp-ras.ru/wp-content/uploads/LOGO/SciCoun.jpg
END:VEVENT
BEGIN:VEVENT
DTSTART;TZID=Europe/Moscow:20250710T093000
DTEND;TZID=Europe/Moscow:20250710T120000
DTSTAMP:20260423T112734
CREATED:20250707T215858Z
LAST-MODIFIED:20250707T215858Z
UID:15975-1752139800-1752148800@icp-ras.ru
SUMMARY:Заседание cекции № 5 Ученого Совета ФИЦ ПХФ и МХ РАН
DESCRIPTION:Повестка\n\n\nРассмотрение материалов\, предназначенных для открытого опубликования: \n Статьи \n1. С.А. Богданова\, А.Р. Гатауллин\, И.Ф.Шаймухаметова\, Д.Р. Хисамиева\, Ю.Н.Хакимуллин\, Р.Ю.Галимзянова\, А.А. Никифоров\, С.В. Демидов\, У.Ю. Аллаярова\, Т.А. Раевская\, С.Р. Аллаяров. Поверхностные энергетические свойства полимолочной кислоты\, обработанной дозой гамма-излучения\, применяемой для стерилизации.// Химия высоких энергий» \n2. M.Yu. Tashmetov\, N.B. Ismatov\, Sh.M. Makhkamov\, S.R. Allayarov\, D. A. Dixon. Post – Irradiation Photoluminescence and Thermoluminescence of The Ethylene – Tetrafluoroethylene Copolymer. // Journal of fluorine chemistry \n3. С. И. Кузина\, И.А. Фролов\, С. Р. Аллаяров.\nПарамагнитные центры\, стабилизирующиеся в радиолизованном полистироле. // Химия высоких энергий» \n4. A.V. Akimov\, A.S. Shmakov\, R.V. Pisarev\, S.R. Allayarov\, A.V. Pisareva\, U.V. Pinaeva\, G.A. Khromov\, А.А. Tyutyunov\, A.N. Nechaev\, P.Yu. Apel\, Yu.A. Dobrovolsky\, David A. Dixon.\nParamagnetic centers in ion – bombarded polyvinylidene fluoride. // Journal of fluorine chemistry \n5. Колобов Ю.Р.\, Манохин С.С.\, Максименко В.Н.\, Неласов И.В.\, Спиридонов Н.Г.\, Селиванов А.С. Изменения микроструктуры и элементного состава титановых волноводов в процессе ультразвуковой сварки изделий из пластика // Физика и химия обработки материалов \n6. Манохин С.С\, Колобов Ю.Р.\, Максименко В.Н.\, Токмачева-Колобова А.Ю.\, Фокин И.Г.\, Отнельченко В.В.\, Седов И.В. Исследование эволюции структурно-фазового состояния сплава Fe-Cr-Ni(X)\, в том числе с модифицированной поверхностью\, при работе в качестве проволочного материала матрицы в процессе высокотемпературной конверсии углеводородных газов // Физика и химия обработки материалов \n7. Нарыкова М.В.\, Манохин С.С.\, Бетехтин В.И.\, Колобов Ю.Р.\, Кадомцев А.Г.\, Амосова О.В. Микроструктурные изменения и механизмы разрушения титана ВТ1-0 в суб- и микрокристаллических состояниях после обработки высоким давлением и усталостных испытаний // Физика твердого тела. \n8. E.G. Chepaikin\, G.N. Menchikova\, S.I. Pomogailo\, E.I. Knerel’man\, O.P. Tkachenko\, R.I. Jusupkalieva\, L.M. Kustov. Partial oxidation of propane on catalysts based on palladium supported on natural supports // Mendeleev Communication \n9. Е.В. Шувалова\, С И. Помогайло\, Е.И. Кнерельман\, Р.И. Джусупкалиева\, Е.В. Пугачева\, Л.М. Кустов. Катализаторы на основе палладия\, нанесённого на опоку или диатомит\, для гидрирования нитробензола // Нефтехимия \n10. Е.Е. Файнгольд\, С.Л. Саратовских\, А.Н. Панин\, И.В. Жарков\, О.Н. Бабкина\, Н.Н. Лашманов\, Д.С. Винников\, Н.М. Бравая. Каталитические системы rac-Et(2-MeInd)2ZrMe2/арилоксиды октилалюминия в гомо- и сополимеризации этилена\, пропилена и 2-этилиден-5-норборнена // Petroleum Chemistry \nТезисы \n1. С.Р. Аллаяров. Влияние широкого диапазона дозы облучения на природные макромолекулы: механизмы и перспективы практического применения.\nТезисы пленарного доклада международной научно-практической конференции «Экологическая\, промышленная и энергетическая безопасность -2025»\, 15–18 сентября 2025 года\, Севастополь. \n1. У. Ю. Аллаярова\, С. В. Демидов\, И. И. Файнгольд\, Т. А. Раевская\, С. Р. Аллаяров.\nВлияние ионизирующего излучения на физико – химические свойства и биологическую активность папаина.\nТезисы устного доклада международной научно-практической конференции «Экологическая\, промышленная и энергетическая безопасность -2025»\, 15–18 сентября 2025 года\, Севастополь. \n2. С.А. Богданова\, И.Ф. Шаймухаметова\, А.Р. Гатауллин\, С.В. Демидов\, С.Р. Аллаяров.\nВлияние гамма – облучения на поверхностные свойства сополимеров этилена и винилацетата.\nТезисы устного доклада международной научно-практической конференции «Экологическая\, промышленная и энергетическая безопасность -2025»\, 15–18 сентября 2025 года\, Севастополь. \n3. Е.Г. Чепайкин\, Р.И. Джусупкалиева\, Г.Н. Менчикова\, Е.И. Кнерельман\, Е.В. Пугачева\, С.И. Помогайло / Катализаторы на основе палладия\, нанесённого на природные материалы (опоку и диатомит) для парциального окисления пропана /\nТезисы на V Байкальский материаловедческий форум\, г. Улан-Удэ и оз. Байкал\, с. Горячинск\, 4–10 июля 2025 г. \n4. Семенцова Л.А.\, Дорофеева Т.А.\, Чижов П.Е.\, Фокин И.Г.\, Седов И.В.\nИсследование газофазного пиролиза этана в присутствии СО2.\nТезисы доклада на VII Российскую конференцию с международным участием «Актуальные проблемы нефтехимии»\, 6–10 октября 2025 г.\, г. Пятигорск \n5. Кузнецов И.Е.\, Заморецков Д.С.\, Агапитова М.М.\, Живчикова А.Н.\, Сидельцев М.Е.\, Новиков А.С.\, Теплякова М.М.\, Аккуратов А.В Компоненты литографических материалов и инновационные продукты для органической и гибридной электроники.\nРоссийский форум «Микроэлектроника 2025». ФТ Сириус\, 21-27 сентября 2025 г\, Университет «Сириус». устный доклад
URL:https://icp-ras.ru/event/zasedanie-cekcii-5-uchenogo-soveta-fic-pxf-i-mx-ran-9/
LOCATION:актовый зал корп. 2/2
ATTACH;FMTTYPE=image/jpeg:https://icp-ras.ru/wp-content/uploads/dis-sovet/icon/sci-5.jpg
END:VEVENT
BEGIN:VEVENT
DTSTART;TZID=Europe/Moscow:20250710T110000
DTEND;TZID=Europe/Moscow:20250710T140000
DTSTAMP:20260423T112734
CREATED:20250709T113009Z
LAST-MODIFIED:20250709T113009Z
UID:16005-1752145200-1752156000@icp-ras.ru
SUMMARY:Заседание секции №3 Ученого совета ФИЦ ПХФ и МХ РАН
DESCRIPTION:Повестка дня:\n\nМатериалы для открытой печати:\n \n1. Петров Л.В.\, Соляников В.М. ПОГЛОЩЕНИЕ МОЛЕКУЛЯРНОГО КИСЛОРОДА ТРОЙНОЙ СИСТЕМОЙ БУТИЛГЛИЦИДИЛОВЫЙ ЭФИР- ГИДРОХИНОН – ПИРИДИН В ПОЛЯРНОМ РАСТВОРИТЕЛЕ\n2. V. Mumyatova\, K. Kolesova\, N. Filatova\, B. Tretyakov\, S. Gadosmky ENHANCEMENT OF DOXORUBICIN CYTOTOXIC ACTIVITY BY NEW N-HYDROXYBUTANAMIDE DERIVATIVES\n3. Т.С. Ступина\, В.А. Мумятова\, Н.А. Санина\, Т.Р. Приходченко\, Е.Н. Климанова\, Д.В. Мищенко\, А.А. Балакина ЦИТОТОКСИЧЕСКОЕ ДЕЙСТВИЕ НИТРОЗИЛЬНОГО КОМПЛЕКСА ЖЕЛЕЗА С П-АМИНОБЕНЗОЛТИОЛОМ\n4. А.А. Балакина\, А.Д. Подгурская\, В.А. Мумятова\, Т.С. Ступина\, Т.Р. Приходченко\, О.С. Суворова\, С.В.Блохина\, С.Я. Гадомский\, Д.В. Мищенко КАРДИОПРОТЕКТОРНАЯ АКТИВНОСТЬ НОВОГО ПРОИЗВОДНОГО ПИРИДОКСИНА И ФУМАРОВОЙ КИСЛОТЫ – АКТИВАТОРА ТРАНСКРИПЦИОННОГО ФАКТОРА NRF2\n5. А.А. Балакина\, А.Д. Подгурская\, В.И. Амозова\, Т.С. Ступина\, В.А. Мумятова\, О.С. Суворова\, С.Я. Гадомский СРАВНИТЕЛЬНЫЙ АНАЛИЗ АНТИОКСИДАНТНОЙ АКТИВНОСТИ НОВЫХ ПРОИЗВОДНЫХ ПИРИДОКСИНА И ФУМАРОВОЙ КИСЛОТЫ IN VITRO\n6. Irina I. Faingold\, Darya A. Poletaeva\, Anastasia V. Sмolina\, Yuliya V. Soldatova\, Daniel S. Vinnikov\, Elena N. Klimanova\, Tatyana E. Sashenkova\, Valentina S. Romanova\, Raisa A. Kotelnikova POLYFUNCTIONAL [60]FULLERENE AMINO ACID DERIVATIVES IN MODEL BIOLOGICAL SYSTEMS AND EXPERIMENTAL CHEMOTHERAPY OF TUMORS\n7. Тезисы докладов на конференции
URL:https://icp-ras.ru/event/zasedanie-sekcii-3-uchenogo-soveta-fic-pxf-i-mx-ran-27/
LOCATION:в режиме онлайн-конференции
ATTACH;FMTTYPE=image/jpeg:https://icp-ras.ru/wp-content/uploads/dis-sovet/icon/sci-3.jpg
END:VEVENT
BEGIN:VEVENT
DTSTART;TZID=Europe/Moscow:20250711T090000
DTEND;TZID=Europe/Moscow:20250711T133000
DTSTAMP:20260423T112734
CREATED:20250709T112848Z
LAST-MODIFIED:20250709T112848Z
UID:16003-1752224400-1752240600@icp-ras.ru
SUMMARY:Открытое заседание секции № 5 Ученого совета ФИЦ ПХФ и МХ РАН.
DESCRIPTION:ПОВЕСТКА:\nЗащита групповых научно-исследовательских проектов\, выполненных участниками мероприятия “IV ежегодный летний научно-образовательный  \nЛагерь Исследователей и Разработчиков на базе Академии наук (ЛИРА-2025)” в подразделениях ФИЦ ПХФ и МХ РАН. \nУчастниками ЛИРА-2025 являются студенты 18 курсов ВУЗов России. \n \nСинтез термопластичных полиуретанов различного строения и исследование их свойств.\nМентор: с.н.с. к.х.н. Горбунова Марина Александровна\, ОПиКМ\nУчастники:\nМигутина А. (КГУ)\nШибанова Е. (КГУ)\nОрел Е. (Абитуриент)\n\nСинтез и исследование свойств модифицированных вододисперсионных полиуретанов – потенциальных систем доставки биологически активных веществ.\nМентор: с.н.с.\, к.х.н Карпов С.В.\, ОПиКМ\nТрекер: магистрант МФТИ Полякова Е.А.\nУчастники:\nКартамышева У.П. (СНИУ им. С.П. Королёва)\nИванова А. (КГУ)\nЧернец А. (БГТУ им. В.Г. Шухова)\nГалкина К. (ЯГТУ)\n\nКак стресс и поощрение влияют на мышей?\nМентор: с.н.с.\, к.б.н. Небогатиков В.О.\, ЦДИ ИФАВ\nТрекер: –\nГруппа:\nГерасимова Д. (РХТУ им. Д.И. Менделеева)\nЛебедев Ф. (ЯГПУ)\nСемёнов И. (БГТУ им. В.Г. Шухова)\n\nФормирование и исследование водород-аккумулирующих композитов.\nМентор: к.х.н.\,с.н.с.\, Арбузов А.А.\, ОФМХИЭ\nТрекер: аспирант\, Шамов И.Д.\nГлотов И. (ЛГТУ)\nЛупандин А. (БГТУ им. В.Г. Шухова)\nЛысый В. (ННГУ им. Н.И. Лобачевского)\nПесоцкий М. (МГУ им. М.В. Ломоносова)\n\nОрганические отходы производства как отрицательный электрод литий-ионного аккумулятора.\nМентор: зав.лаб.\, к.х.н. Шмыглева Л.В.\, ЦК НТИ\nТрекер: –\nУчастники:\nЕфременко А. (КГУ)\nКолесов С. (БГТУ им. В.Г. Шухова)\nНедвига А. (БГТУ им. В.Г. Шухова)\nТолкачева С. (СНИУ им. С.П. Королёва)\n\nПоиск веществ с нейропротекторными свойствами на клеточных моделях нейродегенерации.\nМентор: зав.лаб.\, д.б.н. Кухарский М.С.\, ИФАВ\nТрекер: м.н.с. Пукаева Н.Е.\nГруппа:\nНежданова А. (БГТУ им. В.Г. Шухова)\nРоманенко О. (КФУ)\nСафонов В. (ННГУ им. Н.И. Лобачевского)\nСурикова В. (ИвГМУ)\nТришкина Э. (РНИМУ)\n\nСпектральная кинетика распада нитрозильных комплексов железа.\nМентор: зав. лаб.\, к.ф.-м.н. Горячев Н.С.\, ОКХиБП\nТрекер: аспирант\, Руина К.С.\nГруппа:\nРеброва И. (СНИУ им. С.П. Королёва)\nСырых Д. (ЛГТУ)\nЯблокова М. (КГУ)\n\nВлияние микропористого слоя на мощностные характеристики в водород-воздушном топливном элементе\nМентор: н.с.\, к.х.н. Бельмесов Андрей Александрович\nТрекер: аспирант Яльмаев А.Б.\nгруппа:\nБалахонов Ф. (РХТУ им. Д.И. Менделеева)\nЗагуляев А. (БГТУ им. В.Г. Шухова)\nКотельникова В. (ЛГТУ)\nСкляров В. (ЮФУ)\n\nМетаболизм\, митохондрии и нейродегенеративные заболевания:поиск лекарственных препаратов.\nМентор: зав.лаб\, д.х.н. Шевцова Е.Ф. ИФАВ\nТрекер: н.с.\, к.х.н. Виноградова Д.В.\nСостав группы:\nБуймов А. (КФУ)\nЗубарева К. (РХТУ им. Д.И. Менделеева)\nМорозова П. (МИП)\nФатеева Н. (РНИМУ)\n\nИсследование воздействия ЭТМ-комплекса железа (ΙΙΙ) на АТФ.\nМентор: г.н.с.\, д.б.н. Саратовских Е.А.\, ОКХиБП\nТрекер: –\nГруппа:\nВолокитина А. (ЛГТУ)\nМамонова Е. (ННГУ им. Н.И. Лобачевского)\nТагирова А. (РНИМУ)\nЩукина Д. (САФУ)\n\nВлияние состава полимерного раствора на свойства пластифицированной нитроцеллюлозы\nМентор: зав. лаб.\, к.х.н. В.С. Смирнов\, ОГиВ\nТрекер: к.т.н. А.В. Бакешко\nГруппа:\nНиколаева В. (СНИУ им. С.П. Королёва)\nПерваков К. (ДВФУ)\nРогожникова С. (ПНИПУ)\nСазонов К. (БГТУ им. В.Г. Шухова)\n\nПолимерные полупроводники:поиск новых материалов\nМентор: с.н.с.\, к.х.н. Кузнецов И.Е ОПиКМ\nТрекер: аспирант Терещенко М.Д.\nГруппа:\nБелов Д. (КГУ)\nДенисова С (РязГМУ)\nКауркина С. (ННГУ им. Н.И. Лобачевского)\nМарьясин М. (абитуриент)\n\nИсследование кинетических закономерностей высокотемпературных превращений энергонасыщенных соединений. Влияние химической структуры энергетического соединения на кинетику его термического разложения.\nМентор: в.н.с.\, к.х.н. Волкова Н.Н.\, ОГиВ\nТрекер: н.с. Заславский Глеб Евгеньевич\nГруппа:\nИванов П. (Школа обработки данных Яндекс)\nЛитвинова К. (СНИУ им. С.П. Королёва)\nЧирков Р. (ННГУ им. Н.И. Лобачевского)\nШирочкина А. (БГТУ им. В.Г. Шухова)\n\nК участию приглашаются все желающие\, заинтересованные в притоке молодых кадров в ФИЦ ПХФ и МХ РАН.
URL:https://icp-ras.ru/event/otkrytoe-zasedanie-sekcii-5-uchenogo-soveta-fic-pxf-i-mx-ran/
LOCATION:актовый зал корпуса общего назначения\, пр. Академика Н.Н. Семенова\, д. 1\, Черноголовка
ATTACH;FMTTYPE=image/png:https://icp-ras.ru/wp-content/uploads/action/Lira/LIRA_23_LOGO.png
END:VEVENT
END:VCALENDAR