BEGIN:VCALENDAR
VERSION:2.0
PRODID:-//ФЕДЕРАЛЬНЫЙ ИССЛЕДОВАТЕЛЬСКИЙ ЦЕНТР ПРОБЛЕМ ХИМИЧЕСКОЙ ФИЗИКИ И МЕДИЦИНСКОЙ ХИМИИ РАН - ECPv6.8.0//NONSGML v1.0//EN
CALSCALE:GREGORIAN
METHOD:PUBLISH
X-ORIGINAL-URL:https://icp-ras.ru
X-WR-CALDESC:Мероприятия для ФЕДЕРАЛЬНЫЙ ИССЛЕДОВАТЕЛЬСКИЙ ЦЕНТР ПРОБЛЕМ ХИМИЧЕСКОЙ ФИЗИКИ И МЕДИЦИНСКОЙ ХИМИИ РАН
REFRESH-INTERVAL;VALUE=DURATION:PT1H
X-Robots-Tag:noindex
X-PUBLISHED-TTL:PT1H
BEGIN:VTIMEZONE
TZID:Europe/Moscow
BEGIN:STANDARD
TZOFFSETFROM:+0300
TZOFFSETTO:+0300
TZNAME:MSK
DTSTART:20250101T000000
END:STANDARD
END:VTIMEZONE
BEGIN:VEVENT
DTSTART;TZID=Europe/Moscow:20250905T100000
DTEND;TZID=Europe/Moscow:20250905T120000
DTSTAMP:20260423T061755
CREATED:20250904T101133Z
LAST-MODIFIED:20250904T101133Z
UID:16314-1757066400-1757073600@icp-ras.ru
SUMMARY:Заседание секции №4 Ученого совета ФИЦ ПХФ и МХ РАН
DESCRIPTION:В повестке дня: \n\nКашин С.Н.\nС.Н. Кашин\, А.В.Бузенков\, Р.А. Валеев\, В.П. Пискорский\, Р.Б. Моргунов. Влияние упругой деформации на диаграммы Арротта-Ноакса в микропроводах гадолиния.\nСтатья в журнал ФТТ.\nКуницына Е.И.\nИбрагимова В.Р.\, Сапков И.В.\, Ефремова Е.И.\, Кудряшова З.А.\, Рустамова Е.Г.\, Королёв Д. В.\, Куницына Е. И.\, Иони Ю.В. ПОЛУЧЕНИЕ И ИССЛЕДОВАНИЕ ЭЛЕКТРОПРОВОДИМОСТИ КОМПОЗИТА НА ОСНОВЕ ВОССТАНОВЛЕННОГО ОКСИДА ГРАФЕНА И НАНОЧАСТИЦ Fe3O4.\nСтатья в Журнал неорганической химии.\n\n3.Тезисы IX Euro-Asian Symposium «Trends in MAGnetism» (13–17 сентября\, 2025\, Южно-Сахалинск\, Россия): \n\nБахметьевМ. В.\nM.V. Bakhmetiev\, A.V. Sadovnikov and R.B. Morgunov. Spin-Wave Control Using Spin Current in Ferro-Antiferromagnetic Structures\nКашин С. Н.\nS.N. Kashin\, R.B. Morgunov. Strain Induced Magnetocaloric Effects in Gadolinium Microwires\n Дворецкая Е. В.\nE.V. Dvoretskaya\, R.B. Morgunov. Laser And Thermal Control of The Structure and Magnetic Properties of PrDy-FeCo-B Microwires\nТаланцев А. Д.\nA.D. Talantsev\, M.V. Bakhmetiev\, S.V. Kashin\, R.B. Morgunov. Thermomagnetic programming of stable remnant multidomain states in exchange-biased films\nКуницына Е. И.\nE.I. Kunitsyna and R.B. Morgunov. Effect Of Er³⁺ Single-Ion Magnet Complexes on Superconducting Properties of Indium\nМоргунов Р. Б.\nR.B. Morgunov. Bombrdment Of Lipid Membrane with Nanoparticles Accelerated in Magnetic
URL:https://icp-ras.ru/event/zasedanie-sekcii-4-uchenogo-soveta-fic-pxf-i-mx-ran-18/
LOCATION:в режиме онлайн-конференции
ATTACH;FMTTYPE=image/jpeg:https://icp-ras.ru/wp-content/uploads/dis-sovet/icon/sci-4.jpg
END:VEVENT
BEGIN:VEVENT
DTSTART;TZID=Europe/Moscow:20250911T093000
DTEND;TZID=Europe/Moscow:20250911T103000
DTSTAMP:20260423T061755
CREATED:20250909T214641Z
LAST-MODIFIED:20250909T214641Z
UID:16338-1757583000-1757586600@icp-ras.ru
SUMMARY:Заседание cекции № 5 Ученого Совета ФИЦ ПХФ и МХ РАН
DESCRIPTION:Повестка: \nВыдвижение кандидатуры заведующего Лабораторией фоточувствительных и электроактивных материалов Аккуратова А.В. на соискание премии РУДН за научные достижения и заслуги в области химии 2025 года.
URL:https://icp-ras.ru/event/zasedanie-cekcii-5-uchenogo-soveta-fic-pxf-i-mx-ran-10/
LOCATION:в режиме онлайн-конференции
ATTACH;FMTTYPE=image/jpeg:https://icp-ras.ru/wp-content/uploads/dis-sovet/icon/sci-5.jpg
END:VEVENT
BEGIN:VEVENT
DTSTART;TZID=Europe/Moscow:20250912T110000
DTEND;TZID=Europe/Moscow:20250912T130000
DTSTAMP:20260423T061755
CREATED:20250905T113323Z
LAST-MODIFIED:20250905T113323Z
UID:16318-1757674800-1757682000@icp-ras.ru
SUMMARY:Заседание секции № 9 Ученого совета ФИЦ ПХФ и МХ РАН
DESCRIPTION:Повестка: \nпредзащита диссертации Певцова Дмитрия Николаевича \n«Люминесценция коллоидных квантовых точек InP:Mn/ZnS» \nна соискание ученой степени кандидата химических наук\, по  специальности 1.4.4 — Физическая химия \nНаучный руководитель: доктор физико-математических наук\, профессор\, член-корреспондент РАН\, Разумов Владимир Федорович \nНаучный консультант: кандидат физико-математических наук\, Товстун Сергей Александрович
URL:https://icp-ras.ru/event/zasedanie-sekcii-9-uchenogo-soveta-fic-pxf-i-mx-ran-3/
LOCATION:актовый зал корпуса 2/10
ATTACH;FMTTYPE=image/jpeg:https://icp-ras.ru/wp-content/uploads/dis-sovet/icon/sci-9.jpg
END:VEVENT
BEGIN:VEVENT
DTSTART;VALUE=DATE:20250915
DTEND;VALUE=DATE:20250920
DTSTAMP:20260423T061755
CREATED:20250217T105423Z
LAST-MODIFIED:20250217T105423Z
UID:13166-1757894400-1758326399@icp-ras.ru
SUMMARY:XIII Международная научная конференция «Кинетика и механизм кристаллизации. Кристаллизация и материалы нового поколения» в Иваново
DESCRIPTION:С 15 по 19 сентября 2025 года в Институт химии растворов им. Г.А. Крестова РАН (г. Иваново\, ул. Академическая\, 1) состоится XIII Международная научная конференция «Кинетика и механизм кристаллизации. Кристаллизация и материалы нового поколения».
URL:https://icp-ras.ru/event/xiii-mezhdunarodnaya-nauchnaya-konferenciya-kinetika-i-mexanizm-kristallizacii-kristallizaciya-i-materialy-novogo-pokoleniya-v-ivanovo-3/
ATTACH;FMTTYPE=image/png:https://icp-ras.ru/wp-content/uploads/novosti-mir-nauki/ivanovo.png
END:VEVENT
BEGIN:VEVENT
DTSTART;TZID=Europe/Moscow:20250919T093000
DTEND;TZID=Europe/Moscow:20250919T110000
DTSTAMP:20260423T061755
CREATED:20250917T113759Z
LAST-MODIFIED:20250917T113759Z
UID:16403-1758274200-1758279600@icp-ras.ru
SUMMARY:Заседание cекции № 5 Ученого Совета ФИЦ ПХФ и МХ РАН
DESCRIPTION: Повестка: \nАнохин Д.В. “Умные мягкие материалы: получение\, исследование\, применение” \nТезисы доклада на VI Международную научную конференцию «Наука будущего — наука молодых»\, 23 – 26 сентября 2025\, Саратов\, Россия.
URL:https://icp-ras.ru/event/zasedanie-cekcii-5-uchenogo-soveta-fic-pxf-i-mx-ran-11/
LOCATION:в режиме онлайн-конференции
ATTACH;FMTTYPE=image/jpeg:https://icp-ras.ru/wp-content/uploads/dis-sovet/icon/sci-5.jpg
END:VEVENT
BEGIN:VEVENT
DTSTART;TZID=Europe/Moscow:20250919T100000
DTEND;TZID=Europe/Moscow:20250919T130000
DTSTAMP:20260423T061755
CREATED:20250918T062710Z
LAST-MODIFIED:20250918T062710Z
UID:16414-1758276000-1758286800@icp-ras.ru
SUMMARY:Заседание секции №3 Ученого Совета ФИЦ ПХФ и МХ РАН
DESCRIPTION:Повестка\n\nРассмотрение материалов\, предназначенных для открытого опубликования: \n1. Б.Л. Психа\, Л.В. Петров\, В.М. Соляников «Окисление молекулярным кислородом тройной системы бутилглицидиловый эфир – гидрохинон – пиридин в растворе водного трет.бутанола». Статья в журнал «Макрогетероциклы».\n2. В.А. Мумятова\, Е.О. Зырянский\, В.Д. Сень\, А.А. Терентьев «Влияние нокдауна р53 на экспрессию генов антиоксидантной системы в ответ на действие комплексов платины в клетках опухолевого и неопухолевого происхождения». Статья в журнал «Sell and tissues biology»\n3. С.М. Зайцева\, Е.Л. Болотина\, Е.А. Калашникова\, Р.Н. Киракосян\, А.А. Балакина «Особенности клонального микроразмножения растений рода Sequoia с высоким содержанием биологически активных веществ». Статья в журнал «Вопросы биологической\, медицинской и фармацевтической химии».\n4. Подгурская А.Д.\, Балакина А.А.\, Мищенко Д.В.\, Блохина С.В.\, Агладзе К.И. «Выделение первичных кардиомиоцитов неонатальных мышей ферментативным методом». Статья в журнал «Актуальные вопросы биологической физики и химии»\n5. Раевская Т.А.\, Краевая О. А.\, Корнев А.Н.\, Трошин П.А. «Антилейкемическая эффективность конъюгата фуллерена с нитроксильным производным даунорубицина на лекарственно-устойчивых штаммах лимфолейкоза Р388 мышей». Статья в журнал «Вопросы онкологии»\n6. Черемных Е.Г.\, Зозуля С.А.\, Позднякова А.Н.\, Куликова А.А.\, Кост Н.В.\, Саратовских Е.А.\, Санина Н.А. «Влияние тиосульфатного нитрозильного комплекса железа – донора NO\, на функциональную активность системы комплемента и лейкоцитарной эластазы в плазме крови человека in vitro». Сатья в журнал\n7. Сизов Л.Р.\, Козлов А.В.\, Горячев Н.С.\, Рыбкин А.Ю. «Переключение между механизмами I и II типа фототоксической активности за счет направленного дизайна фотосенсибилизаторов на основе органических донорно-акцепторных структур». Глава в монографию по результатам X Всероссийской школы-конференции молодых ученых «Органические и гибридные наноматериалы»\n8. Тезисы докладов на конференции.Повестка\n\nРассмотрение материалов\, предназначенных для открытого опубликования: \n1. Б.Л. Психа\, Л.В. Петров\, В.М. Соляников «Окисление молекулярным кислородом тройной системы бутилглицидиловый эфир – гидрохинон – пиридин в растворе водного трет.бутанола». Статья в журнал «Макрогетероциклы».\n2. В.А. Мумятова\, Е.О. Зырянский\, В.Д. Сень\, А.А. Терентьев «Влияние нокдауна р53 на экспрессию генов антиоксидантной системы в ответ на действие комплексов платины в клетках опухолевого и неопухолевого происхождения». Статья в журнал «Sell and tissues biology»\n3. С.М. Зайцева\, Е.Л. Болотина\, Е.А. Калашникова\, Р.Н. Киракосян\, А.А. Балакина «Особенности клонального микроразмножения растений рода Sequoia с высоким содержанием биологически активных веществ». Статья в журнал «Вопросы биологической\, медицинской и фармацевтической химии».\n4. Подгурская А.Д.\, Балакина А.А.\, Мищенко Д.В.\, Блохина С.В.\, Агладзе К.И. «Выделение первичных кардиомиоцитов неонатальных мышей ферментативным методом». Статья в журнал «Актуальные вопросы биологической физики и химии»\n5. Раевская Т.А.\, Краевая О. А.\, Корнев А.Н.\, Трошин П.А. «Антилейкемическая эффективность конъюгата фуллерена с нитроксильным производным даунорубицина на лекарственно-устойчивых штаммах лимфолейкоза Р388 мышей». Статья в журнал «Вопросы онкологии»\n6. Черемных Е.Г.\, Зозуля С.А.\, Позднякова А.Н.\, Куликова А.А.\, Кост Н.В.\, Саратовских Е.А.\, Санина Н.А. «Влияние тиосульфатного нитрозильного комплекса железа – донора NO\, на функциональную активность системы комплемента и лейкоцитарной эластазы в плазме крови человека in vitro». Сатья в журнал\n7. Сизов Л.Р.\, Козлов А.В.\, Горячев Н.С.\, Рыбкин А.Ю. «Переключение между механизмами I и II типа фототоксической активности за счет направленного дизайна фотосенсибилизаторов на основе органических донорно-акцепторных структур». Глава в монографию по результатам X Всероссийской школы-конференции молодых ученых «Органические и гибридные наноматериалы»\n8. Тезисы докладов на конференции.Повестка\n\nРассмотрение материалов\, предназначенных для открытого опубликования: \n1. Б.Л. Психа\, Л.В. Петров\, В.М. Соляников «Окисление молекулярным кислородом тройной системы бутилглицидиловый эфир – гидрохинон – пиридин в растворе водного трет.бутанола». Статья в журнал «Макрогетероциклы».\n2. В.А. Мумятова\, Е.О. Зырянский\, В.Д. Сень\, А.А. Терентьев «Влияние нокдауна р53 на экспрессию генов антиоксидантной системы в ответ на действие комплексов платины в клетках опухолевого и неопухолевого происхождения». Статья в журнал «Sell and tissues biology»\n3. С.М. Зайцева\, Е.Л. Болотина\, Е.А. Калашникова\, Р.Н. Киракосян\, А.А. Балакина «Особенности клонального микроразмножения растений рода Sequoia с высоким содержанием биологически активных веществ». Статья в журнал «Вопросы биологической\, медицинской и фармацевтической химии».\n4. Подгурская А.Д.\, Балакина А.А.\, Мищенко Д.В.\, Блохина С.В.\, Агладзе К.И. «Выделение первичных кардиомиоцитов неонатальных мышей ферментативным методом». Статья в журнал «Актуальные вопросы биологической физики и химии»\n5. Раевская Т.А.\, Краевая О. А.\, Корнев А.Н.\, Трошин П.А. «Антилейкемическая эффективность конъюгата фуллерена с нитроксильным производным даунорубицина на лекарственно-устойчивых штаммах лимфолейкоза Р388 мышей». Статья в журнал «Вопросы онкологии»\n6. Черемных Е.Г.\, Зозуля С.А.\, Позднякова А.Н.\, Куликова А.А.\, Кост Н.В.\, Саратовских Е.А.\, Санина Н.А. «Влияние тиосульфатного нитрозильного комплекса железа – донора NO\, на функциональную активность системы комплемента и лейкоцитарной эластазы в плазме крови человека in vitro». Сатья в журнал\n7. Сизов Л.Р.\, Козлов А.В.\, Горячев Н.С.\, Рыбкин А.Ю. «Переключение между механизмами I и II типа фототоксической активности за счет направленного дизайна фотосенсибилизаторов на основе органических донорно-акцепторных структур». Глава в монографию по результатам X Всероссийской школы-конференции молодых ученых «Органические и гибридные наноматериалы»\n8. Тезисы докладов на конференции.Повестка\n\nРассмотрение материалов\, предназначенных для открытого опубликования: \n1. Б.Л. Психа\, Л.В. Петров\, В.М. Соляников «Окисление молекулярным кислородом тройной системы бутилглицидиловый эфир – гидрохинон – пиридин в растворе водного трет.бутанола». Статья в журнал «Макрогетероциклы».\n2. В.А. Мумятова\, Е.О. Зырянский\, В.Д. Сень\, А.А. Терентьев «Влияние нокдауна р53 на экспрессию генов антиоксидантной системы в ответ на действие комплексов платины в клетках опухолевого и неопухолевого происхождения». Статья в журнал «Sell and tissues biology»\n3. С.М. Зайцева\, Е.Л. Болотина\, Е.А. Калашникова\, Р.Н. Киракосян\, А.А. Балакина «Особенности клонального микроразмножения растений рода Sequoia с высоким содержанием биологически активных веществ». Статья в журнал «Вопросы биологической\, медицинской и фармацевтической химии».\n4. Подгурская А.Д.\, Балакина А.А.\, Мищенко Д.В.\, Блохина С.В.\, Агладзе К.И. «Выделение первичных кардиомиоцитов неонатальных мышей ферментативным методом». Статья в журнал «Актуальные вопросы биологической физики и химии»\n5. Раевская Т.А.\, Краевая О. А.\, Корнев А.Н.\, Трошин П.А. «Антилейкемическая эффективность конъюгата фуллерена с нитроксильным производным даунорубицина на лекарственно-устойчивых штаммах лимфолейкоза Р388 мышей». Статья в журнал «Вопросы онкологии»\n6. Черемных Е.Г.\, Зозуля С.А.\, Позднякова А.Н.\, Куликова А.А.\, Кост Н.В.\, Саратовских Е.А.\, Санина Н.А. «Влияние тиосульфатного нитрозильного комплекса железа – донора NO\, на функциональную активность системы комплемента и лейкоцитарной эластазы в плазме крови человека in vitro». Сатья в журнал\n7. Сизов Л.Р.\, Козлов А.В.\, Горячев Н.С.\, Рыбкин А.Ю. «Переключение между механизмами I и II типа фототоксической активности за счет направленного дизайна фотосенсибилизаторов на основе органических донорно-акцепторных структур». Глава в монографию по результатам X Всероссийской школы-конференции молодых ученых «Органические и гибридные наноматериалы»\n8. Тезисы докладов на конференции.Повестка\n\nРассмотрение материалов\, предназначенных для открытого опубликования: \n1. Б.Л. Психа\, Л.В. Петров\, В.М. Соляников «Окисление молекулярным кислородом тройной системы бутилглицидиловый эфир – гидрохинон – пиридин в растворе водного трет.бутанола». Статья в журнал «Макрогетероциклы».\n2. В.А. Мумятова\, Е.О. Зырянский\, В.Д. Сень\, А.А. Терентьев «Влияние нокдауна р53 на экспрессию генов антиоксидантной системы в ответ на действие комплексов платины в клетках опухолевого и неопухолевого происхождения». Статья в журнал «Sell and tissues biology»\n3. С.М. Зайцева\, Е.Л. Болотина\, Е.А. Калашникова\, Р.Н. Киракосян\, А.А. Балакина «Особенности клонального микроразмножения растений рода Sequoia с высоким содержанием биологически активных веществ». Статья в журнал «Вопросы биологической\, медицинской и фармацевтической химии».\n4. Подгурская А.Д.\, Балакина А.А.\, Мищенко Д.В.\, Блохина С.В.\, Агладзе К.И. «Выделение первичных кардиомиоцитов неонатальных мышей ферментативным методом». Статья в журнал «Актуальные вопросы биологической физики и химии»\n5. Раевская Т.А.\, Краевая О. А.\, Корнев А.Н.\, Трошин П.А. «Антилейкемическая эффективность конъюгата фуллерена с нитроксильным производным даунорубицина на лекарственно-устойчивых штаммах лимфолейкоза Р388 мышей». Статья в журнал «Вопросы онкологии»\n6. Черемных Е.Г.\, Зозуля С.А.\, Позднякова А.Н.\, Куликова А.А.\, Кост Н.В.\, Саратовских Е.А.\, Санина Н.А. «Влияние тиосульфатного нитрозильного комплекса железа – донора NO\, на функциональную активность системы комплемента и лейкоцитарной эластазы в плазме крови человека in vitro». Сатья в журнал\n7. Сизов Л.Р.\, Козлов А.В.\, Горячев Н.С.\, Рыбкин А.Ю. «Переключение между механизмами I и II типа фототоксической активности за счет направленного дизайна фотосенсибилизаторов на основе органических донорно-акцепторных структур». Глава в монографию по результатам X Всероссийской школы-конференции молодых ученых «Органические и гибридные наноматериалы»\n8. Тезисы докладов на конференции.Повестка\n\nРассмотрение материалов\, предназначенных для открытого опубликования: \n1. Б.Л. Психа\, Л.В. Петров\, В.М. Соляников «Окисление молекулярным кислородом тройной системы бутилглицидиловый эфир – гидрохинон – пиридин в растворе водного трет.бутанола». Статья в журнал «Макрогетероциклы».\n2. В.А. Мумятова\, Е.О. Зырянский\, В.Д. Сень\, А.А. Терентьев «Влияние нокдауна р53 на экспрессию генов антиоксидантной системы в ответ на действие комплексов платины в клетках опухолевого и неопухолевого происхождения». Статья в журнал «Sell and tissues biology»\n3. С.М. Зайцева\, Е.Л. Болотина\, Е.А. Калашникова\, Р.Н. Киракосян\, А.А. Балакина «Особенности клонального микроразмножения растений рода Sequoia с высоким содержанием биологически активных веществ». Статья в журнал «Вопросы биологической\, медицинской и фармацевтической химии».\n4. Подгурская А.Д.\, Балакина А.А.\, Мищенко Д.В.\, Блохина С.В.\, Агладзе К.И. «Выделение первичных кардиомиоцитов неонатальных мышей ферментативным методом». Статья в журнал «Актуальные вопросы биологической физики и химии»\n5. Раевская Т.А.\, Краевая О. А.\, Корнев А.Н.\, Трошин П.А. «Антилейкемическая эффективность конъюгата фуллерена с нитроксильным производным даунорубицина на лекарственно-устойчивых штаммах лимфолейкоза Р388 мышей». Статья в журнал «Вопросы онкологии»\n6. Черемных Е.Г.\, Зозуля С.А.\, Позднякова А.Н.\, Куликова А.А.\, Кост Н.В.\, Саратовских Е.А.\, Санина Н.А. «Влияние тиосульфатного нитрозильного комплекса железа – донора NO\, на функциональную активность системы комплемента и лейкоцитарной эластазы в плазме крови человека in vitro». Сатья в журнал\n7. Сизов Л.Р.\, Козлов А.В.\, Горячев Н.С.\, Рыбкин А.Ю. «Переключение между механизмами I и II типа фототоксической активности за счет направленного дизайна фотосенсибилизаторов на основе органических донорно-акцепторных структур». Глава в монографию по результатам X Всероссийской школы-конференции молодых ученых «Органические и гибридные наноматериалы»\n8. Тезисы докладов на конференции.
URL:https://icp-ras.ru/event/zasedanie-sekcii-3-uchenogo-soveta-fic-pxf-i-mx-ran-28/
LOCATION:в режиме онлайн-конференции
ATTACH;FMTTYPE=image/jpeg:https://icp-ras.ru/wp-content/uploads/dis-sovet/icon/sci-3.jpg
END:VEVENT
BEGIN:VEVENT
DTSTART;TZID=Europe/Moscow:20250919T100000
DTEND;TZID=Europe/Moscow:20250919T130000
DTSTAMP:20260423T061755
CREATED:20250918T062844Z
LAST-MODIFIED:20250918T062844Z
UID:16416-1758276000-1758286800@icp-ras.ru
SUMMARY:Заседание секции №4 Ученого Совета ФИЦ ПХФ и МХ РАН
DESCRIPTION:Повестка\n\nРассмотрение материалов\, предназначенных для открытого опубликования: \n1.Гуцев Л.Г.\nШон Нейшнс\, Лаврентий Гуцев\, Олег Преждо\, Юйхуа Дуань\, Шэннян Ван “Проектирование аммиачного сенсора на α-CsPbI₃ на основе зонной структуры для применения в зелёном катализе”\nСтатья в журнал Nanomaterials \n2.  Гуцев Л.Г.\nГеннадий Л. Гуцев\, Чарльз А. Уэзерфорд\, Лаврентий Г. Гуцев\, Бала Р. Рамачандран “Восстановление N₂ до NH₃\, катализируемое наночастицами железа в водной среде: теоретическое моделирование полного цикла”\nСтатья в журнал Inorganic Chemistry \n3. Боженко К.В.\nKonstantin V. Bozhenko · Andrey N. Utenyshev · Lavrenty G. Gutsev · Sergey M. Aldoshin · Gennady L. Gutsev “Theoretical modeling of interactions of Cr2On and Mn2On  clusters with H2 molecules”\nСтатья в журнал Journal of Molecular Modeling \n4. Боженко К.В.\nK.V.Bozhenko\, A.N. Utenyshev\,  L.G. Gutsev\,  S.M. Aldoshin\, and G.L. Gutsev “Quantum-Chemical study of Interactions of Cr2On and Mn2On clusters with H2 Molecule”.\nТезисы на конференцию “Advances in Synthesis and Complexing” September 29- October 03\, 2025\, Moscow.
URL:https://icp-ras.ru/event/zasedanie-sekcii-4-uchenogo-soveta-fic-pxf-i-mx-ran-19/
LOCATION:в режиме онлайн-конференции
ATTACH;FMTTYPE=image/jpeg:https://icp-ras.ru/wp-content/uploads/dis-sovet/icon/sci-4.jpg
END:VEVENT
BEGIN:VEVENT
DTSTART;TZID=Europe/Moscow:20250919T140000
DTEND;TZID=Europe/Moscow:20250919T170000
DTSTAMP:20260423T061755
CREATED:20250916T082432Z
LAST-MODIFIED:20250916T082432Z
UID:16397-1758290400-1758301200@icp-ras.ru
SUMMARY:Заседание Ученого Совета ИФАВ РАН\, посвященное 90-летию со дня рождения академика Н.С. Зефирова
DESCRIPTION:Докладчики:      академик С.О. Бачурин\,\n\n \n\nк.х.н.\, доцент В.А. Палюлин\,\n\n \n\nд.х.н.\, профессор О.Н. Зефирова.\n\n \n\nЗаседание будет проходить в смешанном режиме.
URL:https://icp-ras.ru/event/zasedanie-uchenogo-soveta-ifav-ran-posvyashhennoe-90-letiyu-so-dnya-rozhdeniya-akademika-n-s-zefirova/
LOCATION:зале заседаний Ученого совета ИФАВ РАН
ATTACH;FMTTYPE=image/jpeg:https://icp-ras.ru/wp-content/uploads/novosti2025/09-2025/Zef_90.jpg
END:VEVENT
BEGIN:VEVENT
DTSTART;TZID=Europe/Moscow:20250924T110000
DTEND;TZID=Europe/Moscow:20250924T130000
DTSTAMP:20260423T061755
CREATED:20250919T082726Z
LAST-MODIFIED:20250919T113247Z
UID:16430-1758711600-1758718800@icp-ras.ru
SUMMARY:Заседание секции №4 Ученого совета ФИЦ ПХФ и МХ РАН
DESCRIPTION:В повестке дня:\nШтефанец Валерия Павловна\n“Влияние координационного окружения ионов 4f-металлов на процессы медленной магнитной релаксации в солевых и нейтральных редкоземельных β-дикетонатах и композитах на их основе”.\n(преддиссертационный доклад\nна соискание ученой степени кандидата химических наук по специальности 1.4.4. – Физическая химия )\nНаучный руководитель – д. х. н. Санина Н.А.\nРецензенты:\nд.х.н. Конарев Д. В.\,\nк.х.н. Казакова А.В.
URL:https://icp-ras.ru/event/zasedanie-sekcii-4-uchenogo-soveta-fic-pxf-i-mx-ran-20/
LOCATION:актовый зал корп. 2/14
ATTACH;FMTTYPE=image/jpeg:https://icp-ras.ru/wp-content/uploads/dis-sovet/icon/sci-4.jpg
END:VEVENT
BEGIN:VEVENT
DTSTART;TZID=Europe/Moscow:20250924T140000
DTEND;TZID=Europe/Moscow:20250924T170000
DTSTAMP:20260423T061755
CREATED:20250922T182939Z
LAST-MODIFIED:20250922T182939Z
UID:16455-1758722400-1758733200@icp-ras.ru
SUMMARY:Заседание семинара "Макрокинетика и процессы горения"
DESCRIPTION:Повестка \nРассмотрение материалов\, предназначенных для открытого опубликования: \n1. Салганский Е.А.\, Салганская М.В.\, Седов И.В.\n«Тhermodynamic assessment of hydrogen production during methane pyrolysis in a filtration combustion reactor with a moving bed»\nДоклад на 11-й Международной конференции по механике закрученных потоков\, 16-19 октября 2025 года в г. Пекин (КНР) и на 4-м Китайско-Российском форуме науки и технологий\, 23-27 октября 2025 года в г. Харбин (КНР) \n2. Салганская М.В.\, Зайченко А.Ю.\, Подлесный Д.Н.\, Цветков М.В.\, Цветкова Ю.Ю.\, Салганский Е.А.\n«Gasification of solid fuel dust in a counterflow moving bed filtration combustion reactor to produce synthesis gas/hydrogen»\nДоклад на 4-м Китайско-Российском форуме науки и технологий\, 23-27 октября 2025 года в г. Харбин (КНР)\n \n3. Зайченко А.Ю.\, Кислов В.М.\, Подлесный Д.Н.\, Полианчик Е.В.\, Глазов С.В.\n«WTE processing of the solid wastes by gasification in a counterflow moving bed reactor in superadiabatic mode combustion: High energy efficiency and inherent suppression of environmental pollutants»\nДоклад на 4-м Китайско-Российском форуме науки и технологий\, 23-27 октября 2025 года в г. Харбин (КНР) \n4. Подлесный Д.Н.\, Цветков М.В.\, Зайченко А.Ю.\, Салганский Е.А.\, Салганская М.В.\n«A novel method for conversion of liquid hydrocarbons and pulverized solid fuels to syngas in a moving bed reactor with a counterflow of inert granular heat carrier»\nДоклад на 4-м Китайско-Российском форуме науки и технологий\, 23-27 октября 2025 года в г. Харбин (КНР) \n5. Цветков М.В.\, Зайченко А.Ю.\, Подлесный Д.Н.\, Бельмесов А.А.\, Глухов А.А.\n«Production and characterization of seaweed-derived biochar»\nДоклад на 4-м Китайско-Российском форуме науки и технологий\, 23-27 октября 2025 года в г. Харбин (КНР) \n6. Полианчик Е.В.\, Подлесный Д.Н.\, Цветков М.В.\, Зайченко А.Ю.\n«Swiss-roll type reactor for high-temperature combustion with low net heat effect»\nДоклад на 4-м Китайско-Российском форуме науки и технологий\, 23-27 октября 2025 года в г. Харбин (КНР)
URL:https://icp-ras.ru/event/zasedanie-seminara-makrokinetika-i-processy-goreniya-13/
LOCATION:корпус 1/6\, ком.18
ATTACH;FMTTYPE=image/jpeg:https://icp-ras.ru/wp-content/uploads/nauka-otdely/OGV/C-and-E.jpg
END:VEVENT
BEGIN:VEVENT
DTSTART;TZID=Europe/Moscow:20250925T110000
DTEND;TZID=Europe/Moscow:20250925T130000
DTSTAMP:20260423T061755
CREATED:20250922T183113Z
LAST-MODIFIED:20250922T183113Z
UID:16457-1758798000-1758805200@icp-ras.ru
SUMMARY:Заседание cекции № 5 Ученого Совета ФИЦ ПХФ и МХ РАН
DESCRIPTION:Повестка \nРассмотрение материалов\, предназначенных для открытого опубликования: \n1. Sidorov V.L.\, Baimuratova R.K.\, Bozhenko K.V.\, Utenyshev A. N.\, Dzhardimalieva G.I.\, Aldoshin S.М.\nContribution of chemical stability of Fe3O4/γ-Fe2O3–MIL-88b(Fe) AND Fe3O4/γ-Fe2O3–NH2-MIL-88b(Fe) composites towards formation of reactive oxygen species \nСтатья в журнал Journal of Materials Research \n2. Baskakov S.A.\, Volfkovich Yu.M.\, Sosenkin V.E.\, Zhidkov M.V.\, Akimov A.V.\, Shmakov A.S.\, Babenko S.D.\, Piven N.P.\, Bocharov A.S.\, Kabachkov E.N.\, Shulga Y.M.\, Krasnikova S.G.\, Gutsev G.L.\nPorous structure and dielectric properties of WPU/GO films as anti-corrosion coatings. \nСтатья в журнал NanoBioTechnology Reports \n3. Айзятуллов А.С.\, Баймуратова Р.К.\, Сидоров В.Л.\, Спирин М.Г.\, Корчагин Д.В.\, Дремова Н.Н.\, Джардималиева Г.И.\nEngineering TiO₂/MIL-88B Heterostructures for Enhanced Photocatalytic Degradation of Methylene Blue \nСтатья в журнал Separation and Purification Technology
URL:https://icp-ras.ru/event/zasedanie-cekcii-5-uchenogo-soveta-fic-pxf-i-mx-ran-12/
LOCATION:актовый зал корп. 2/2
ATTACH;FMTTYPE=image/jpeg:https://icp-ras.ru/wp-content/uploads/dis-sovet/icon/sci-5.jpg
END:VEVENT
END:VCALENDAR