BEGIN:VCALENDAR
VERSION:2.0
PRODID:-//ФЕДЕРАЛЬНЫЙ ИССЛЕДОВАТЕЛЬСКИЙ ЦЕНТР ПРОБЛЕМ ХИМИЧЕСКОЙ ФИЗИКИ И МЕДИЦИНСКОЙ ХИМИИ РАН - ECPv6.8.0//NONSGML v1.0//EN
CALSCALE:GREGORIAN
METHOD:PUBLISH
X-ORIGINAL-URL:https://icp-ras.ru
X-WR-CALDESC:Мероприятия для ФЕДЕРАЛЬНЫЙ ИССЛЕДОВАТЕЛЬСКИЙ ЦЕНТР ПРОБЛЕМ ХИМИЧЕСКОЙ ФИЗИКИ И МЕДИЦИНСКОЙ ХИМИИ РАН
REFRESH-INTERVAL;VALUE=DURATION:PT1H
X-Robots-Tag:noindex
X-PUBLISHED-TTL:PT1H
BEGIN:VTIMEZONE
TZID:Europe/Moscow
BEGIN:STANDARD
TZOFFSETFROM:+0300
TZOFFSETTO:+0300
TZNAME:MSK
DTSTART:20250101T000000
END:STANDARD
END:VTIMEZONE
BEGIN:VEVENT
DTSTART;TZID=Europe/Moscow:20251001T093000
DTEND;TZID=Europe/Moscow:20251001T120000
DTSTAMP:20260423T042736
CREATED:20250929T151706Z
LAST-MODIFIED:20251001T184412Z
UID:16555-1759311000-1759320000@icp-ras.ru
SUMMARY:Заседание Ученого совета ФИЦ ПХФ и МХ РАН
DESCRIPTION:Уважаемые сотрудники ФИЦ ПХФ и МХ РАН! \n Повестка дня: \n\nЗамещение вакантной должности ведущего научного сотрудника (выступление Навроцкого Максима Борисовича).\nО формировании государственного задания с учетом модели «квалифицированного заказчика» (выступление Золотухиной Екатерины Викторовны).\nВыдвижение Э.Р. Бадамшиной к присвоению почетного звания «Заслуженный деятель науки Российской Федерации». (Тайное голосование).\nВручение удостоверений аспирантам 1-го года обучения ФИЦ ПХФ и МХ РАН\, вручение дипломов окончившим аспирантуру ФИЦ ПХФ и МХ РАН.\nРазное.
URL:https://icp-ras.ru/event/zasedanie-uchenogo-soveta-fic-pxf-i-mx-ran-12/
LOCATION:в режиме онлайн-конференции
ATTACH;FMTTYPE=image/jpeg:https://icp-ras.ru/wp-content/uploads/LOGO/SciCoun.jpg
END:VEVENT
BEGIN:VEVENT
DTSTART;TZID=Europe/Moscow:20251002T093000
DTEND;TZID=Europe/Moscow:20251002T113000
DTSTAMP:20260423T042736
CREATED:20250930T143441Z
LAST-MODIFIED:20250930T143441Z
UID:16568-1759397400-1759404600@icp-ras.ru
SUMMARY:Заседание секции № 5 Ученого Совета ФИЦ ПХФ и МХ РАН
DESCRIPTION:Повестка: \nРассмотрение материалов\, предназначенных для открытого опубликования: \nТезисы на Всероссийский конкурс научных работ им. Н.И. Лобачевского\, 5 -7 ноября 2025 г.\, г. Казань): \n 1) Синтез и исследование процессов формирования неизоцианатных полиуретанов. Туманов В.А. \n 2) Исследование процессов формирования вододисперсионных полиуретанакрилатов на основе олигоизоциануратов изофорондиизоцианата.\nПанин Е.О. \n 3) Вододисперсионные полиуретаны\, модифицированные производным циклодекстрина – потенциальные системы доставки биологически активных веществ.\nПолякова Е.А. \nСтатья: \nКарпов С.В.\, Полякова Е.А.\, Туманов В.А.\, Джалмуханова А.С.\, Е. Панин О.\, Мищенко Д.В.\, Перепелицина Е.О.\, Картамышева У.П.\, Иванова А.А.\, Чернец А.А.\, Галкина К.А.\, Бадамшина Э.Р. Вододисперсионные полиуретаны\, модифицированные производным циклодекстрина – потенциальные системы доставки биологически активных веществ// ВМС
URL:https://icp-ras.ru/event/zasedanie-sekcii-5-uchenogo-soveta-fic-pxf-i-mx-ran-30/
LOCATION:в режиме онлайн-конференции
ATTACH;FMTTYPE=image/jpeg:https://icp-ras.ru/wp-content/uploads/dis-sovet/icon/sci-5.jpg
END:VEVENT
BEGIN:VEVENT
DTSTART;TZID=Europe/Moscow:20251003T093000
DTEND;TZID=Europe/Moscow:20251003T120000
DTSTAMP:20260423T042736
CREATED:20251002T191317Z
LAST-MODIFIED:20251002T191317Z
UID:16657-1759483800-1759492800@icp-ras.ru
SUMMARY:Заседание секции №4 Ученого Совета ФИЦ ПХФ и МХ РАН
DESCRIPTION:В повестке дня: \n\nЕ.В. Дворецкая\, А.О. Колмаков\, М.В. Потапов\, В.П. Пискорский\,Р.Б. Моргунов\, Микротвердость редкоземельных микропроводов.  Статья в журнал Труды ВИАМ\nН.А. Санина\, С.Я. Гадомский\, Е.А. Сырейщикова\, А.Н. Утенышев\, П.В. Дороватовский\, С.М. Алдошин “Динитрозильный комплекс железа с 5-фенил-оксадиазолилом – донор монооксида азота (NO) нового структурного типа”\nСтатья в журнал  Известия АН. Сер. Химическая (Письма редактору).\nСпицына. Н.Г.\, Благов М.А.\, Лобач А.С.\, Шилов Г.В. Синтез и молекулярная структура µ-оксомостикового димера железа (III) на основе лиганда N\,N′-этиленбис(3-метокси-салицилимина). Тезисы на Курчатовский форум «Исследования с применением синхротронного излучения\, нейтронов и электронов»\,21-25 октября 2025\, Москва\nБлагов М.А.\, Спицына Н.Г.\, Лобач А.С.\, Шилов Г.В.\, Дмитриев А.И.\, Жидков М.В.\nМагнитные свойства µ-оксомостикового димера железа (III) на основе лиганда N\,N′-этиленбис(3-метокси-салицилимина). Тезисы на Курчатовский форум «Исследования с применением синхротронного излучения\, нейтронов и электронов»\,21-25 октября 2025\, Москва\nА.С Шмаков\, А.В. Акимов\, В.Д. Сень\, Н.В. Филатова\, ЭПР исследование механизма цитотоксичности Pt(IV)-аминоксильных комплексов. Тезисы на Всероссийскую конференцию им. академика В.И. Овчаренко “Органические радикалы и органическая электрохимия: фундаментальные и прикладные аспекты”\, 12-14 ноября 2025 г. \, Москва\nА.В. Акимов\, А.С Шмаков\, С.Р. Аллаяров.  ЭПР исследование органических радикалов\, образующихся при облучении тяжелыми ионами тонких пленок ПВДФ.  Тезисы на Всероссийскую конференцию им. академика В.И. Овчаренко “Органические радикалы и органическая электрохимия: фундаментальные и прикладные аспекты”\, 12-14 ноября 2025 г. \, Москва
URL:https://icp-ras.ru/event/zasedanie-sekcii-4-uchenogo-soveta-fic-pxf-i-mx-ran-21/
LOCATION:в режиме онлайн-конференции
ATTACH;FMTTYPE=image/jpeg:https://icp-ras.ru/wp-content/uploads/dis-sovet/icon/sci-4.jpg
END:VEVENT
BEGIN:VEVENT
DTSTART;TZID=Europe/Moscow:20251003T113000
DTEND;TZID=Europe/Moscow:20251003T130000
DTSTAMP:20260423T042736
CREATED:20251002T191120Z
LAST-MODIFIED:20251002T191354Z
UID:16655-1759491000-1759496400@icp-ras.ru
SUMMARY:Заседание семинара "Макрокинетика и процессы горения"
DESCRIPTION:Повестка дня: \nРассмотрение материалов\, предназначенных для открытого опубликования. \nТарасов Г.А.\, Яновский Л.С. Повышение экологической безопасности в районах Крайнего Севера и Арктики путем утилизации техногенных отходов. (статья в журнал Известия РАРАН)
URL:https://icp-ras.ru/event/zasedanie-seminara-makrokinetika-i-processy-goreniya-14/
LOCATION:корпус 1/6\, ком.18
ATTACH;FMTTYPE=image/jpeg:https://icp-ras.ru/wp-content/uploads/nauka-otdely/OGV/C-and-E.jpg
END:VEVENT
BEGIN:VEVENT
DTSTART;TZID=Europe/Moscow:20251009T110000
DTEND;TZID=Europe/Moscow:20251009T133000
DTSTAMP:20260423T042736
CREATED:20251007T155519Z
LAST-MODIFIED:20251007T155519Z
UID:16720-1760007600-1760016600@icp-ras.ru
SUMMARY:Заседание семинара "Высокоэнергетические системы"
DESCRIPTION:Повестка: рассмотрение материалов для публикации в открытой печати. \n\nМолоканов А.А.\, Чжоу В.\, Бадыков Р.Р.\, Разносчиков В.В.\, Аверьков И.С.\, Кузьмин М.В.\, Яновский Л.С. Исследование перспективных составов альтернативных топлив для газотурбинных двигателей. Статья в журнал «Fuel»\nКазаков А.И.\, Лемперт Д.Б.\, Дашко Д.В.\, Набатова А.В.\, Игнатьева Е.Л.\, Яновский Л.С. Кинетика термического распада ТАБФА. Статья в журнал «Боеприпасы и спецхимия»\nМолоканов А.А.\, Чжоу В.\, Бадыков Р.Р.\, Разносчиков В.В.\, Аверьков И.С.\, Кузьмин М.В.\, Плишкин Н.А.\, Яновский Л.С. Оптимизационное исследование состава высокоэффективной альтернативной авиационной топливной композиции. Статья в сборник материалов конференции «Proceedings of Global Power and Propulsion Society» (Shanghai\, September 4-6\, 2025)
URL:https://icp-ras.ru/event/zasedanie-seminara-vysokoenergeticheskie-sistemy-14/
LOCATION:в корпусе 1/7 (к. 85\, 5 этаж)
ATTACH;FMTTYPE=image/jpeg:https://icp-ras.ru/wp-content/uploads/nauka-otdely/OGV/C-and-E.jpg
END:VEVENT
BEGIN:VEVENT
DTSTART;TZID=Europe/Moscow:20251010T150000
DTEND;TZID=Europe/Moscow:20251010T170000
DTSTAMP:20260423T042736
CREATED:20251008T205325Z
LAST-MODIFIED:20251008T205325Z
UID:16726-1760108400-1760115600@icp-ras.ru
SUMMARY:Заседание секции №4 Ученого Совета ФИЦ ПХФ и МХ РАН
DESCRIPTION:Повестка: \n1. Моргунов Р. Б.\nМ.В. Потапов\, А.В. Бузенков\, Р.Б. Моргунов\, В.П. Пискорский. Магниты с высокой температурной стабильностью для навигации.\nСтатья в журнал Труды ВИАМ \n2. Моргунов Р. Б.\nМ.В. Потапов\, А.В. Бузенков\, В.П. Пискорский\, Р.Б. Моргунов. Влияние легирования гадолинием на магнитные свойства спеченных магнитов Pr–Dy–Fe–Co–B.\nСтатья в журнал Труды ВИАМ \n3. Куницына Е. И.\nE.I. Kunitsyna\, A.I. Chernov\, Roman B. Morgunov. Cooper pairs as sensitive probes and moderators of spin relaxation in single molecular magnet incorporated to superconductive matrix.\nСтатья в журнал ACS Applied Materials & Interfaces \n4. А. В. Акимов\nА.В. Крюкова\, О.Л. Орелович; В. А. Алтынов\, А.В. Акимов\, А. С. Шмаков\, Д. В. Никольская\, Н.С. Кирилкин\, Пинаева У. В.\nРадиационная прививка трековых мембран ПВДФ: исследование функционализации пор в наномасштабе\nСтатья отправлена соавторами и вышла в EURASIAN JOURNAL OF CHEMISTRY.
URL:https://icp-ras.ru/event/zasedanie-sekcii-4-uchenogo-soveta-fic-pxf-i-mx-ran-22/
LOCATION:в режиме онлайн-конференции
ATTACH;FMTTYPE=image/jpeg:https://icp-ras.ru/wp-content/uploads/dis-sovet/icon/sci-4.jpg
END:VEVENT
BEGIN:VEVENT
DTSTART;TZID=Europe/Moscow:20251016T093000
DTEND;TZID=Europe/Moscow:20251016T103000
DTSTAMP:20260423T042736
CREATED:20251015T171304Z
LAST-MODIFIED:20251015T171304Z
UID:16819-1760607000-1760610600@icp-ras.ru
SUMMARY:Заседание cекции № 5 Ученого Совета ФИЦ ПХФ и МХ РАН
DESCRIPTION:Повестка \nРассмотрение материалов\, предназначенных для открытого опубликования: \n1. Шульга Ю.М.\, Васильев С.Г.\, Кущ П.П.\, Кичигина Г.А.\, Кирюхин Д.П. \nО полимере\, образующемся при длительном гамма-облучении бензола.// Химия высоких энергий
URL:https://icp-ras.ru/event/zasedanie-cekcii-5-uchenogo-soveta-fic-pxf-i-mx-ran-13/
LOCATION:актовый зал корп. 2/2
ATTACH;FMTTYPE=image/jpeg:https://icp-ras.ru/wp-content/uploads/dis-sovet/icon/sci-5.jpg
END:VEVENT
BEGIN:VEVENT
DTSTART;TZID=Europe/Moscow:20251016T110000
DTEND;TZID=Europe/Moscow:20251016T170000
DTSTAMP:20260423T042736
CREATED:20251015T171100Z
LAST-MODIFIED:20251015T171100Z
UID:16817-1760612400-1760634000@icp-ras.ru
SUMMARY:Заседание семинара "Высокоэнергетические системы"
DESCRIPTION:Повестка: рассмотрение материалов для публикации в открытой печати.\n\n\nЯновский Л.С.\, Разносчиков В.В. Концепция формирования технического облика реактивных двигателей с внутриатмосферной зоной эксплуатации на новых топливах. Тезисы на Всероссийскую научно-техническую конференцию «Ракетно-космические двигательные установки»\, Москва\, 23 октября 2025 г.\nЯновский Л.С.\, Разносчиков В.В. Подход по формированию облика реактивных двигателей с внутриатмосферной зоной эксплуатации на новых топливах. Тезисы на 18-ю Всероссийскую научно-техническую конференцию «Ракетно-Артиллерийское Вооружение России – 2025»\, Санкт-Петербург\, 26-28 ноября 2025 г.\nКазаков А.И.\, Самойленко Н.Г.\, Шатунова Е.Н.\, Аверьков И.С.\, Разносчиков В.В.\, Яновский Л.С. Исследование теплового состояния зарядов энергоконденсированных материалов в условиях эксплуатации. Тезисы на 18-ю Всероссийскую научно-техническую конференцию «Ракетно-Артиллерийское Вооружение России – 2025»\, Санкт-Петербург\, 26-28 ноября 2025 г.\n\nЛемперт Д.Б.\, Дашко Д.В.\, Казаков А.И.\, Степанов А.И.\, Игнатьева Е.Л.\, Набатова А.В.\, Шилов Г.В.\, Яновский Л.C. Синтез и свойства нового энергоемкого соединения ТАБФА. Тезисы на 19-ю научную конференцию по горению и взрыву\, Москва\, 11-13 февраля 2026 г. \n\n\nКазаков А.И.\, Лемперт Д.Б.\, Дашко Д.В.\, Игнатьева Е.Л.\, Набатова А.В.\, Степанов А.И.\, Яновский Л.С. Сравнительный анализ свойств ряда производных фуразаноазепинов как потенциальных диспергаторов твердых неметаллизированных топлив. Тезисы на 19-ю научную конференцию по горению и взрыву\, Москва\, 11-13 февраля 2026 г. \n\nЯновский Л.С.\, Тарасов Г.А. Тепломассообмен и горение в камерах сгорания испарительного типа газотурбинных авиадвигателей. Тезисы на X Международную конференцию «Тепломассообмен и гидродинамика в закрученных потоках»\, Архангельск\, 20-22 октября 2025 г.
URL:https://icp-ras.ru/event/zasedanie-seminara-vysokoenergeticheskie-sistemy-15/
LOCATION:в корпусе 1/7 (к. 85\, 5 этаж)
ATTACH;FMTTYPE=image/jpeg:https://icp-ras.ru/wp-content/uploads/nauka-otdely/OGV/C-and-E.jpg
END:VEVENT
BEGIN:VEVENT
DTSTART;TZID=Europe/Moscow:20251023T110000
DTEND;TZID=Europe/Moscow:20251023T133000
DTSTAMP:20260423T042736
CREATED:20251020T145310Z
LAST-MODIFIED:20251020T145310Z
UID:16861-1761217200-1761226200@icp-ras.ru
SUMMARY:Заседание cекции № 5 Ученого Совета ФИЦ ПХФ и МХ РАН
DESCRIPTION:Повестка \nРассмотрение материалов\, предназначенных для открытого опубликования: \nСтатья: \n1. Курмаз С.В.\, Емельянова Н.С.\, Ульянов И.В.\, Васильев C.Г.\, Курмаз В.А.\, Конев Д.В.\, Истакова О.И.\nВодорастворимые системы куркумина на основе амфифильных (со)полимеров N-винилпирролидона с (ди)метакрилатами для биомедицинских приложений. Экспериментальное и теоретическое исследование.// Russian Journal of General Chemistry \nТезисы: \n1. Терещенко М.Д.\, Теплякова М.М.\, Живчикова А.Н.\, Гапанович М.В.\, Перепелицина Е.О.\, Кузнецов И.Е \, Аккуратов А.В.\nНовые сопряженные полимеры на основе трифениламина с тиофеновыми и карбазольными π-спейсерами для высокоэффективных перовскитных солнечных батарей. Молодежная научная конференция  “Функциональные материалы: создание\, изучение\, применение»\,  17 – 18 ноября 2025 г.\, МГУ имени М.В. Ломоносова \n2. Кузнецов И.Е.\, Заморецков Д.С.\, Баймуратова Р.К.\, Аккуратов А.В.\nРазработка подхода к синтезу диарилйодониевых солей в целях создания химически усиленных фоторезистов для фотолитографии на длину волны 248 нм.\nМолодежная научная конференция «Функциональные материалы: создание\, изучение\, применение»\, 17-18 ноября 2025г.\, МГУ им. М.В.Ломоносова
URL:https://icp-ras.ru/event/zasedanie-cekcii-5-uchenogo-soveta-fic-pxf-i-mx-ran-14/
LOCATION:актовый зал корп. 2/2
ATTACH;FMTTYPE=image/jpeg:https://icp-ras.ru/wp-content/uploads/dis-sovet/icon/sci-5.jpg
END:VEVENT
BEGIN:VEVENT
DTSTART;TZID=Europe/Moscow:20251024T093000
DTEND;TZID=Europe/Moscow:20251024T113000
DTSTAMP:20260423T042736
CREATED:20251022T200044Z
LAST-MODIFIED:20251022T200044Z
UID:16875-1761298200-1761305400@icp-ras.ru
SUMMARY:Заседание секции №4 Ученого совета ФИЦ ПХФ и МХ РАН
DESCRIPTION:Повестка \nРассмотрение материалов\, предназначенных для открытого опубликования: \n\n1. Бахметьев М.В.\nБахметьев М.В.\, Гусенков Д.Л.\, Чернов А.И.\, Моргунов Р.Б. «Spin-flop and slowing of magnetic fluctuations probed by magnetization reversal and magnetic susceptibility in CrSBr crysta»\nСтатья в журнал Journal of Physics D: Applied Physics \n2.Королёв Д. В.\nA.S. Khodkina\, M.A. Ovchinnikov\, I.E. Rasskazov\, A.V. Kolchin\, D.V. Korolev\, E.I. Kunitsyna\, M.V. Bakhmetiev\, S.I. Serebrennikova\, V.Ibragimova\, N.D. Mitiushev\, E.N. Kabachkov\, F.S. Fedorov\, A.G. Nasibulin\, Y.V. Ioni «Synthesis of Hybrid Materials Based on the Reduced Graphene Oxide and Ni (NiO) Nanoparticles by Supercritical Solvent and Thermal Treatment Techniques»\nСтатья в журнал Material Science and Engineering \n3.Королёв Д. В.\nИбрагимова В.Р.\, Сапков И.В.\, Ефремова Е.И.\, Кудряшова З.А.\, Королёв Д.В.\, Рустамова Е.Г.\, Куницына Е. И.\, Иони Ю.В. «Получение и исследование электропроводимости композита на основе восстановленного оксида графена и наночастиц Fe3O4»\nСтатья в Журнал неорганической химии \nТезисы:\nПервая Балтийская Школа по наноуглеродным материалам» (ПБШ «НУМ-2025») (Калининград\, Россия\, 7-12 ноября 2025): \n1. Моргунов Р.Б.  «Магнитные свойства графена и графеноподобных 2D материалов» (приглашенный)\n2. Куницына. Е.И. «Структурные и магнитные особенности углеродных нанотрубок\, синтезированных каталитическим методом» (устный)\n3. Бахметьев М.В. «Температурные вариации намагниченности нанокарбида молибдена» (стендовый)\n4. Кашин С.Н. «Структурно-зависимые магнитные свойства никеля с графеновым\nслоем» (стендовый)
URL:https://icp-ras.ru/event/zasedanie-sekcii-4-uchenogo-soveta-fic-pxf-i-mx-ran-23/
LOCATION:в режиме онлайн-конференции
ATTACH;FMTTYPE=image/jpeg:https://icp-ras.ru/wp-content/uploads/dis-sovet/icon/sci-4.jpg
END:VEVENT
BEGIN:VEVENT
DTSTART;TZID=Europe/Moscow:20251024T100000
DTEND;TZID=Europe/Moscow:20251024T120000
DTSTAMP:20260423T042736
CREATED:20251023T171808Z
LAST-MODIFIED:20251023T171808Z
UID:16885-1761300000-1761307200@icp-ras.ru
SUMMARY:Заседание Секции № 6 Ученого Совета ФИЦ ПХФ и МХ РАН
DESCRIPTION:Повестка \n1. Выступление с докладом н.с. к.х.н. Соловьева Михаила Владимировича на должность и.о. зав. группой специальных материалов. \n2. Рассмотрение материалов для открытого опубликования: \n\nМ.З. Галин\, А.А. Бельмесов\, Л.В. Шмыглева\, Е.В. Герасимова\, А.В. Левченко Деградационные испытания батареи водородно- воздушных топливных элементов с открытым катодом при хранении с нерегулярной эксплуатацией // Письма в Журнал технической физики.\nВ.М. Фрейман\, А.С. Стариков\, А.С. Фрейман\, А.А. Князева\, А.В. Писарева\, Л.С. Леонова\, А.В. Винюков Бис каликс[4]аренсульфокислота в качестве твёрдого электролита для потенциометрических газовых сенсоров на монооксид углерода // журнал Электрохимия\n\n\nРазное (Итоги года: выдвижение лучших результатов).
URL:https://icp-ras.ru/event/zasedanie-sekcii-6-uchenogo-soveta-fic-pxf-i-mx-ran-18/
LOCATION:в актовом зале корпуса 2/7 (ком.301)
ATTACH;FMTTYPE=image/jpeg:https://icp-ras.ru/wp-content/uploads/dis-sovet/icon/sci-6.jpg
END:VEVENT
END:VCALENDAR