BEGIN:VCALENDAR
VERSION:2.0
PRODID:-//ФЕДЕРАЛЬНЫЙ ИССЛЕДОВАТЕЛЬСКИЙ ЦЕНТР ПРОБЛЕМ ХИМИЧЕСКОЙ ФИЗИКИ И МЕДИЦИНСКОЙ ХИМИИ РАН - ECPv6.8.0//NONSGML v1.0//EN
CALSCALE:GREGORIAN
METHOD:PUBLISH
X-WR-CALNAME:ФЕДЕРАЛЬНЫЙ ИССЛЕДОВАТЕЛЬСКИЙ ЦЕНТР ПРОБЛЕМ ХИМИЧЕСКОЙ ФИЗИКИ И МЕДИЦИНСКОЙ ХИМИИ РАН
X-ORIGINAL-URL:https://icp-ras.ru
X-WR-CALDESC:Мероприятия для ФЕДЕРАЛЬНЫЙ ИССЛЕДОВАТЕЛЬСКИЙ ЦЕНТР ПРОБЛЕМ ХИМИЧЕСКОЙ ФИЗИКИ И МЕДИЦИНСКОЙ ХИМИИ РАН
REFRESH-INTERVAL;VALUE=DURATION:PT1H
X-Robots-Tag:noindex
X-PUBLISHED-TTL:PT1H
BEGIN:VTIMEZONE
TZID:Europe/Moscow
BEGIN:STANDARD
TZOFFSETFROM:+0300
TZOFFSETTO:+0300
TZNAME:MSK
DTSTART:20240101T000000
END:STANDARD
END:VTIMEZONE
BEGIN:VEVENT
DTSTART;TZID=Europe/Moscow:20241213T100000
DTEND;TZID=Europe/Moscow:20241213T123000
DTSTAMP:20260424T025818
CREATED:20241211T121028Z
LAST-MODIFIED:20241211T121028Z
UID:12097-1734084000-1734093000@icp-ras.ru
SUMMARY:Заседание секции № 4 Ученого Совета ФИЦ ПХФ и МХ РАН
DESCRIPTION:Повестка\nРассмотрение материалов\, предназначенных для открытого опубликования:  \n\n\n\n\n\n\n\n\n\n\n\n1. Моргунов Р. Б.\nМ.В. Потапов\, А.В. Бузенков\, Р.Б. Моргунов\, В.П. Пискорский\nМагниты с высокой температурной стабильностью для навигации\nСтатья в журнал Труды ВИАМ \n2. Тиунова А. В.\nAleksandra V. Tiunova\, Denis V. Korchagin\, Gennady V. Shilov\, Yuriy V. Manakin\, Aleksei I. Dmitriev\, Mikhail V. Zhidkov\, Anna V. Kazakova\, Sergey M. Aldoshin\, Eduard B. Yagubskii\nCationic spin-crossover complexes of Mn(III) with 3\,5-dihalogen-substituted ligands of the sal2323 family and the paramagnetic counterion [Co(pdms)2]2-\nСтатья в New Journal of Chemistry \n3. Палий А. В.\nBoris Tsukerblat\, Mihail Nazarov\, Andrew Palii\nA New Look at Interrelation Between Stokes Shift and Heat Release\nParameter in Vibronically Assisted Optical Spectra of Activated Crystals\nСтатья в журнал Optical Materials
URL:https://icp-ras.ru/event/zasedanie-sekcii-4-uchenogo-soveta-fic-pxf-i-mx-ran-10/
LOCATION:в режиме онлайн-конференции
ATTACH;FMTTYPE=image/jpeg:https://icp-ras.ru/wp-content/uploads/LOGO/Structure.jpg
END:VEVENT
BEGIN:VEVENT
DTSTART;TZID=Europe/Moscow:20241212T093000
DTEND;TZID=Europe/Moscow:20241212T123000
DTSTAMP:20260424T025818
CREATED:20241210T221819Z
LAST-MODIFIED:20241210T221819Z
UID:12076-1733995800-1734006600@icp-ras.ru
SUMMARY:Заседание секции № 5 Ученого Совета ФИЦ ПХФ и МХ РАН
DESCRIPTION:Повестка\nРассмотрение материалов\, предназначенных для открытого опубликования:  \n1. Igor E. Uflyand\, Rose K. Baimuratova\, Denis V. Korchagin\, Gulzhian I. Dzhardimalieva\, Dmitry A. Chernyayev\, Vladimir A. Zhinzhilo \nPreparation of ZnS-Based Nanocomposites by Thermolysis of Zinc-Containing Monomers in the Presence of Thiourea: Their Characterizations and LPG Sensing Applications \nJournal of Inorganic and Organometallic Polymers and Materials. \n2. Diana A. Ivanenko\, Oksana I. Lashmanova\, Anna V. Sklemina\, Anastasiia V. Skorlukhanova\, Maria M. Agapitova\, Aleksandra N. Zhivchikova\, Marina M. Tepliakova\, Mikhail D. Tereshchenko\, Natalya G. Nikitenko\, Alexey A. Piryazev\, Dmitriy A. Chernyayev\, Ilya E. Kuznetsov\, Alexander V. Akkuratov \nNovel Benzodithiophene-Based Polymer with Intramolecular Non-Covalent Interactions as a Hole Transporting Layer for Perovskite Solar Cells. \nMacromolecular Chemistry and Physics
URL:https://icp-ras.ru/event/zasedanie-sekcii-5-uchenogo-soveta-fic-pxf-i-mx-ran-21/
LOCATION:актовый зал корп. 2/2
ATTACH;FMTTYPE=image/png:https://icp-ras.ru/wp-content/uploads/изображение.png
END:VEVENT
BEGIN:VEVENT
DTSTART;VALUE=DATE:20241210
DTEND;VALUE=DATE:20241211
DTSTAMP:20260424T025818
CREATED:20241127T125744Z
LAST-MODIFIED:20241127T125800Z
UID:11801-1733788800-1733875199@icp-ras.ru
SUMMARY:XIV Конференция молодых учёных ИФАВ РАН
DESCRIPTION:Дорогие коллеги!\n10 декабря в зале Ученого совета ИФАВ РАН состоится XIV Конференция молодых учёных ИФАВ РАН.\nНачало регистрации в 9.30. \nПодробнее >>>
URL:https://icp-ras.ru/event/xiv-konferenciya-molodyx-uchyonyx-ifav-ran/
LOCATION:зале заседаний Ученого совета ИФАВ РАН
ATTACH;FMTTYPE=image/jpeg:https://icp-ras.ru/wp-content/uploads/novosti2024/11-2024/smu-ipac.jpg
END:VEVENT
BEGIN:VEVENT
DTSTART;TZID=Europe/Moscow:20241206T100000
DTEND;TZID=Europe/Moscow:20241206T120000
DTSTAMP:20260424T025818
CREATED:20241202T063537Z
LAST-MODIFIED:20241202T063537Z
UID:11828-1733479200-1733486400@icp-ras.ru
SUMMARY:Заседание Секции № 6 Ученого Совета ФИЦ ПХФ и МХ РАН
DESCRIPTION:Повестка \n1. Отчеты руководителей подразделений ОФМХИЭ\, ЦК НТИ\, АЦКП по тематическим картам 2024 г. и обсуждение планов на 2025г.\n2. Обсуждение и утверждение основных и важнейших результатов фундаментальных и прикладных исследований\, полученных в 2024 году.
URL:https://icp-ras.ru/event/zasedanie-sekcii-6-uchenogo-soveta-fic-pxf-i-mx-ran-11/
LOCATION:в актовом зале корпуса 2/7 (ком.301)
ATTACH;FMTTYPE=image/jpeg:https://icp-ras.ru/wp-content/uploads/LOGO/OFM.jpg
END:VEVENT
BEGIN:VEVENT
DTSTART;TZID=Europe/Moscow:20241206T093000
DTEND;TZID=Europe/Moscow:20241206T113000
DTSTAMP:20260424T025818
CREATED:20241202T150834Z
LAST-MODIFIED:20241202T150834Z
UID:11866-1733477400-1733484600@icp-ras.ru
SUMMARY:Заседание секции № 5 Ученого Совета ФИЦ ПХФ и МХ РАН
DESCRIPTION:Повестка\nРассмотрение материалов\, предназначенных для открытого опубликования: \n\nГасымов М.М.\, Роговина С.З.\, Кузнецова О.П.\, Перепелицина Е.О.\, Шевченко В.Г.\, Ломакин С.М.\, Берлин А.А.Исследование влияния УФ-излучения на композиции полилактида c нанопластинами графита\nХимическая физика.\nLomakin S.\, Mikheev Yu.\, Usachev S.\, Rogovina S.\, Zhorina L.\, Perepelitsina E.\, Levina I.\, Kuznetsova O.\, Shilkina N.\, Iordanskii A.\, Berlin A.Evaluation and Modeling of Polylactide Photodegradation under Ultraviolet Irradiation: Bio-Based Polyester Photolysis Mechanism\nPolymers.\nAzaliiaF. Akhkiamova\,* Ainur F. Abukaev Ilya E. Kuznetsov\, b Alexey A. Piryazev\, Ilya I. Rulev Alexander V. Akkuratov\, Denis V. Anokhin\, Dimitri A. Ivanov Correlation of domain size and charge-transport properties of benzothiadiazole – thiophene small molecules: Study with Combination of Nanofocused X-Ray Scattering and Ultrafast Chip Calorimetry\nChemical Communications
URL:https://icp-ras.ru/event/zasedanie-sekcii-5-uchenogo-soveta-fic-pxf-i-mx-ran-20/
LOCATION:в режиме онлайн-конференции
ATTACH;FMTTYPE=image/png:https://icp-ras.ru/wp-content/uploads/изображение.png
END:VEVENT
BEGIN:VEVENT
DTSTART;VALUE=DATE:20241205
DTEND;VALUE=DATE:20241206
DTSTAMP:20260424T025818
CREATED:20241009T112941Z
LAST-MODIFIED:20241009T112941Z
UID:10687-1733356800-1733443199@icp-ras.ru
SUMMARY:II Международная олимпиада по переработке газа и газохимии
DESCRIPTION:Для участия в Олимпиаде необходимо пройти регистрацию до 5 декабря 2024 года. \nПервый тур Олимпиады состоится 6 декабря 2024 года\, второй тур – 13 декабря 2024 года. \nДля участия в Олимпиаде необходимо пройти регистрацию на Единой площадке проведения онлайн-олимпиад на базе РГУ имени И.М.Губкина: https://olympiad.gubkin.ru. \nПо вопросам участия в Олимпиаде необходимо обращаться к членам Оргкомитета \nна почту gas-olimp@gubkin.ru или по телефону +7 (499) 507-83-91
URL:https://icp-ras.ru/event/ii-mezhdunarodnaya-olimpiada-po-pererabotke-gaza-i-gazoximii/
ATTACH;FMTTYPE=image/jpeg:https://icp-ras.ru/wp-content/uploads/novosti-mir-nauki/3_02.jpg
END:VEVENT
BEGIN:VEVENT
DTSTART;TZID=Europe/Moscow:20241204T140000
DTEND;TZID=Europe/Moscow:20241204T150000
DTSTAMP:20260424T025818
CREATED:20241203T104022Z
LAST-MODIFIED:20241203T104022Z
UID:11874-1733320800-1733324400@icp-ras.ru
SUMMARY:Заседание секции №3 Ученого совета ФИЦ ПХФ и МХ РАН
DESCRIPTION:Повестка: \n1. Промежуточная аттестация аспирантов ОКХиБП.\n2. Утверждение лучшего научного результата ОКХиБП в 2024 г.\n3. Материалы для открытой печати:\nЕ.А. Саратовских\, Е.А. Мачигов\, А.И. Ярмоленко\, Е.В. Штамм\, С.К. Абилев  Способность продуктов фотохимического разложения гербицида Раундап индуцировать окислительный стресс в бактериальных клетках.
URL:https://icp-ras.ru/event/zasedanie-sekcii-3-uchenogo-soveta-fic-pxf-i-mx-ran-16/
LOCATION:в корпусе 2/2 (Учебный класс МГУ)
ATTACH;FMTTYPE=image/jpeg:https://icp-ras.ru/wp-content/uploads/LOGO/Kin-Bio.jpg
END:VEVENT
BEGIN:VEVENT
DTSTART;TZID=Europe/Moscow:20241204T103000
DTEND;TZID=Europe/Moscow:20241204T120000
DTSTAMP:20260424T025818
CREATED:20241202T104229Z
LAST-MODIFIED:20241202T104229Z
UID:11845-1733308200-1733313600@icp-ras.ru
SUMMARY:Заседание секции № 2 Ученого Совета ФИЦ ПХФ и МХ РАН
DESCRIPTION:Повестка\n1. Аттестация аспирантов\n2. Разное
URL:https://icp-ras.ru/event/zasedanie-sekcii-2-uchenogo-soveta-fic-pxf-i-mx-ran-8/
LOCATION:актовый зал корп. 2/2
ATTACH;FMTTYPE=image/jpeg:https://icp-ras.ru/wp-content/uploads/nauka-otdely/okik/K-and-K.jpg
END:VEVENT
BEGIN:VEVENT
DTSTART;TZID=Europe/Moscow:20241202T133000
DTEND;TZID=Europe/Moscow:20241202T170000
DTSTAMP:20260424T025818
CREATED:20241128T154159Z
LAST-MODIFIED:20241128T154159Z
UID:11810-1733146200-1733158800@icp-ras.ru
SUMMARY:Заседание секции №2 Ученого Совета ФИЦ ПХФ и МХ РАН
DESCRIPTION:Повестка: \n1. Обсуждение отчетов\, основных результатов\, важнейших результатов работы лабораторий в 2024 году и планов на 2025 год \n  – выступление руководителей подразделений \n2. Разное
URL:https://icp-ras.ru/event/zasedanie-sekcii-2-uchenogo-soveta-fic-pxf-i-mx-ran-7/
LOCATION:корп.2/3\, ком.61
ATTACH;FMTTYPE=image/jpeg:https://icp-ras.ru/wp-content/uploads/nauka-otdely/okik/K-and-K.jpg
END:VEVENT
BEGIN:VEVENT
DTSTART;TZID=Europe/Moscow:20241129T103000
DTEND;TZID=Europe/Moscow:20241129T120000
DTSTAMP:20260424T025818
CREATED:20241125T151046Z
LAST-MODIFIED:20241126T131013Z
UID:11779-1732876200-1732881600@icp-ras.ru
SUMMARY:Заседание секции №1 Ученого совета ФИЦ ПХФ и МХ РАН
DESCRIPTION:Повестка: \n1. Отчеты лабораторий ОГВ о результатах НИР в 2024 году. Планы НИР на 2025 год.\n2. Обсуждение важнейших результатов работы отдела Горения и взрыва в 2024 году.
URL:https://icp-ras.ru/event/zasedanie-sekcii-1-uchenogo-soveta-fic-pxf-i-mx-ran-2/
LOCATION:актовый зал корпуса 1/2
ATTACH;FMTTYPE=image/jpeg:https://icp-ras.ru/wp-content/uploads/nauka-otdely/OGV/C-and-E.jpg
END:VEVENT
BEGIN:VEVENT
DTSTART;TZID=Europe/Moscow:20241129T093000
DTEND;TZID=Europe/Moscow:20241129T113000
DTSTAMP:20260424T025818
CREATED:20241128T153938Z
LAST-MODIFIED:20241128T153938Z
UID:11808-1732872600-1732879800@icp-ras.ru
SUMMARY:Заседание секции №4 Ученого Совета ФИЦ ПХФ и МХ РАН
DESCRIPTION:В повестке дня:\n1. Отчеты по госзаданию в 2024 году. Планы на 2025 год.\n2. Обсуждение и утверждение важнейших результатов работы отдела строения вещества  в 2024 году.
URL:https://icp-ras.ru/event/zasedanie-sekcii-4-uchenogo-soveta-fic-pxf-i-mx-ran-9/
LOCATION:в режиме онлайн-конференции
ATTACH;FMTTYPE=image/jpeg:https://icp-ras.ru/wp-content/uploads/LOGO/Structure.jpg
END:VEVENT
BEGIN:VEVENT
DTSTART;TZID=Europe/Moscow:20241129T093000
DTEND;TZID=Europe/Moscow:20241129T113000
DTSTAMP:20260424T025818
CREATED:20241125T150738Z
LAST-MODIFIED:20241125T150738Z
UID:11777-1732872600-1732879800@icp-ras.ru
SUMMARY:Заседание секции № 5 Ученого Совета ФИЦ ПХФ и МХ РАН
DESCRIPTION:Повестка:  \n\n1. Отчеты руководителей подразделений ОПиКМ за 2024 г. и обсуждение планов работы на 2025г.\n2. Обсуждение важнейших результатов фундаментальных и прикладных исследований\, полученных в 2024г.
URL:https://icp-ras.ru/event/zasedanie-sekcii-5-uchenogo-soveta-fic-pxf-i-mx-ran-19/
LOCATION:актовый зал корп. 2/2
ATTACH;FMTTYPE=image/png:https://icp-ras.ru/wp-content/uploads/изображение.png
END:VEVENT
BEGIN:VEVENT
DTSTART;VALUE=DATE:20241129
DTEND;VALUE=DATE:20241202
DTSTAMP:20260424T025818
CREATED:20241005T130439Z
LAST-MODIFIED:20241005T130439Z
UID:10580-1732838400-1733097599@icp-ras.ru
SUMMARY:XXVIII Всероссийская конференция молодых ученых-химиков
DESCRIPTION:С 15 по 17 апреля 2025 года в Нижнем Новгороде состоится XXVIII Всероссийская конференция молодых ученых-химиков (с международным участием). \nКлючевые даты:\n1 октября 2024 – открытие регистрации и приема тезисов докладов;\n1 декабря 2024 – окончание регистрации и приема тезисов докладов;\n15 декабря 2024 – подтверждение о принятии;\n1 февраля 2025 – предварительная версия программы;\n20 января 2025 – 10 марта 2024 – оплата регистрационных взносов. \nПодробнее о событии >>
URL:https://icp-ras.ru/event/xxviii-vserossijskaya-konferenciya-molodyx-uchenyx-ximikov/
ATTACH;FMTTYPE=image/png:https://icp-ras.ru/wp-content/uploads/novosti-mir-nauki/logo-nn-2024.png
END:VEVENT
BEGIN:VEVENT
DTSTART;TZID=Europe/Moscow:20241128T110000
DTEND;TZID=Europe/Moscow:20241128T170000
DTSTAMP:20260424T025818
CREATED:20241125T151204Z
LAST-MODIFIED:20241125T151204Z
UID:11781-1732791600-1732813200@icp-ras.ru
SUMMARY:Заседание секции №8 Ученого совета ФИЦ ПХФ и МХ РАН
DESCRIPTION:Повестка: \n1. Поздравление главного научного сотрудника Э.С.Медведева с юбилеем. \n2. Отчет о выполнении темы FFSG-2024-0002 по Дорожной карте\n(сообщение Э.Б.Фельдмана) \n3. Отчеты руководителей подразделений по НИР в 2024 году и утверждение планов НИР на 2025 год. \n4. Рассмотрение материалов\, предназначенных для открытого опубликования.
URL:https://icp-ras.ru/event/zasedanie-sekcii-8-uchenogo-soveta-fic-pxf-i-mx-ran-3/
LOCATION:актовый зал корпуса 2/1
ATTACH;FMTTYPE=image/jpeg:https://icp-ras.ru/wp-content/uploads/nauka-otdely/Teor-otd/to.jpg
END:VEVENT
BEGIN:VEVENT
DTSTART;TZID=Europe/Moscow:20241128T093000
DTEND;TZID=Europe/Moscow:20241128T113000
DTSTAMP:20260424T025818
CREATED:20241125T150136Z
LAST-MODIFIED:20241125T150136Z
UID:11772-1732786200-1732793400@icp-ras.ru
SUMMARY:Заседание секции №3 Ученого совета ФИЦ ПХФ и МХ РАН
DESCRIPTION:Повестка: \n1. Отчеты лабораторий отдела КХиБП о результатах работ по тематическим картам в 2024 году. Планы работ по тематическим картам на 2025 год.\n2. Обсуждение важнейших результатов фундаментальных и прикладных исследований\, полученных в 2024 году.
URL:https://icp-ras.ru/event/zasedanie-sekcii-3-uchenogo-soveta-fic-pxf-i-mx-ran-15/
LOCATION:в режиме онлайн-конференции
ATTACH;FMTTYPE=image/jpeg:https://icp-ras.ru/wp-content/uploads/LOGO/Kin-Bio.jpg
END:VEVENT
BEGIN:VEVENT
DTSTART;TZID=Europe/Moscow:20241127T150000
DTEND;TZID=Europe/Moscow:20241127T170000
DTSTAMP:20260424T025818
CREATED:20241125T082908Z
LAST-MODIFIED:20241125T082908Z
UID:11762-1732719600-1732726800@icp-ras.ru
SUMMARY:Заседание Секции № 6 Ученого Совета ФИЦ ПХФ и МХ РАН
DESCRIPTION:Повестка \n1. Промежуточная аттестация аспирантов 2-4 годов обучения:\nАхмадеев А.Р.\, Ахременков Б.В.\, Голенищев М.А.\, Панкин А.С.\, Шамов И.Д.\, Шмалий С.В.\, Яльмаев А.Б. \n2. Рассмотрение материалов\, предназначенных для открытого опубликования\n    Karaseov P.\, Karasev K.\, Strizhkin D.\, Shakhmin A.\, Pukha V. С60 Ion beam as a tool for functional nanostructured coating formation // Radiation effects and defects. Статья.\n\n3. Разное.
URL:https://icp-ras.ru/event/zasedanie-sekcii-6-uchenogo-soveta-fic-pxf-i-mx-ran-10/
LOCATION:в актовом зале корпуса 2/7 (ком.301)
ATTACH;FMTTYPE=image/jpeg:https://icp-ras.ru/wp-content/uploads/LOGO/OFM.jpg
END:VEVENT
BEGIN:VEVENT
DTSTART;TZID=Europe/Moscow:20241127T103000
DTEND;TZID=Europe/Moscow:20241127T123000
DTSTAMP:20260424T025818
CREATED:20241125T120630Z
LAST-MODIFIED:20241125T120630Z
UID:11768-1732703400-1732710600@icp-ras.ru
SUMMARY:Заседание Секции № 2 Ученого Совета ФИЦ ПХФ и МХ РАН
DESCRIPTION:Повестка\n1. Рассмотрение материалов\, предназначенных для открытого опубликования \n 
URL:https://icp-ras.ru/event/zasedanie-sekcii-2-uchenogo-soveta-fic-pxf-i-mx-ran-6/
ATTACH;FMTTYPE=image/jpeg:https://icp-ras.ru/wp-content/uploads/nauka-otdely/okik/K-and-K.jpg
END:VEVENT
BEGIN:VEVENT
DTSTART;TZID=Europe/Moscow:20241125T110000
DTEND;TZID=Europe/Moscow:20241125T143000
DTSTAMP:20260424T025818
CREATED:20241125T150545Z
LAST-MODIFIED:20241125T150545Z
UID:11774-1732532400-1732545000@icp-ras.ru
SUMMARY:Заседание секции №8 Ученого совета ФИЦ ПХФ и МХ РАН
DESCRIPTION:Повестка: \n1. Поздравление главного научного сотрудника Э.С. Медведева с юбилеем. \n2. Отчет о выполнении темы FFSG-2024-0002 по Дорожной карте\n(сообщение Э.Б.Фельдмана) \n3. Отчеты руководителей подразделений по НИР в 2024 году и утверждение планов НИР на 2025 год. \n4. Рассмотрение материалов\, предназначенных для открытого опубликования.
URL:https://icp-ras.ru/event/zasedanie-sekcii-8-uchenogo-soveta-fic-pxf-i-mx-ran-2/
LOCATION:актовый зал корпуса 2/1
ATTACH;FMTTYPE=image/jpeg:https://icp-ras.ru/wp-content/uploads/nauka-otdely/Teor-otd/to.jpg
END:VEVENT
BEGIN:VEVENT
DTSTART;TZID=Europe/Moscow:20241122T110000
DTEND;TZID=Europe/Moscow:20241122T123000
DTSTAMP:20260424T025818
CREATED:20241121T093937Z
LAST-MODIFIED:20241121T093937Z
UID:11710-1732273200-1732278600@icp-ras.ru
SUMMARY:Заседание семинара "Высокоэнергетические системы"
DESCRIPTION:Повестка: рассмотрение материалов для публикации в открытой печати. \n1. Агроскин В.Я.\, Бравый Б.Г.\, Гурьев В.И.\, Каштанов С.А.\, Чернышев Ю.А. Исследование скорости горения фтороводородной смеси.\nСтатья в журнал «Химическая физика»
URL:https://icp-ras.ru/event/zasedanie-seminara-vysokoenergeticheskie-sistemy-7/
LOCATION:в корпусе 1/7 (к. 85\, 5 этаж)
ATTACH;FMTTYPE=image/jpeg:https://icp-ras.ru/wp-content/uploads/nauka-otdely/OGV/C-and-E.jpg
END:VEVENT
BEGIN:VEVENT
DTSTART;TZID=Europe/Moscow:20241121T093000
DTEND;TZID=Europe/Moscow:20241121T113000
DTSTAMP:20260424T025818
CREATED:20241118T182651Z
LAST-MODIFIED:20241118T182751Z
UID:11676-1732181400-1732188600@icp-ras.ru
SUMMARY:Заседание секции № 5 Ученого Совета ФИЦ ПХФ и МХ РАН
DESCRIPTION:Повестка\n \n1. Аттестация аспирантов\n2. Рассмотрение материалов\, предназначенных для открытого опубликования \nК заседанию можно присоединиться в режиме видеоконференции
URL:https://icp-ras.ru/event/zasedanie-sekcii-5-uchenogo-soveta-fic-pxf-i-mx-ran-18/
LOCATION:актовый зал корп. 2/2
ATTACH;FMTTYPE=image/png:https://icp-ras.ru/wp-content/uploads/изображение.png
END:VEVENT
BEGIN:VEVENT
DTSTART;TZID=Europe/Moscow:20241115T120000
DTEND;TZID=Europe/Moscow:20241115T143000
DTSTAMP:20260424T025818
CREATED:20241113T162016Z
LAST-MODIFIED:20241113T162016Z
UID:11643-1731672000-1731681000@icp-ras.ru
SUMMARY:Заседание секции № 9 Ученого Совета ФИЦ ПХФ и МХ РАН
DESCRIPTION:Повестка\n\n1. Переаттестация аспирантов 4-го года обучения: \n   Матюхин Павел Борисович   (рук. к.х.н.\, в.н.с. Спирин М.Г. )\n   Лочин Георгий Александрович  (рук. д.х.н.\, г.н.с. Бричкин С.Б. )\n\n2. Разное.
URL:https://icp-ras.ru/event/zasedanie-sekcii-9-uchenogo-soveta-fic-pxf-i-mx-ran-2/
LOCATION:актовом зале корпуса 2/10
ATTACH;FMTTYPE=image/jpeg:https://icp-ras.ru/wp-content/uploads/nauka-otdely/nanofotonika/ONF.jpg
END:VEVENT
BEGIN:VEVENT
DTSTART;TZID=Europe/Moscow:20241115T100000
DTEND;TZID=Europe/Moscow:20241115T120000
DTSTAMP:20260424T025818
CREATED:20241113T104453Z
LAST-MODIFIED:20241113T161716Z
UID:11635-1731664800-1731672000@icp-ras.ru
SUMMARY:Заседание секции №4 Ученого Совета ФИЦ ПХФ и МХ РАН
DESCRIPTION:Повестка:\n\nШмаков А.С.\nА.В. Дробышев\, Н.Ю. Садовская\, В.Н. Глушко\, Е.И. Кожухова\, С.К. Белусь\, В.М. Ретивов \, Акимов А.В.\, Шмаков А.С.\nОценка структуры и биологической активности комплекса ацетата меди(II) с (4-аминобензо-15-краун-5)-4-пиридинкарбоксальимином\nСтатья в журнал «Химическая безопасность»\nАттестация аспиранта 3 года обучения Кашина С.Н. (Рук. проф. Моргунов Р.Б.).
URL:https://icp-ras.ru/event/zasedanie-sekcii-4-uchenogo-soveta-fic-pxf-i-mx-ran-8/
LOCATION:в режиме онлайн-конференции
ATTACH;FMTTYPE=image/jpeg:https://icp-ras.ru/wp-content/uploads/LOGO/Structure.jpg
END:VEVENT
BEGIN:VEVENT
DTSTART;TZID=Europe/Moscow:20241113T113000
DTEND;TZID=Europe/Moscow:20241113T133000
DTSTAMP:20260424T025818
CREATED:20241112T172346Z
LAST-MODIFIED:20241112T172346Z
UID:11563-1731497400-1731504600@icp-ras.ru
SUMMARY:Заседание семинара "Макрокинетика и процессы горения"
DESCRIPTION:Повестка\nРассмотрение материалов\, предназначенных для открытого опубликования.
URL:https://icp-ras.ru/event/zasedanie-seminara-makrokinetika-i-processy-goreniya-8/
LOCATION:корпус 1/6\, ком.18
ATTACH;FMTTYPE=image/jpeg:https://icp-ras.ru/wp-content/uploads/nauka-otdely/OGV/C-and-E.jpg
END:VEVENT
BEGIN:VEVENT
DTSTART;TZID=Europe/Moscow:20241112T103000
DTEND;TZID=Europe/Moscow:20241112T123000
DTSTAMP:20260424T025818
CREATED:20241109T080344Z
LAST-MODIFIED:20241109T094222Z
UID:11553-1731407400-1731414600@icp-ras.ru
SUMMARY:Заседание секции №2 Ученого Совета ФИЦ ПХФ и МХ РАН
DESCRIPTION:Повестка \n1. Рассмотрение материалов\, предназначенных для открытого опубликования\n2. Разное
URL:https://icp-ras.ru/event/zasedanie-sekcii-2-uchenogo-soveta-fic-pxf-i-mx-ran-5/
LOCATION:актовый зал корп. 2/2
ATTACH;FMTTYPE=image/jpeg:https://icp-ras.ru/wp-content/uploads/nauka-otdely/okik/K-and-K.jpg
END:VEVENT
BEGIN:VEVENT
DTSTART;TZID=Europe/Moscow:20241111T080000
DTEND;TZID=Europe/Moscow:20241113T170000
DTSTAMP:20260424T025818
CREATED:20241007T121429Z
LAST-MODIFIED:20241008T092957Z
UID:10619-1731312000-1731517200@icp-ras.ru
SUMMARY:Окончание срока подачи заявки на грант РНФ
DESCRIPTION:Проведение фундаментальных научных исследований и поисковых научных\nисследований по поручениям (указаниям) Президента Российской Федерации» (междисциплинарные проекты)\nДата и время окончания приема заявок: до 13.11.2024 17:00\nРазмер Гранта\, млн. руб.: от 8 до 15\nОсобенности конкурса: В рамках реализации проекта организация должна заключить договор на выполнение научно-исследовательских работ с 1-2 организациями-партнерами\, которые должны находиться в не граничащих друг с другом регионах Российской Федерации. Оплата научно-исследовательских работ партнеров должна составлять от 20 до 40 процентов от суммы гранта ежегодно.\nПри этом к коллективу исследователей остаются следующие требования: \n\nОбщее число членов научного коллектива (вместе с руководителем проекта) должно составлять от 4 до 10 человек.\nДоля в возрасте до 39 лет включительно должна составлять не менее 50 % в течение всего периода практической реализации проекта.
URL:https://icp-ras.ru/event/okonchanie-sroka-podachi-zayavki-na-grant-rnf-3/
ATTACH;FMTTYPE=image/jpeg:https://icp-ras.ru/wp-content/uploads/novosti2024/rnf.jpg
END:VEVENT
BEGIN:VEVENT
DTSTART;TZID=Europe/Moscow:20241111T080000
DTEND;TZID=Europe/Moscow:20241113T170000
DTSTAMP:20260424T025818
CREATED:20241007T121339Z
LAST-MODIFIED:20241008T093020Z
UID:10617-1731312000-1731517200@icp-ras.ru
SUMMARY:Окончание срока подачи заявки на грант РНФ
DESCRIPTION:Проведение фундаментальных научных исследований и поисковых научных исследований отдельными научными группами\nДата и время окончания приема заявок: до 13.11.2024 17:00\nРазмер Гранта\, млн. руб.: от 4 до 7\nОсобенности конкурса: нет
URL:https://icp-ras.ru/event/okonchanie-sroka-podachi-zayavki-na-grant-rnf-2/
ATTACH;FMTTYPE=image/jpeg:https://icp-ras.ru/wp-content/uploads/novosti2024/rnf.jpg
END:VEVENT
BEGIN:VEVENT
DTSTART;TZID=Europe/Moscow:20241111T080000
DTEND;TZID=Europe/Moscow:20241113T170000
DTSTAMP:20260424T025818
CREATED:20241007T121256Z
LAST-MODIFIED:20241008T092924Z
UID:10615-1731312000-1731517200@icp-ras.ru
SUMMARY:Окончание срока подачи заявки на грант РНФ
DESCRIPTION:Проведение исследований на базе существующей научной инфраструктуры мирового уровня.\nДата и время окончания приема заявок: до 13.11.2024 17:00\nРазмер Гранта\, млн. руб.: от 4 до 7\nОсобенности конкурса: При реализации проектов должны использоваться находящиеся на территории Российской Федерации крупные объекты научной инфраструктуры (ЦКП).
URL:https://icp-ras.ru/event/okonchanie-sroka-podachi-zayavki-na-grant-rnf/
ATTACH;FMTTYPE=image/jpeg:https://icp-ras.ru/wp-content/uploads/novosti2024/rnf.jpg
END:VEVENT
BEGIN:VEVENT
DTSTART;VALUE=DATE:20241106
DTEND;VALUE=DATE:20241107
DTSTAMP:20260424T025818
CREATED:20241029T102406Z
LAST-MODIFIED:20241029T102508Z
UID:11258-1730851200-1730937599@icp-ras.ru
SUMMARY:Радикальный день ИОХ РАН 2024
DESCRIPTION:Уважаемые Коллеги! \n\n\n6 ноября2024 г. в ИОХ РАН состоится традиционный Радикальный день. \nРадикальный день даст возможность узнать о:\n• стабильных гетероциклических радикалах\, их металлоорганических производных\, использованию данных производных в реакции кросс-сочетания;\n• конструировании высокоспиновых молекул\, рекордах ИОХ РАН в данной области;\n• прямой С(sp2)-H функционализации азагетероциклов ароматической и неароматической природы с участием нуклеофильных и/или радикальных частиц;\n• перспективах практического использования функционализированных азагетероциклов для создания фармакологически активных молекул и функциональных материалов;\n• направлениях использования полифтораренов в радикальных реакциях;\n• фотокаталитических подходах к активации связей углерод-гетероатом. \n\n\n\nРасписание дня >> 
URL:https://icp-ras.ru/event/radikalnyj-den-iox-ran-2024/
LOCATION:ИОХ РАН: Москва\, Ленинский проспект\, 47
ATTACH;FMTTYPE=image/png:https://icp-ras.ru/wp-content/uploads/novosti2024/10-2024/ionh_day.png
END:VEVENT
BEGIN:VEVENT
DTSTART;TZID=Europe/Moscow:20241102T093000
DTEND;TZID=Europe/Moscow:20241102T120000
DTSTAMP:20260424T025818
CREATED:20241031T132713Z
LAST-MODIFIED:20241031T132713Z
UID:11341-1730539800-1730548800@icp-ras.ru
SUMMARY:Заседание секции №4 Ученого Совета ФИЦ ПХФ и МХ РАН
DESCRIPTION:Повестка\nРассмотрение материалов\, предназначенных для открытого опубликования:\n\n\n1. Бахметьев М.В.\nР.Б. Моргунов\, М.В. Бахметьев\nВлияние разделительных слоев Ta и Cu на спиновый угол Холла в структурах NiFe/Ta/IrMn и NiFe/Cu/IrMn\nСтатья в журнал Физика твердого тела\n\n2. Alexandr S. Shmakov\, Matvey K. Shurikov\, Denis V. Korchagin\, Darya E. Votkina\, Pavel S. Postnikov\, Aleksandr V. Akimov\,* Pavel V. Petunin\,* and Evgeny V. Tretyakov*\nThe Ground State of Multispin Systems Based on Verdazyl and Nitrene Radicals: an EPR and Quantum-Chemical Study\nСтатья в журнал  «The Journal of Physical Chemistry A”.
URL:https://icp-ras.ru/event/zasedanie-sekcii-4-uchenogo-soveta-fic-pxf-i-mx-ran-7/
LOCATION:в режиме онлайн-конференции
ATTACH;FMTTYPE=image/jpeg:https://icp-ras.ru/wp-content/uploads/LOGO/Structure.jpg
END:VEVENT
BEGIN:VEVENT
DTSTART;VALUE=DATE:20241101
DTEND;VALUE=DATE:20241102
DTSTAMP:20260424T025818
CREATED:20241101T101538Z
LAST-MODIFIED:20241101T101538Z
UID:11356-1730419200-1730505599@icp-ras.ru
SUMMARY:Молодежная конференция YOUNG 2024\, г. Санкт-Петербург
DESCRIPTION:Информация о ключевых датах: \nДо 01.11.2024 – регистрация на сайте конференции. \nДо 15.11.2024 – оплата орг. взноса и подача тезисов докладов. \n03.12.2024 – открытие конференции. \nАктуальная информация о мероприятии представлена на сайте: http://youngisc.ru/.
URL:https://icp-ras.ru/event/molodezhnaya-konferenciya-young-2024-g-sankt-peterburg/
END:VEVENT
END:VCALENDAR