BEGIN:VCALENDAR
VERSION:2.0
PRODID:-//ФЕДЕРАЛЬНЫЙ ИССЛЕДОВАТЕЛЬСКИЙ ЦЕНТР ПРОБЛЕМ ХИМИЧЕСКОЙ ФИЗИКИ И МЕДИЦИНСКОЙ ХИМИИ РАН - ECPv6.8.0//NONSGML v1.0//EN
CALSCALE:GREGORIAN
METHOD:PUBLISH
X-ORIGINAL-URL:https://icp-ras.ru
X-WR-CALDESC:Мероприятия для ФЕДЕРАЛЬНЫЙ ИССЛЕДОВАТЕЛЬСКИЙ ЦЕНТР ПРОБЛЕМ ХИМИЧЕСКОЙ ФИЗИКИ И МЕДИЦИНСКОЙ ХИМИИ РАН
REFRESH-INTERVAL;VALUE=DURATION:PT1H
X-Robots-Tag:noindex
X-PUBLISHED-TTL:PT1H
BEGIN:VTIMEZONE
TZID:Europe/Moscow
BEGIN:STANDARD
TZOFFSETFROM:+0300
TZOFFSETTO:+0300
TZNAME:MSK
DTSTART:20260101T000000
END:STANDARD
END:VTIMEZONE
BEGIN:VEVENT
DTSTART;TZID=Europe/Moscow:20260423T093000
DTEND;TZID=Europe/Moscow:20260423T110000
DTSTAMP:20260423T010502
CREATED:20260422T150716Z
LAST-MODIFIED:20260422T150716Z
UID:18465-1776936600-1776942000@icp-ras.ru
SUMMARY:Заседание секции №4 Ученого совета ФИЦ ПХФ и МХ РАН
DESCRIPTION:В повестке дня:\n1. Санина Наталия Алексеевна\nNatalya A. Sanina\, Svyatoslav Ya. Gadomsky\, Nina S. Emel’yanova\, Andrey N. Utenyshev\, Olesya V. Pokidova\, Ludmila M. Matveeva\, Anastasiya A. Balakina and Sergey M. Aldoshin “Dinitrosyl iron complex with 5-[2-(1H-benzotriazol-1-yl)ethyl]-4H-1\,2\,4-triazo-3-thiol: synthesis\, structure and properties of the new PDEs inhibitor”\nСтатья в журнал Mendeleev Communications\n2. Бахметьев Максим Владимирович\nБахметьев М.В.\, Моргунов Р.Б.\n«ПРОФИЛИ СПИНОВОЙ ДИФФУЗИИ В СПЕЙСЕРАХ ОБМЕННО-СМЕЩЕННЫХ ГЕТЕРОСТРУКТУР»\nТезисы на Международную научную конференция “СОВРЕМЕННАЯ ХИМИЧЕСКАЯ ФИЗИКА – НА СТЫКЕ ФИЗИКИ\, ХИМИИ И БИОЛОГИИ” Черноголовка\, 15 июня – 18 июня 2026 года\n3. Бахметьев Максим Владимирович\nМоргунов Р.Б.\, Бахметьев М.В.\, Савин В.В.\n«ВЛИЯНИЕ ФЕРРОМАГНИТНОЙ ПРИМЕСИ НА СВЕРХПРОВОДИМОСТЬ НАНОЧАСТИЦ b-Mo2C»\nТезисы на Международную научную конференцию “СОВРЕМЕННАЯ ХИМИЧЕСКАЯ ФИЗИКА – НА СТЫКЕ ФИЗИКИ\, ХИМИИ И БИОЛОГИИ” Черноголовка\, 15 июня – 18 июня 2026\nгода\n4.Санина Наталия Алексеевна\nСанина Н.А. “Малые молекулы – доноры оксида азота\, для лечения социально значимых заболеваний” –\nТезисы на Cаммит разработчиков лекарственных препаратов «Сириус.Биотех»\, 20-23 мая 2026 г.\, г.Сочи\, Федеральная территория Сириус
URL:https://icp-ras.ru/event/zasedanie-sekcii-4-uchenogo-soveta-fic-pxf-i-mx-ran-30/
LOCATION:в режиме онлайн-конференции
ATTACH;FMTTYPE=image/jpeg:https://icp-ras.ru/wp-content/uploads/dis-sovet/icon/sci-4.jpg
END:VEVENT
BEGIN:VEVENT
DTSTART;TZID=Europe/Moscow:20260423T103000
DTEND;TZID=Europe/Moscow:20260423T123000
DTSTAMP:20260423T010502
CREATED:20260422T150559Z
LAST-MODIFIED:20260422T150559Z
UID:18463-1776940200-1776947400@icp-ras.ru
SUMMARY:Заседание cекции № 5 Ученого Совета ФИЦ ПХФ и МХ РАН
DESCRIPTION:Повестка\n1. Рассмотрение материалов\, предназначенных для открытого опубликования. \nСтатьи \n\n Nelasov I.V.\, Manokhin S.S.\, Kolobov Yu.R.\,. Zhakhovsky V.V\, Grigoryev S.Yu.\, Perov E.A.\, Petrov Yu.V.\, Khokhlov V.A.\, Inogamov N.A.\, Khomich Y.V.\, Malinskiy T.V.\,. Rogalin V.E Thermoplastic modification of polycrystalline copper surface microstructure by nonmelting nanosecond laser pulses // Journal of Applied Physic\nБабакВ.Н.\, ДиденкоЛ.П.\, ФокинИ.Г.\, СеменцоваЛ.А.\,  ДорофееваТ.В.\, КвуртЮ.П.\, ЗакиевС.Е. Нахождение кинетических констант каталитических реакций с помощью экспериментальных данных.// Теоретические основы химической технологии.\n\nТезисы \n\nНеласов И.В.\, Манохин С.С.\, Колобов Ю.Р.\, Жаховский В.В.Формирование наномасштабного рельефа при термоциклировании\, инициированном слабыми лазерными импульсами: эксперимент и МД-моделирование //Тезисы на Международную научную конференцию «СОВРЕМЕННАЯ ХИМИЧЕСКАЯ ФИЗИКА – НА СТЫКЕ ФИЗИКИ\, ХИМИИ И БИОЛОГИИ»\, 15 июня – 18 июня 2026 года\, Черноголовка\nВязьмин А.В.\, Липницкий А.Г.\, Максименко В.Н. Диффузионные характеристики эквиатомного сплава VNbMoTaW// Тезисы на Международную научную конференцию «СОВРЕМЕННАЯ ХИМИЧЕСКАЯ ФИЗИКА – НА СТЫКЕ ФИЗИКИ\, ХИМИИ И БИОЛОГИИ»\, 15 июня – 18 июня 2026 года\, Черноголовка\nНеласов И.В.\, Максименко В.Н.\, Колобов Ю.Р. Моделирование диффузионно-индуцированной миграции границ зерен атомами гидрофильной по отношению к границе зерна примеси на примере системы TI-NI  // Тезисы на Международную научную конференцию «СОВРЕМЕННАЯ ХИМИЧЕСКАЯ ФИЗИКА – НА СТЫКЕ ФИЗИКИ\, ХИМИИ И БИОЛОГИИ»\, 15 июня – 18 июня 2026 года\, Черноголовка\nМаксименко В.Н.\, Манохин С.С.\, Токмачева-Колобова А.Ю.\, Седов И.В.\, Лигачев А.Е.\, Колобов Ю.Р. Механизм деградации мембран из сплава Pd–10%Ru в условиях сепарации водорода и углеводородных сред // Тезисы на Международную научную конференцию «СОВРЕМЕННАЯ ХИМИЧЕСКАЯ ФИЗИКА – НА СТЫКЕ ФИЗИКИ\, ХИМИИ И БИОЛОГИИ»\, 15 июня – 18 июня 2026 года\, Черноголовка\nМанохин С.С.\, Максименко В.Н.\, Токмачева-Колобова А.Ю.\, Лигачев А.Е.\, Седов И.В.\, Колобов Ю.Р. Структурно-фазовая деградация мембран из сплава Pd–40%Cu при сепарации водорода  // Тезисы на Международную научную конференцию «СОВРЕМЕННАЯ ХИМИЧЕСКАЯ ФИЗИКА – НА СТЫКЕ ФИЗИКИ\, ХИМИИ И БИОЛОГИИ»\, 15 июня – 18 июня 2026 года\, Черноголовка\nТокмачева-Колобова А.Ю.\, Манохин С.С. Особенности наноструктурирования приповерхностных слоев сплавов на основе титана и никелида титана в условиях импульсной лазерной обработки.//  Тезисы на Международную научную конференцию «СОВРЕМЕННАЯ ХИМИЧЕСКАЯ ФИЗИКА – НА СТЫКЕ ФИЗИКИ\, ХИМИИ И БИОЛОГИИ»\, 15 июня – 18 июня 2026 года\, Черноголовка\nБабак В.Н. \, Фокин И.Г. \, Диденко Л.П. \, Семенцова Л.А. \, Дорофеева Т.В. \, Квурт Ю.П.  Определение кинетических констант каталитических реакций\,  используя экспериментальные данные // Тезисы на Международную конференцию «Математичесие методы в технологиях и технике»\, г. Санкт-Петербург 8 -12 июня 2026
URL:https://icp-ras.ru/event/zasedanie-cekcii-5-uchenogo-soveta-fic-pxf-i-mx-ran-24/
LOCATION:в режиме онлайн-конференции
ATTACH;FMTTYPE=image/jpeg:https://icp-ras.ru/wp-content/uploads/dis-sovet/icon/sci-5.jpg
END:VEVENT
BEGIN:VEVENT
DTSTART;TZID=Europe/Moscow:20260423T110000
DTEND;TZID=Europe/Moscow:20260423T130000
DTSTAMP:20260423T010502
CREATED:20260422T151001Z
LAST-MODIFIED:20260422T151001Z
UID:18467-1776942000-1776949200@icp-ras.ru
SUMMARY:Заседание семинара "Высокоэнергетические системы"
DESCRIPTION:Повестка \nРассмотрение материалов для публикации в открытой печати. \n\nСтатьи: \n\nЗюзин И.Н.\, Крисюк Б.Э.\, Лемперт Д.Б.\, Сыпко Т.М. Изучение механизма термического разложения бис(метокси-NNO-азокси)метана кинетическими и квантово-химическими методами. Статья в журнал «Химическая физика».\nЛемперт Д.Б.\, Казаков А.И.\, Игнатьева Е.Л.\, Дашко Д.В.\, Шилов Г.В.\, Яновский Л.С.\, Алдошин С.М. Методы синтеза новых высокоэнтальпийных производных фуразаноазепинов\, их структура и ряд основных свойств. Статья в журнал «Боеприпасы и спецхимия».\n\nТезисы на Международную научную конференцию «Современная Химическая физика – на стыке физики\, химии и биологии»\, 15-18 июня 2026 г.\, Черноголовка: \n\nБороздин И.А.\, Баринова Л.С.\, Рахимова М.А.\, Даровских А.В.\, Михайлов Ю.М. Влияние степени замещения нитратов α-\, β- и γ-циклодекстринов на способность образования комплексов с соединениями различной природы.\nВорожейкин М.И.\, Лукьянова А.А.\, Баринова Л.С.\, Рахимова М.А.\, Даровских А.В.\, Михайлов Ю.М. Исследование процесса получения водорастворимых нитратов α-\, β- и γ-циклодекстринов.\nЛукьянова А.А.\, Баринова Л.С.\, Рахимова М.А.\, Даровских А.В.\, Михайлов Ю.М. Исследование возможности получения комплексов включения γ-циклодекстрина с боскалидом.\nДаровских А.В.\, Рахимова М.А.\, Ворожейкин М.И.\, Бороздин И.А.\, Баринова Л.С.\, Шевцова Е.Ф.\, Виноградова Д.В.\, Мальцев А.В.\, Смолина А.В.\, Полетаева Д.А.\, Климанова Е.Н.\, Файнгольд И.И.\, Бачурин С.О.\, Михайлов Ю.М. Нитраты циклодекстринов как носители физиологически активных соединений.\nВолкова Н.Н.\, Жолудев А.Ф.\, Кислов М.Б.\, Казаков А.И.\, Набатова А.В.\, Тарасов В.П.\, Ларикова Т.С.\, Возчикова С.А.\, Чуканов Н.В.\, Яновский Л.С.\, Белов П.П.\, Стороженко П.А. Особенности горения энергетических газогенерирующих композиций в присутствии карборанов.\n\nТезисы на XXXVIII Симпозиум «Современная химическая физика»\, 18-28 сентября 2026 г.\, Туапсе: \n\nЗюзин И.Н.\, Крисюк Б.Э.\, Сыпко Т.М.\, Чуканов Н.В. Механизм термолиза 1-[2\,2-бис(метокси-NNO-азокси)этил]нитропиразолов.\nЗюзин И.Н.\, Крисюк Б.Э.\, Лемперт Д.Б.\, Сыпко Т.М. Механизм термолиза бис(метокси-NNO-азокси)метана. Изучение кинетическими и квантово-химическими методами.
URL:https://icp-ras.ru/event/zasedanie-seminara-vysokoenergeticheskie-sistemy-20/
LOCATION:в корпусе 1/7 (к. 85\, 5 этаж)
ATTACH;FMTTYPE=image/jpeg:https://icp-ras.ru/wp-content/uploads/dis-sovet/icon/sci-1.jpg
END:VEVENT
END:VCALENDAR