BEGIN:VCALENDAR
VERSION:2.0
PRODID:-//ФЕДЕРАЛЬНЫЙ ИССЛЕДОВАТЕЛЬСКИЙ ЦЕНТР ПРОБЛЕМ ХИМИЧЕСКОЙ ФИЗИКИ И МЕДИЦИНСКОЙ ХИМИИ РАН - ECPv6.8.0//NONSGML v1.0//EN
CALSCALE:GREGORIAN
METHOD:PUBLISH
X-WR-CALNAME:ФЕДЕРАЛЬНЫЙ ИССЛЕДОВАТЕЛЬСКИЙ ЦЕНТР ПРОБЛЕМ ХИМИЧЕСКОЙ ФИЗИКИ И МЕДИЦИНСКОЙ ХИМИИ РАН
X-ORIGINAL-URL:https://icp-ras.ru
X-WR-CALDESC:Мероприятия для ФЕДЕРАЛЬНЫЙ ИССЛЕДОВАТЕЛЬСКИЙ ЦЕНТР ПРОБЛЕМ ХИМИЧЕСКОЙ ФИЗИКИ И МЕДИЦИНСКОЙ ХИМИИ РАН
REFRESH-INTERVAL;VALUE=DURATION:PT1H
X-Robots-Tag:noindex
X-PUBLISHED-TTL:PT1H
BEGIN:VTIMEZONE
TZID:Europe/Moscow
BEGIN:STANDARD
TZOFFSETFROM:+0300
TZOFFSETTO:+0300
TZNAME:MSK
DTSTART:20230101T000000
END:STANDARD
END:VTIMEZONE
BEGIN:VEVENT
DTSTART;TZID=Europe/Moscow:20231214T093000
DTEND;TZID=Europe/Moscow:20231214T130000
DTSTAMP:20260425T165507
CREATED:20240105T211622Z
LAST-MODIFIED:20240304T150148Z
UID:4750-1702546200-1702558800@icp-ras.ru
SUMMARY:Заседание секции № 5 Ученого совета ФИЦ ПХФ и МХ РАН
DESCRIPTION:14 декабря (четверг) 2023г. в 9.30 в актовом зале корпуса 2/2 состоится заседание секции № 5 Ученого совета ФИЦ ПХФ и МХ РАН. \nПовестка\nРассмотрение материалов\, предназначенных для открытого опубликования.\nПодробная информация \n 
URL:https://icp-ras.ru/event/zasedanie-sekcii-5-uchenogo-soveta-fic-pxf-i-mx-ran-2/
LOCATION:актовый зал корп. 2/2
ATTACH;FMTTYPE=image/jpeg:https://icp-ras.ru/wp-content/uploads/nauka-otdely/otdl-polimerov-kompozic-mtrlv/Polimers.jpg
END:VEVENT
BEGIN:VEVENT
DTSTART;TZID=Europe/Moscow:20231206T110000
DTEND;TZID=Europe/Moscow:20231206T130000
DTSTAMP:20260425T165507
CREATED:20240105T211827Z
LAST-MODIFIED:20240105T211827Z
UID:4754-1701860400-1701867600@icp-ras.ru
SUMMARY:Заседание секции № 3 Ученого совета ФИЦ ПХФ и МХ РАН
DESCRIPTION:6 декабря (среда) 2023 г.  в 11:00 состоится заседание секции № 3 Ученого совета ФИЦ ПХФ и МХ РАН в режиме онлайн-конференции. \nПовестка\nПереаттестация аспирантов ОКХиБП
URL:https://icp-ras.ru/event/zasedanie-sekcii-3-uchenogo-soveta-fic-pxf-i-mx-ran/
LOCATION:в режиме онлайн-конференции
END:VEVENT
BEGIN:VEVENT
DTSTART;TZID=Europe/Moscow:20231206T100000
DTEND;TZID=Europe/Moscow:20231206T113000
DTSTAMP:20260425T165507
CREATED:20240105T211948Z
LAST-MODIFIED:20240105T211948Z
UID:4757-1701856800-1701862200@icp-ras.ru
SUMMARY:Заседание секции № 4 Ученого совета ФИЦ ПХФ и МХ РАН
DESCRIPTION:6 декабря (среда) 2023 г.  в 10.00 состоится заседание секции № 4 Ученого совета ФИЦ ПХФ и МХ РАН в он-лайн режиме на платформе СберJazz.\nПовестка\nУтверждение отчетов по госзаданию за 2023 г
URL:https://icp-ras.ru/event/zasedanie-sekcii-4-uchenogo-soveta-fic-pxf-i-mx-ran/
LOCATION:он-лайн режиме на платформе СберJazz.
END:VEVENT
BEGIN:VEVENT
DTSTART;TZID=Europe/Moscow:20231204T110000
DTEND;TZID=Europe/Moscow:20231204T130000
DTSTAMP:20260425T165507
CREATED:20240105T212115Z
LAST-MODIFIED:20240304T150618Z
UID:4759-1701687600-1701694800@icp-ras.ru
SUMMARY:Заседание секции №9 Ученого совета ФИЦ ПХФ и МХ РАН
DESCRIPTION:4 декабря 2023г.\, в понедельник\, в 11:00  состоится заседание секции №9 Ученого совета ФИЦ ПХФ и МХ РАН в актовом зале корпуса 2/10.\nПовестка дня: \n1.Аттестация аспирантов\n2. Научные отчеты подразделений за 2023 г.\n3. Планы научных работ на 2024 г.\n4. Лучшие научные результаты по итогам работы ОНФ в 2023 г.\n5.Рассмотрение материалов\, предназначенных для открытого опубликования.
URL:https://icp-ras.ru/event/zasedanie-sekcii-9-uchenogo-soveta-fic-pxf-i-mx-ran/
LOCATION:актовом зале корпуса 2/10
ATTACH;FMTTYPE=image/jpeg:https://icp-ras.ru/wp-content/uploads/nauka-otdely/nanofotonika/ONF.jpg
END:VEVENT
BEGIN:VEVENT
DTSTART;TZID=Europe/Moscow:20231201T100000
DTEND;TZID=Europe/Moscow:20231201T123000
DTSTAMP:20260425T165507
CREATED:20240105T212239Z
LAST-MODIFIED:20240304T145753Z
UID:4762-1701424800-1701433800@icp-ras.ru
SUMMARY:Заседание секции №3 Ученого совета ФИЦ ПХФ и МХ РАН
DESCRIPTION:1 декабря 2023г.\, в пятницу\, в 10:00  состоится заседание секции №3 Ученого совета ФИЦ ПХФ и МХ РАН в режиме онлайн-конференции. \nПовестка дня:\n1. Научные отчеты подразделений за 2023 г. \n2. Планы научных работ на 2024 г. \n3. Лучшие научные результаты по итогам работы ОКХиБП в 2023 г.
URL:https://icp-ras.ru/event/zasedanie-sekcii-3-uchenogo-soveta-fic-pxf-i-mx-ran-2/
LOCATION:в режиме онлайн-конференции
ATTACH;FMTTYPE=image/jpeg:https://icp-ras.ru/wp-content/uploads/LOGO/Kin-Bio.jpg
END:VEVENT
END:VCALENDAR