BEGIN:VCALENDAR
VERSION:2.0
PRODID:-//ФЕДЕРАЛЬНЫЙ ИССЛЕДОВАТЕЛЬСКИЙ ЦЕНТР ПРОБЛЕМ ХИМИЧЕСКОЙ ФИЗИКИ И МЕДИЦИНСКОЙ ХИМИИ РАН - ECPv6.8.0//NONSGML v1.0//EN
CALSCALE:GREGORIAN
METHOD:PUBLISH
X-WR-CALNAME:ФЕДЕРАЛЬНЫЙ ИССЛЕДОВАТЕЛЬСКИЙ ЦЕНТР ПРОБЛЕМ ХИМИЧЕСКОЙ ФИЗИКИ И МЕДИЦИНСКОЙ ХИМИИ РАН
X-ORIGINAL-URL:https://icp-ras.ru
X-WR-CALDESC:Мероприятия для ФЕДЕРАЛЬНЫЙ ИССЛЕДОВАТЕЛЬСКИЙ ЦЕНТР ПРОБЛЕМ ХИМИЧЕСКОЙ ФИЗИКИ И МЕДИЦИНСКОЙ ХИМИИ РАН
REFRESH-INTERVAL;VALUE=DURATION:PT1H
X-Robots-Tag:noindex
X-PUBLISHED-TTL:PT1H
BEGIN:VTIMEZONE
TZID:Europe/Moscow
BEGIN:STANDARD
TZOFFSETFROM:+0300
TZOFFSETTO:+0300
TZNAME:MSK
DTSTART:20230101T000000
END:STANDARD
END:VTIMEZONE
BEGIN:VEVENT
DTSTART;TZID=Europe/Moscow:20231222T150000
DTEND;TZID=Europe/Moscow:20231222T170000
DTSTAMP:20260423T120334
CREATED:20240105T210655Z
LAST-MODIFIED:20240105T211024Z
UID:4737-1703257200-1703264400@icp-ras.ru
SUMMARY:Итоговое заседание Ученого совета ФИЦ ПХФ и МХ РАН
DESCRIPTION:22 декабря в 15:00 в актовом зале КОНа состоится итоговое заседание Ученого совета ФИЦ ПХФ и МХ РАН.\nПовестка дня:\n1. Доклад научного руководителя ФИЦ ПХФ и МХ РАН академика С.М. Алдошина «Важнейшие фундаментальные и прикладные результаты ФИЦ ПХФ и МХ РАН\, полученные в 2023 году».\n2. Доклад и.о. директора ФИЦ ПХФ и МХ РАН чл.-корр. РАН И.В. Ломоносова «ФИЦ ПХФ и МХ РАН в 2023 году».\n3. Разное.\nПриглашаются все желающие!
URL:https://icp-ras.ru/event/itogovoe-zasedanie-uchenogo-soveta-fic-pxf-i-mx-ran-22-dekabrya/
LOCATION:актовый зал КОН
END:VEVENT
END:VCALENDAR