BEGIN:VCALENDAR
VERSION:2.0
PRODID:-//ФЕДЕРАЛЬНЫЙ ИССЛЕДОВАТЕЛЬСКИЙ ЦЕНТР ПРОБЛЕМ ХИМИЧЕСКОЙ ФИЗИКИ И МЕДИЦИНСКОЙ ХИМИИ РАН - ECPv6.8.0//NONSGML v1.0//EN
CALSCALE:GREGORIAN
METHOD:PUBLISH
X-WR-CALNAME:ФЕДЕРАЛЬНЫЙ ИССЛЕДОВАТЕЛЬСКИЙ ЦЕНТР ПРОБЛЕМ ХИМИЧЕСКОЙ ФИЗИКИ И МЕДИЦИНСКОЙ ХИМИИ РАН
X-ORIGINAL-URL:https://icp-ras.ru
X-WR-CALDESC:Мероприятия для ФЕДЕРАЛЬНЫЙ ИССЛЕДОВАТЕЛЬСКИЙ ЦЕНТР ПРОБЛЕМ ХИМИЧЕСКОЙ ФИЗИКИ И МЕДИЦИНСКОЙ ХИМИИ РАН
REFRESH-INTERVAL;VALUE=DURATION:PT1H
X-Robots-Tag:noindex
X-PUBLISHED-TTL:PT1H
BEGIN:VTIMEZONE
TZID:Europe/Moscow
BEGIN:STANDARD
TZOFFSETFROM:+0300
TZOFFSETTO:+0300
TZNAME:MSK
DTSTART:20230101T000000
END:STANDARD
END:VTIMEZONE
BEGIN:VEVENT
DTSTART;TZID=Europe/Moscow:20231204T110000
DTEND;TZID=Europe/Moscow:20231204T130000
DTSTAMP:20260423T013253
CREATED:20240105T212115Z
LAST-MODIFIED:20240304T150618Z
UID:4759-1701687600-1701694800@icp-ras.ru
SUMMARY:Заседание секции №9 Ученого совета ФИЦ ПХФ и МХ РАН
DESCRIPTION:4 декабря 2023г.\, в понедельник\, в 11:00  состоится заседание секции №9 Ученого совета ФИЦ ПХФ и МХ РАН в актовом зале корпуса 2/10.\nПовестка дня: \n1.Аттестация аспирантов\n2. Научные отчеты подразделений за 2023 г.\n3. Планы научных работ на 2024 г.\n4. Лучшие научные результаты по итогам работы ОНФ в 2023 г.\n5.Рассмотрение материалов\, предназначенных для открытого опубликования.
URL:https://icp-ras.ru/event/zasedanie-sekcii-9-uchenogo-soveta-fic-pxf-i-mx-ran/
LOCATION:актовом зале корпуса 2/10
ATTACH;FMTTYPE=image/jpeg:https://icp-ras.ru/wp-content/uploads/nauka-otdely/nanofotonika/ONF.jpg
END:VEVENT
END:VCALENDAR